BEGIN:VCALENDAR
VERSION:2.0
PRODID:-//Alcoholics Anonymous NH - ECPv6.15.18//NONSGML v1.0//EN
CALSCALE:GREGORIAN
METHOD:PUBLISH
X-WR-CALNAME:Alcoholics Anonymous NH
X-ORIGINAL-URL:https://nhaa.net
X-WR-CALDESC:Events for Alcoholics Anonymous NH
REFRESH-INTERVAL;VALUE=DURATION:PT1H
X-Robots-Tag:noindex
X-PUBLISHED-TTL:PT1H
BEGIN:VTIMEZONE
TZID:America/New_York
BEGIN:DAYLIGHT
TZOFFSETFROM:-0500
TZOFFSETTO:-0400
TZNAME:EDT
DTSTART:20240310T070000
END:DAYLIGHT
BEGIN:STANDARD
TZOFFSETFROM:-0400
TZOFFSETTO:-0500
TZNAME:EST
DTSTART:20241103T060000
END:STANDARD
BEGIN:DAYLIGHT
TZOFFSETFROM:-0500
TZOFFSETTO:-0400
TZNAME:EDT
DTSTART:20250309T070000
END:DAYLIGHT
BEGIN:STANDARD
TZOFFSETFROM:-0400
TZOFFSETTO:-0500
TZNAME:EST
DTSTART:20251102T060000
END:STANDARD
BEGIN:DAYLIGHT
TZOFFSETFROM:-0500
TZOFFSETTO:-0400
TZNAME:EDT
DTSTART:20260308T070000
END:DAYLIGHT
BEGIN:STANDARD
TZOFFSETFROM:-0400
TZOFFSETTO:-0500
TZNAME:EST
DTSTART:20261101T060000
END:STANDARD
BEGIN:DAYLIGHT
TZOFFSETFROM:-0500
TZOFFSETTO:-0400
TZNAME:EDT
DTSTART:20270314T070000
END:DAYLIGHT
BEGIN:STANDARD
TZOFFSETFROM:-0400
TZOFFSETTO:-0500
TZNAME:EST
DTSTART:20271107T060000
END:STANDARD
END:VTIMEZONE
BEGIN:VEVENT
DTSTART;TZID=America/New_York:20251231T203000
DTEND;TZID=America/New_York:20260101T003000
DTSTAMP:20260421T195446
CREATED:20251222T194048Z
LAST-MODIFIED:20251222T194048Z
UID:10002479-1767213000-1767227400@nhaa.net
SUMMARY:NECYPAA NYE Party
DESCRIPTION:Formal dance party
URL:https://nhaa.net/event/necypaa-nye-party/
LOCATION:10 Church Street\, Bradford MA\, 10 Church Street\, Bradford\, 01835
ORGANIZER;CN="NECYPAA 35":MAILTO:Youngpeoples@nhaa.net
END:VEVENT
BEGIN:VEVENT
DTSTART;TZID=America/New_York:20251025T203000
DTEND;TZID=America/New_York:20251026T000000
DTSTAMP:20260421T195446
CREATED:20251005T235846Z
LAST-MODIFIED:20251005T235901Z
UID:10001958-1761424200-1761436800@nhaa.net
SUMMARY:SPOOKYPAA III
DESCRIPTION:Meeting\, music\, food\, fellowship\, costume contest\, awesomeness
URL:https://nhaa.net/event/spookypaa-iii/
LOCATION:171 zion hill road salem NH\, 171 Zion hill road\, Salem
ATTACH;FMTTYPE=image/jpeg:https://nhaa.net/wp-content/uploads/ac281632-0ce7-41af-841a-6116b93b36ee.jpeg
ORGANIZER;CN="NECYPAA 35":MAILTO:Youngpeoples@nhaa.net
END:VEVENT
END:VCALENDAR