BEGIN:VCALENDAR
VERSION:2.0
PRODID:-//Alcoholics Anonymous NH - ECPv6.15.18//NONSGML v1.0//EN
CALSCALE:GREGORIAN
METHOD:PUBLISH
X-WR-CALNAME:Alcoholics Anonymous NH
X-ORIGINAL-URL:https://nhaa.net
X-WR-CALDESC:Events for Alcoholics Anonymous NH
REFRESH-INTERVAL;VALUE=DURATION:PT1H
X-Robots-Tag:noindex
X-PUBLISHED-TTL:PT1H
BEGIN:VTIMEZONE
TZID:America/New_York
BEGIN:DAYLIGHT
TZOFFSETFROM:-0500
TZOFFSETTO:-0400
TZNAME:EDT
DTSTART:20260308T070000
END:DAYLIGHT
BEGIN:STANDARD
TZOFFSETFROM:-0400
TZOFFSETTO:-0500
TZNAME:EST
DTSTART:20261101T060000
END:STANDARD
BEGIN:DAYLIGHT
TZOFFSETFROM:-0500
TZOFFSETTO:-0400
TZNAME:EDT
DTSTART:20270314T070000
END:DAYLIGHT
BEGIN:STANDARD
TZOFFSETFROM:-0400
TZOFFSETTO:-0500
TZNAME:EST
DTSTART:20271107T060000
END:STANDARD
BEGIN:DAYLIGHT
TZOFFSETFROM:-0500
TZOFFSETTO:-0400
TZNAME:EDT
DTSTART:20280312T070000
END:DAYLIGHT
BEGIN:STANDARD
TZOFFSETFROM:-0400
TZOFFSETTO:-0500
TZNAME:EST
DTSTART:20281105T060000
END:STANDARD
END:VTIMEZONE
BEGIN:VEVENT
DTSTART;TZID=America/New_York:20270104T180000
DTEND;TZID=America/New_York:20270104T190000
DTSTAMP:20260424T102111
CREATED:20250609T221440Z
LAST-MODIFIED:20250609T221440Z
UID:10001808-1799085600-1799089200@nhaa.net
SUMMARY:District 18 Committee Meeting
DESCRIPTION:6pm \nChurch of the Good Shepard \n11 Park Street\nNewport NH 03773
URL:https://nhaa.net/event/district-18-committee-meeting/2027-01-04/
END:VEVENT
BEGIN:VEVENT
DTSTART;TZID=America/New_York:20270104T190000
DTEND;TZID=America/New_York:20270104T200000
DTSTAMP:20260424T102111
CREATED:20250513T222633Z
LAST-MODIFIED:20250513T222633Z
UID:10001723-1799089200-1799092800@nhaa.net
SUMMARY:District 9 Committee Meeting
DESCRIPTION:District 9 Committee Meeting \n  \n7pm \nMarion Gerrish Community Center \n39 W Broadway\, Derry\, NH \n  \nCome join district 9 for our monthly business meeting!
URL:https://nhaa.net/event/district-9-committee-meeting/2027-01-04/
LOCATION:Marion Gerrish\, 39 West Broadway\, Derry\, NH\, 03038\, United States
GEO:42.8795405;-71.3297865
X-APPLE-STRUCTURED-LOCATION;VALUE=URI;X-ADDRESS=Marion Gerrish 39 West Broadway Derry NH 03038 United States;X-APPLE-RADIUS=500;X-TITLE=39 West Broadway:geo:-71.3297865,42.8795405
END:VEVENT
BEGIN:VEVENT
DTSTART;TZID=America/New_York:20270106T180000
DTEND;TZID=America/New_York:20270106T190000
DTSTAMP:20260424T102111
CREATED:20240518T164703Z
LAST-MODIFIED:20251123T190924Z
UID:10002050-1799258400-1799262000@nhaa.net
SUMMARY:Area Functions Committee
DESCRIPTION:Meets on the First Wednesday of the Month on Zoom \nJoin Meeting Here: https://us02web.zoom.us/j/88155905842?pwd=TDdrR1NTVXFOc0pSVHllSWNNait6dz09 \nID: 881 5590 5842\nPW: functions
URL:https://nhaa.net/event/area-functions-committee/2027-01-06/
END:VEVENT
BEGIN:VEVENT
DTSTART;TZID=America/New_York:20270106T180000
DTEND;TZID=America/New_York:20270106T190000
DTSTAMP:20260424T102111
CREATED:20260102T023406Z
LAST-MODIFIED:20260102T023406Z
UID:10002580-1799258400-1799262000@nhaa.net
SUMMARY:District 19 Meeting
DESCRIPTION:This is a district meeting for District 19.
URL:https://nhaa.net/event/district-19-meeting/2027-01-06/
LOCATION:36 Carpenter Street\, KeeneNH\, YANA Center\, 36 Carpenter Street\, Keene NH\, NH\, 03431\, United States
ORGANIZER;CN="Randall H":MAILTO:randall@randallhoyt.com
END:VEVENT
BEGIN:VEVENT
DTSTART;TZID=America/New_York:20270107T190000
DTEND;TZID=America/New_York:20270107T200000
DTSTAMP:20260424T102111
CREATED:20251126T171123Z
LAST-MODIFIED:20260209T154438Z
UID:10002098-1799348400-1799352000@nhaa.net
SUMMARY:District 7 GSR Meeting
DESCRIPTION:District 7 GSR Meeting\nHYBRID every first Thursday of every month\nFor all the Officers\, Committee & GSRs\n7:00pm – 8:00pm\nBond Wellness Center\, the first room at the right \nAnd online \nID: 816 710 724 \nPW: district7 \nLocation is 452 Old Street Rd\, Peterborough  03458 \n 
URL:https://nhaa.net/event/district-7-gsr-meeting/2027-01-07/
LOCATION:452 Old Street Rd\, Peterborough\, NH 03458\, 452 Old Street Rd\, Peterborough\, NH\, 03458\, United States
CATEGORIES:District 07
END:VEVENT
BEGIN:VEVENT
DTSTART;TZID=America/New_York:20270107T190000
DTEND;TZID=America/New_York:20270107T200000
DTSTAMP:20260424T102111
CREATED:20260104T170906Z
LAST-MODIFIED:20260104T170906Z
UID:10002646-1799348400-1799352000@nhaa.net
SUMMARY:District 15 Monthly Business Meeting
DESCRIPTION:First Thursday of Every Month | 7:00 PM \nFirst United Church of Rochester\n42 South Main St.\nRochester NH \nZoom option available\nZoom Hyperlink  \nMeeting ID: 851 3244 2942\nPasscode: district15
URL:https://nhaa.net/event/district-15-monthly-business-meeting/2027-01-07/
CATEGORIES:District 15
END:VEVENT
BEGIN:VEVENT
DTSTART;TZID=America/New_York:20270110T140000
DTEND;TZID=America/New_York:20270110T150000
DTSTAMP:20260424T102111
CREATED:20260123T221223Z
LAST-MODIFIED:20260123T221344Z
UID:10002782-1799589600-1799593200@nhaa.net
SUMMARY:Monthly Area YP Committee Meeting
DESCRIPTION:Every month on the Second Sunday\n2:00 PM – 3:00 PM\, Eastern \nJoin Zoom Meeting \nMeeting ID: 874 2928 6570\nPasscode: YPAA
URL:https://nhaa.net/event/monthly-area-yp-committee-meeting/2027-01-10/
CATEGORIES:YP Committee
END:VEVENT
BEGIN:VEVENT
DTSTART;TZID=America/New_York:20270111T190000
DTEND;TZID=America/New_York:20270111T200000
DTSTAMP:20260424T102111
CREATED:20251123T184221Z
LAST-MODIFIED:20251123T184531Z
UID:10002026-1799694000-1799697600@nhaa.net
SUMMARY:Monthly Area Corrections Committee Meeting
DESCRIPTION:Second Monday of every month at 7 pm \n\nMeeting Link:\nhttps://us02web.zoom.us/j/83966234270?pwd=Zr5R4TyeZw9mSitLvGaB5qjtrPmDSi.1\n\nZoom ID: 839 6623 4270\nPassword: 394627
URL:https://nhaa.net/event/monthly-area-corrections-committee-meeting/2027-01-11/
END:VEVENT
BEGIN:VEVENT
DTSTART;TZID=America/New_York:20270111T190000
DTEND;TZID=America/New_York:20270111T200000
DTSTAMP:20260424T102111
CREATED:20260216T152754Z
LAST-MODIFIED:20260216T152754Z
UID:10002880-1799694000-1799697600@nhaa.net
SUMMARY:District 14 Business Meeting (District Meeting)
DESCRIPTION:Monthly meeting for District 14. The meeting is open to all AA members. However\, only GSRs (or Alt-GSR attending in place of the GSR) and district committee chairs can vote on district business. This is a hybrid meeting.
URL:https://nhaa.net/event/district-14-business-meeting-district-meeting/2027-01-11/
LOCATION:First Congregational Church of Hampton\, 127 Winnacunnet Rd \, Hampton\, NH\, 127 Winnacunnet Rd\, Hampton\, 03842
CATEGORIES:District 14
END:VEVENT
BEGIN:VEVENT
DTSTART;TZID=America/New_York:20270112T183000
DTEND;TZID=America/New_York:20270112T193000
DTSTAMP:20260424T102111
CREATED:20250429T175037Z
LAST-MODIFIED:20250429T175037Z
UID:10001643-1799778600-1799782200@nhaa.net
SUMMARY:District 8 GSR Meeting
DESCRIPTION:Monthly meeting of General Service Representatives for District 8
URL:https://nhaa.net/event/district-8-gsr-meeting/2027-01-12/
END:VEVENT
BEGIN:VEVENT
DTSTART;TZID=America/New_York:20270112T183000
DTEND;TZID=America/New_York:20270112T193000
DTSTAMP:20260424T102111
CREATED:20260327T014649Z
LAST-MODIFIED:20260327T014649Z
UID:10004845-1799778600-1799782200@nhaa.net
SUMMARY:District 20 Business Meeting
DESCRIPTION:Time: 6:30 PM-7:30 PM | North Conway Community Center\, \n78 Norcross Cir\, North Conway\, NH 03860 \nZoom ID 897-7172-0550\nPassword: District20
URL:https://nhaa.net/event/district-20-business-meeting/2027-01-12/
LOCATION:North Conway Community Center\, Norcross Circle\, North Conway\, NH\, 03860\, United States
CATEGORIES:District 20
END:VEVENT
BEGIN:VEVENT
DTSTART;TZID=America/New_York:20270113T183000
DTEND;TZID=America/New_York:20270113T193000
DTSTAMP:20260424T102111
CREATED:20250814T191738Z
LAST-MODIFIED:20251214T183921Z
UID:10002448-1799865000-1799868600@nhaa.net
SUMMARY:Area Treatment Committee
DESCRIPTION:For all Treatment Chairs and Committee Members \nJoin Zoom Meeting\nhttps://us02web.zoom.us/j/89180634104?pwd=TC9NM2xjOHlYZjRyWG5CbGo4ZVhYQT09 \nZoom ID: 891 8063 4104\nPasscode: 681306 \n 
URL:https://nhaa.net/event/area-treatment-committee-2/2027-01-13/
END:VEVENT
BEGIN:VEVENT
DTSTART;TZID=America/New_York:20270117T180000
DTEND;TZID=America/New_York:20270117T200000
DTSTAMP:20260424T102111
CREATED:20251214T183430Z
LAST-MODIFIED:20251214T183430Z
UID:10002220-1800208800-1800216000@nhaa.net
SUMMARY:District 12 Committee Meeting (HYBRID)
DESCRIPTION:District 12 Committee Meeting \n6:00 pm – 8:00 pm \nSt. Raphael Church\nFerry Street Entrance \n103 Walker Street\,\nManchester\, NH 03102 \nand via ZOOM\nhttps://zoom.us/j/306311205?pwd=VnlyZG9sS3J6V2w0SzFaVGN6eWd6UT09 \nMeeting ID: 306 311 205 \nPassword is usual meeting password\nIf you need password\, email district12webmaster@gmail.com
URL:https://nhaa.net/event/district-12-committee-meeting-hybrid/2027-01-17/
LOCATION:St. Raphael’s Church\, 103 Walker St. Entrance on Third St\, Manchester\, 03103
GEO:43.088514;-70.7411859
X-APPLE-STRUCTURED-LOCATION;VALUE=URI;X-ADDRESS=St. Raphael’s Church 103 Walker St. Entrance on Third St Manchester 03103;X-APPLE-RADIUS=500;X-TITLE=103 Walker St. Entrance on Third St:geo:-70.7411859,43.088514
END:VEVENT
BEGIN:VEVENT
DTSTART;TZID=America/New_York:20270118T190000
DTEND;TZID=America/New_York:20270118T200000
DTSTAMP:20260424T102111
CREATED:20230309T170803Z
LAST-MODIFIED:20251123T193004Z
UID:10002074-1800298800-1800302400@nhaa.net
SUMMARY:Area 43 PI/CPC Committee Meeting
DESCRIPTION:Monthly PI/CPC Committee meeting on Zoom \nJoin the Zoom Meeting \nMeeting ID: 898 3596 0719\nPassword: picpc
URL:https://nhaa.net/event/area-pi-cpc-meeting/2027-01-18/
LOCATION:Zoom Meeting Area 43 Host
END:VEVENT
BEGIN:VEVENT
DTSTART;TZID=America/New_York:20270119T183000
DTEND;TZID=America/New_York:20270119T200000
DTSTAMP:20260424T102111
CREATED:20251227T191948Z
LAST-MODIFIED:20260208T205139Z
UID:10002552-1800383400-1800388800@nhaa.net
SUMMARY:Area 43 Monthly Service Office Committee and Finance Committee Meeting
DESCRIPTION:Monthly Hybrid format meeting of the Service Office Committee at 6:30pm\, followed by the Finance Committee at 7pm. \nHeld in person at the Area 43 Service Office at 2 1/2 Beacon St Suite 163\, Concord\, NH 03301 \nJoin Zoom \nZoom ID: 856 8781 8011\nPW Area43
URL:https://nhaa.net/event/area-43-monthly-service-office-committee-and-finance-committee-meeting/2027-01-19/
LOCATION:Hybrid
CATEGORIES:Area Service Office Committee (SOC)
END:VEVENT
BEGIN:VEVENT
DTSTART;TZID=America/New_York:20270120T190000
DTEND;TZID=America/New_York:20270120T200000
DTSTAMP:20260424T102111
CREATED:20251214T183515Z
LAST-MODIFIED:20251214T183515Z
UID:10002389-1800471600-1800475200@nhaa.net
SUMMARY:District 13 Monthly GSR Meeting
DESCRIPTION:Monthly GSR Meeting
URL:https://nhaa.net/event/district-13-monthly-gsr-meeting/2027-01-20/
LOCATION:Nashua Public Library\, 2 Court Street\, Nashua\, 03060
CATEGORIES:District 13
END:VEVENT
BEGIN:VEVENT
DTSTART;TZID=America/New_York:20270126T190000
DTEND;TZID=America/New_York:20270126T200000
DTSTAMP:20260424T102111
CREATED:20260120T012329Z
LAST-MODIFIED:20260120T012329Z
UID:10002733-1800990000-1800993600@nhaa.net
SUMMARY:Area 43 Technology Monthly Committee Meeting
DESCRIPTION:The Area Technology Committee meets on the last Tuesday of every month at 7:00 pm \nJoin Zoom Meeting \nMeeting ID: 897 5859 4203\nPasscode: Tech
URL:https://nhaa.net/event/area-43-technology-monthly-committee-meeting/2027-01-26/
END:VEVENT
BEGIN:VEVENT
DTSTART;TZID=America/New_York:20270126T190000
DTEND;TZID=America/New_York:20270126T203000
DTSTAMP:20260424T102111
CREATED:20260306T000509Z
LAST-MODIFIED:20260306T000509Z
UID:10002957-1800990000-1800995400@nhaa.net
SUMMARY:District 11 meeting
DESCRIPTION:District 11 monthly district meeting \nOur district meeting is hybrid\, at Sobriety Centers of New Hampshire\, 350 Court St Laconia\, and on Zoom ID 6307480407 Password: district11.  It is on the last Tuesday of each month.
URL:https://nhaa.net/event/district-11-meeting/2027-01-26/
CATEGORIES:District 11
END:VEVENT
BEGIN:VEVENT
DTSTART;TZID=America/New_York:20270201T180000
DTEND;TZID=America/New_York:20270201T190000
DTSTAMP:20260424T102111
CREATED:20250609T221440Z
LAST-MODIFIED:20250609T221440Z
UID:10001809-1801504800-1801508400@nhaa.net
SUMMARY:District 18 Committee Meeting
DESCRIPTION:6pm \nChurch of the Good Shepard \n11 Park Street\nNewport NH 03773
URL:https://nhaa.net/event/district-18-committee-meeting/2027-02-01/
END:VEVENT
BEGIN:VEVENT
DTSTART;TZID=America/New_York:20270201T190000
DTEND;TZID=America/New_York:20270201T200000
DTSTAMP:20260424T102111
CREATED:20250513T222633Z
LAST-MODIFIED:20250513T222633Z
UID:10001724-1801508400-1801512000@nhaa.net
SUMMARY:District 9 Committee Meeting
DESCRIPTION:District 9 Committee Meeting \n  \n7pm \nMarion Gerrish Community Center \n39 W Broadway\, Derry\, NH \n  \nCome join district 9 for our monthly business meeting!
URL:https://nhaa.net/event/district-9-committee-meeting/2027-02-01/
LOCATION:Marion Gerrish\, 39 West Broadway\, Derry\, NH\, 03038\, United States
GEO:42.8795405;-71.3297865
X-APPLE-STRUCTURED-LOCATION;VALUE=URI;X-ADDRESS=Marion Gerrish 39 West Broadway Derry NH 03038 United States;X-APPLE-RADIUS=500;X-TITLE=39 West Broadway:geo:-71.3297865,42.8795405
END:VEVENT
BEGIN:VEVENT
DTSTART;TZID=America/New_York:20270203T180000
DTEND;TZID=America/New_York:20270203T190000
DTSTAMP:20260424T102111
CREATED:20240518T164703Z
LAST-MODIFIED:20251123T190924Z
UID:10002051-1801677600-1801681200@nhaa.net
SUMMARY:Area Functions Committee
DESCRIPTION:Meets on the First Wednesday of the Month on Zoom \nJoin Meeting Here: https://us02web.zoom.us/j/88155905842?pwd=TDdrR1NTVXFOc0pSVHllSWNNait6dz09 \nID: 881 5590 5842\nPW: functions
URL:https://nhaa.net/event/area-functions-committee/2027-02-03/
END:VEVENT
BEGIN:VEVENT
DTSTART;TZID=America/New_York:20270203T180000
DTEND;TZID=America/New_York:20270203T190000
DTSTAMP:20260424T102111
CREATED:20260102T023406Z
LAST-MODIFIED:20260102T023406Z
UID:10002581-1801677600-1801681200@nhaa.net
SUMMARY:District 19 Meeting
DESCRIPTION:This is a district meeting for District 19.
URL:https://nhaa.net/event/district-19-meeting/2027-02-03/
LOCATION:36 Carpenter Street\, KeeneNH\, YANA Center\, 36 Carpenter Street\, Keene NH\, NH\, 03431\, United States
ORGANIZER;CN="Randall H":MAILTO:randall@randallhoyt.com
END:VEVENT
BEGIN:VEVENT
DTSTART;TZID=America/New_York:20270204T190000
DTEND;TZID=America/New_York:20270204T200000
DTSTAMP:20260424T102111
CREATED:20251126T171123Z
LAST-MODIFIED:20260209T154438Z
UID:10002099-1801767600-1801771200@nhaa.net
SUMMARY:District 7 GSR Meeting
DESCRIPTION:District 7 GSR Meeting\nHYBRID every first Thursday of every month\nFor all the Officers\, Committee & GSRs\n7:00pm – 8:00pm\nBond Wellness Center\, the first room at the right \nAnd online \nID: 816 710 724 \nPW: district7 \nLocation is 452 Old Street Rd\, Peterborough  03458 \n 
URL:https://nhaa.net/event/district-7-gsr-meeting/2027-02-04/
LOCATION:452 Old Street Rd\, Peterborough\, NH 03458\, 452 Old Street Rd\, Peterborough\, NH\, 03458\, United States
CATEGORIES:District 07
END:VEVENT
BEGIN:VEVENT
DTSTART;TZID=America/New_York:20270204T190000
DTEND;TZID=America/New_York:20270204T200000
DTSTAMP:20260424T102111
CREATED:20260104T170906Z
LAST-MODIFIED:20260104T170906Z
UID:10002647-1801767600-1801771200@nhaa.net
SUMMARY:District 15 Monthly Business Meeting
DESCRIPTION:First Thursday of Every Month | 7:00 PM \nFirst United Church of Rochester\n42 South Main St.\nRochester NH \nZoom option available\nZoom Hyperlink  \nMeeting ID: 851 3244 2942\nPasscode: district15
URL:https://nhaa.net/event/district-15-monthly-business-meeting/2027-02-04/
CATEGORIES:District 15
END:VEVENT
BEGIN:VEVENT
DTSTART;TZID=America/New_York:20270208T190000
DTEND;TZID=America/New_York:20270208T200000
DTSTAMP:20260424T102111
CREATED:20251123T184221Z
LAST-MODIFIED:20251123T184531Z
UID:10002027-1802113200-1802116800@nhaa.net
SUMMARY:Monthly Area Corrections Committee Meeting
DESCRIPTION:Second Monday of every month at 7 pm \n\nMeeting Link:\nhttps://us02web.zoom.us/j/83966234270?pwd=Zr5R4TyeZw9mSitLvGaB5qjtrPmDSi.1\n\nZoom ID: 839 6623 4270\nPassword: 394627
URL:https://nhaa.net/event/monthly-area-corrections-committee-meeting/2027-02-08/
END:VEVENT
BEGIN:VEVENT
DTSTART;TZID=America/New_York:20270208T190000
DTEND;TZID=America/New_York:20270208T200000
DTSTAMP:20260424T102111
CREATED:20260216T152754Z
LAST-MODIFIED:20260216T152754Z
UID:10002881-1802113200-1802116800@nhaa.net
SUMMARY:District 14 Business Meeting (District Meeting)
DESCRIPTION:Monthly meeting for District 14. The meeting is open to all AA members. However\, only GSRs (or Alt-GSR attending in place of the GSR) and district committee chairs can vote on district business. This is a hybrid meeting.
URL:https://nhaa.net/event/district-14-business-meeting-district-meeting/2027-02-08/
LOCATION:First Congregational Church of Hampton\, 127 Winnacunnet Rd \, Hampton\, NH\, 127 Winnacunnet Rd\, Hampton\, 03842
CATEGORIES:District 14
END:VEVENT
BEGIN:VEVENT
DTSTART;TZID=America/New_York:20270209T183000
DTEND;TZID=America/New_York:20270209T193000
DTSTAMP:20260424T102111
CREATED:20250429T175037Z
LAST-MODIFIED:20250429T175037Z
UID:10001644-1802197800-1802201400@nhaa.net
SUMMARY:District 8 GSR Meeting
DESCRIPTION:Monthly meeting of General Service Representatives for District 8
URL:https://nhaa.net/event/district-8-gsr-meeting/2027-02-09/
END:VEVENT
BEGIN:VEVENT
DTSTART;TZID=America/New_York:20270210T183000
DTEND;TZID=America/New_York:20270210T193000
DTSTAMP:20260424T102111
CREATED:20250814T191738Z
LAST-MODIFIED:20251214T183921Z
UID:10002449-1802284200-1802287800@nhaa.net
SUMMARY:Area Treatment Committee
DESCRIPTION:For all Treatment Chairs and Committee Members \nJoin Zoom Meeting\nhttps://us02web.zoom.us/j/89180634104?pwd=TC9NM2xjOHlYZjRyWG5CbGo4ZVhYQT09 \nZoom ID: 891 8063 4104\nPasscode: 681306 \n 
URL:https://nhaa.net/event/area-treatment-committee-2/2027-02-10/
END:VEVENT
BEGIN:VEVENT
DTSTART;TZID=America/New_York:20270214T140000
DTEND;TZID=America/New_York:20270214T150000
DTSTAMP:20260424T102111
CREATED:20260123T221223Z
LAST-MODIFIED:20260123T221344Z
UID:10002783-1802613600-1802617200@nhaa.net
SUMMARY:Monthly Area YP Committee Meeting
DESCRIPTION:Every month on the Second Sunday\n2:00 PM – 3:00 PM\, Eastern \nJoin Zoom Meeting \nMeeting ID: 874 2928 6570\nPasscode: YPAA
URL:https://nhaa.net/event/monthly-area-yp-committee-meeting/2027-02-14/
CATEGORIES:YP Committee
END:VEVENT
BEGIN:VEVENT
DTSTART;TZID=America/New_York:20270215T190000
DTEND;TZID=America/New_York:20270215T200000
DTSTAMP:20260424T102111
CREATED:20230309T170803Z
LAST-MODIFIED:20251123T193004Z
UID:10002075-1802718000-1802721600@nhaa.net
SUMMARY:Area 43 PI/CPC Committee Meeting
DESCRIPTION:Monthly PI/CPC Committee meeting on Zoom \nJoin the Zoom Meeting \nMeeting ID: 898 3596 0719\nPassword: picpc
URL:https://nhaa.net/event/area-pi-cpc-meeting/2027-02-15/
LOCATION:Zoom Meeting Area 43 Host
END:VEVENT
END:VCALENDAR