BEGIN:VCALENDAR
VERSION:2.0
PRODID:-//Alcoholics Anonymous NH - ECPv6.15.18//NONSGML v1.0//EN
CALSCALE:GREGORIAN
METHOD:PUBLISH
X-WR-CALNAME:Alcoholics Anonymous NH
X-ORIGINAL-URL:https://nhaa.net
X-WR-CALDESC:Events for Alcoholics Anonymous NH
REFRESH-INTERVAL;VALUE=DURATION:PT1H
X-Robots-Tag:noindex
X-PUBLISHED-TTL:PT1H
BEGIN:VTIMEZONE
TZID:America/New_York
BEGIN:DAYLIGHT
TZOFFSETFROM:-0500
TZOFFSETTO:-0400
TZNAME:EDT
DTSTART:20290311T070000
END:DAYLIGHT
BEGIN:STANDARD
TZOFFSETFROM:-0400
TZOFFSETTO:-0500
TZNAME:EST
DTSTART:20291104T060000
END:STANDARD
BEGIN:DAYLIGHT
TZOFFSETFROM:-0500
TZOFFSETTO:-0400
TZNAME:EDT
DTSTART:20300310T070000
END:DAYLIGHT
BEGIN:STANDARD
TZOFFSETFROM:-0400
TZOFFSETTO:-0500
TZNAME:EST
DTSTART:20301103T060000
END:STANDARD
BEGIN:DAYLIGHT
TZOFFSETFROM:-0500
TZOFFSETTO:-0400
TZNAME:EDT
DTSTART:20310309T070000
END:DAYLIGHT
BEGIN:STANDARD
TZOFFSETFROM:-0400
TZOFFSETTO:-0500
TZNAME:EST
DTSTART:20311102T060000
END:STANDARD
END:VTIMEZONE
BEGIN:VEVENT
DTSTART;TZID=America/New_York:20300625T190000
DTEND;TZID=America/New_York:20300625T203000
DTSTAMP:20260425T170519
CREATED:20260306T000509Z
LAST-MODIFIED:20260306T000509Z
UID:10002998-1908644400-1908649800@nhaa.net
SUMMARY:District 11 meeting
DESCRIPTION:District 11 monthly district meeting \nOur district meeting is hybrid\, at Sobriety Centers of New Hampshire\, 350 Court St Laconia\, and on Zoom ID 6307480407 Password: district11.  It is on the last Tuesday of each month.
URL:https://nhaa.net/event/district-11-meeting/2030-06-25/
LOCATION:NH
CATEGORIES:District 11
END:VEVENT
BEGIN:VEVENT
DTSTART;TZID=America/New_York:20300703T180000
DTEND;TZID=America/New_York:20300703T190000
DTSTAMP:20260425T170519
CREATED:20260102T023406Z
LAST-MODIFIED:20260102T023406Z
UID:10002622-1909332000-1909335600@nhaa.net
SUMMARY:District 19 Meeting
DESCRIPTION:This is a district meeting for District 19.
URL:https://nhaa.net/event/district-19-meeting/2030-07-03/
LOCATION:36 Carpenter Street\, KeeneNH\, YANA Center\, 36 Carpenter Street\, Keene NH\, NH\, 03431\, United States
ORGANIZER;CN="Randall H":MAILTO:randall@randallhoyt.com
END:VEVENT
BEGIN:VEVENT
DTSTART;TZID=America/New_York:20300704T190000
DTEND;TZID=America/New_York:20300704T200000
DTSTAMP:20260425T170519
CREATED:20251126T171123Z
LAST-MODIFIED:20260209T154438Z
UID:10002140-1909422000-1909425600@nhaa.net
SUMMARY:District 7 GSR Meeting
DESCRIPTION:District 7 GSR Meeting\nHYBRID every first Thursday of every month\nFor all the Officers\, Committee & GSRs\n7:00pm – 8:00pm\nBond Wellness Center\, the first room at the right \nAnd online \nID: 816 710 724 \nPW: district7 \nLocation is 452 Old Street Rd\, Peterborough  03458 \n 
URL:https://nhaa.net/event/district-7-gsr-meeting/2030-07-04/
LOCATION:452 Old Street Rd\, Peterborough\, NH 03458\, 452 Old Street Rd\, Peterborough\, NH\, 03458\, United States
CATEGORIES:District 07
END:VEVENT
BEGIN:VEVENT
DTSTART;TZID=America/New_York:20300704T190000
DTEND;TZID=America/New_York:20300704T200000
DTSTAMP:20260425T170519
CREATED:20260104T170906Z
LAST-MODIFIED:20260104T170906Z
UID:10002688-1909422000-1909425600@nhaa.net
SUMMARY:District 15 Monthly Business Meeting
DESCRIPTION:First Thursday of Every Month | 7:00 PM \nFirst United Church of Rochester\n42 South Main St.\nRochester NH \nZoom option available\nZoom Hyperlink  \nMeeting ID: 851 3244 2942\nPasscode: district15
URL:https://nhaa.net/event/district-15-monthly-business-meeting/2030-07-04/
LOCATION:NH
CATEGORIES:District 15
END:VEVENT
BEGIN:VEVENT
DTSTART;TZID=America/New_York:20300708T190000
DTEND;TZID=America/New_York:20300708T200000
DTSTAMP:20260425T170519
CREATED:20260216T152754Z
LAST-MODIFIED:20260216T152754Z
UID:10002922-1909767600-1909771200@nhaa.net
SUMMARY:District 14 Business Meeting (District Meeting)
DESCRIPTION:Monthly meeting for District 14. The meeting is open to all AA members. However\, only GSRs (or Alt-GSR attending in place of the GSR) and district committee chairs can vote on district business. This is a hybrid meeting.
URL:https://nhaa.net/event/district-14-business-meeting-district-meeting/2030-07-08/
LOCATION:First Congregational Church of Hampton\, 127 Winnacunnet Rd \, Hampton\, NH\, 127 Winnacunnet Rd\, Hampton\, 03842
CATEGORIES:District 14
END:VEVENT
BEGIN:VEVENT
DTSTART;TZID=America/New_York:20300717T190000
DTEND;TZID=America/New_York:20300717T200000
DTSTAMP:20260425T170519
CREATED:20251214T183515Z
LAST-MODIFIED:20251214T183515Z
UID:10002431-1910545200-1910548800@nhaa.net
SUMMARY:District 13 Monthly GSR Meeting
DESCRIPTION:Monthly GSR Meeting
URL:https://nhaa.net/event/district-13-monthly-gsr-meeting/2030-07-17/
LOCATION:Nashua Public Library\, 2 Court Street\, Nashua\, 03060
CATEGORIES:District 13
END:VEVENT
BEGIN:VEVENT
DTSTART;TZID=America/New_York:20300721T180000
DTEND;TZID=America/New_York:20300721T200000
DTSTAMP:20260425T170519
CREATED:20251214T183430Z
LAST-MODIFIED:20251214T183430Z
UID:10002262-1910887200-1910894400@nhaa.net
SUMMARY:District 12 Committee Meeting (HYBRID)
DESCRIPTION:District 12 Committee Meeting \n6:00 pm – 8:00 pm \nSt. Raphael Church\nFerry Street Entrance \n103 Walker Street\,\nManchester\, NH 03102 \nand via ZOOM\nhttps://zoom.us/j/306311205?pwd=VnlyZG9sS3J6V2w0SzFaVGN6eWd6UT09 \nMeeting ID: 306 311 205 \nPassword is usual meeting password\nIf you need password\, email district12webmaster@gmail.com
URL:https://nhaa.net/event/district-12-committee-meeting-hybrid/2030-07-21/
LOCATION:St. Raphael’s Church\, 103 Walker St. Entrance on Third St\, Manchester\, 03103
GEO:43.088514;-70.7411859
X-APPLE-STRUCTURED-LOCATION;VALUE=URI;X-ADDRESS=St. Raphael’s Church 103 Walker St. Entrance on Third St Manchester 03103;X-APPLE-RADIUS=500;X-TITLE=103 Walker St. Entrance on Third St:geo:-70.7411859,43.088514
END:VEVENT
BEGIN:VEVENT
DTSTART;TZID=America/New_York:20300730T190000
DTEND;TZID=America/New_York:20300730T203000
DTSTAMP:20260425T170519
CREATED:20260306T000509Z
LAST-MODIFIED:20260306T000509Z
UID:10002999-1911668400-1911673800@nhaa.net
SUMMARY:District 11 meeting
DESCRIPTION:District 11 monthly district meeting \nOur district meeting is hybrid\, at Sobriety Centers of New Hampshire\, 350 Court St Laconia\, and on Zoom ID 6307480407 Password: district11.  It is on the last Tuesday of each month.
URL:https://nhaa.net/event/district-11-meeting/2030-07-30/
LOCATION:NH
CATEGORIES:District 11
END:VEVENT
BEGIN:VEVENT
DTSTART;TZID=America/New_York:20300801T190000
DTEND;TZID=America/New_York:20300801T200000
DTSTAMP:20260425T170519
CREATED:20251126T171123Z
LAST-MODIFIED:20260209T154438Z
UID:10002141-1911841200-1911844800@nhaa.net
SUMMARY:District 7 GSR Meeting
DESCRIPTION:District 7 GSR Meeting\nHYBRID every first Thursday of every month\nFor all the Officers\, Committee & GSRs\n7:00pm – 8:00pm\nBond Wellness Center\, the first room at the right \nAnd online \nID: 816 710 724 \nPW: district7 \nLocation is 452 Old Street Rd\, Peterborough  03458 \n 
URL:https://nhaa.net/event/district-7-gsr-meeting/2030-08-01/
LOCATION:452 Old Street Rd\, Peterborough\, NH 03458\, 452 Old Street Rd\, Peterborough\, NH\, 03458\, United States
CATEGORIES:District 07
END:VEVENT
BEGIN:VEVENT
DTSTART;TZID=America/New_York:20300801T190000
DTEND;TZID=America/New_York:20300801T200000
DTSTAMP:20260425T170519
CREATED:20260104T170906Z
LAST-MODIFIED:20260104T170906Z
UID:10002689-1911841200-1911844800@nhaa.net
SUMMARY:District 15 Monthly Business Meeting
DESCRIPTION:First Thursday of Every Month | 7:00 PM \nFirst United Church of Rochester\n42 South Main St.\nRochester NH \nZoom option available\nZoom Hyperlink  \nMeeting ID: 851 3244 2942\nPasscode: district15
URL:https://nhaa.net/event/district-15-monthly-business-meeting/2030-08-01/
LOCATION:NH
CATEGORIES:District 15
END:VEVENT
BEGIN:VEVENT
DTSTART;TZID=America/New_York:20300807T180000
DTEND;TZID=America/New_York:20300807T190000
DTSTAMP:20260425T170519
CREATED:20260102T023406Z
LAST-MODIFIED:20260102T023406Z
UID:10002623-1912356000-1912359600@nhaa.net
SUMMARY:District 19 Meeting
DESCRIPTION:This is a district meeting for District 19.
URL:https://nhaa.net/event/district-19-meeting/2030-08-07/
LOCATION:36 Carpenter Street\, KeeneNH\, YANA Center\, 36 Carpenter Street\, Keene NH\, NH\, 03431\, United States
ORGANIZER;CN="Randall H":MAILTO:randall@randallhoyt.com
END:VEVENT
BEGIN:VEVENT
DTSTART;TZID=America/New_York:20300812T190000
DTEND;TZID=America/New_York:20300812T200000
DTSTAMP:20260425T170519
CREATED:20260216T152754Z
LAST-MODIFIED:20260216T152754Z
UID:10002923-1912791600-1912795200@nhaa.net
SUMMARY:District 14 Business Meeting (District Meeting)
DESCRIPTION:Monthly meeting for District 14. The meeting is open to all AA members. However\, only GSRs (or Alt-GSR attending in place of the GSR) and district committee chairs can vote on district business. This is a hybrid meeting.
URL:https://nhaa.net/event/district-14-business-meeting-district-meeting/2030-08-12/
LOCATION:First Congregational Church of Hampton\, 127 Winnacunnet Rd \, Hampton\, NH\, 127 Winnacunnet Rd\, Hampton\, 03842
CATEGORIES:District 14
END:VEVENT
BEGIN:VEVENT
DTSTART;TZID=America/New_York:20300818T180000
DTEND;TZID=America/New_York:20300818T200000
DTSTAMP:20260425T170519
CREATED:20251214T183430Z
LAST-MODIFIED:20251214T183430Z
UID:10002263-1913306400-1913313600@nhaa.net
SUMMARY:District 12 Committee Meeting (HYBRID)
DESCRIPTION:District 12 Committee Meeting \n6:00 pm – 8:00 pm \nSt. Raphael Church\nFerry Street Entrance \n103 Walker Street\,\nManchester\, NH 03102 \nand via ZOOM\nhttps://zoom.us/j/306311205?pwd=VnlyZG9sS3J6V2w0SzFaVGN6eWd6UT09 \nMeeting ID: 306 311 205 \nPassword is usual meeting password\nIf you need password\, email district12webmaster@gmail.com
URL:https://nhaa.net/event/district-12-committee-meeting-hybrid/2030-08-18/
LOCATION:St. Raphael’s Church\, 103 Walker St. Entrance on Third St\, Manchester\, 03103
GEO:43.088514;-70.7411859
X-APPLE-STRUCTURED-LOCATION;VALUE=URI;X-ADDRESS=St. Raphael’s Church 103 Walker St. Entrance on Third St Manchester 03103;X-APPLE-RADIUS=500;X-TITLE=103 Walker St. Entrance on Third St:geo:-70.7411859,43.088514
END:VEVENT
BEGIN:VEVENT
DTSTART;TZID=America/New_York:20300821T190000
DTEND;TZID=America/New_York:20300821T200000
DTSTAMP:20260425T170519
CREATED:20251214T183515Z
LAST-MODIFIED:20251214T183515Z
UID:10002432-1913569200-1913572800@nhaa.net
SUMMARY:District 13 Monthly GSR Meeting
DESCRIPTION:Monthly GSR Meeting
URL:https://nhaa.net/event/district-13-monthly-gsr-meeting/2030-08-21/
LOCATION:Nashua Public Library\, 2 Court Street\, Nashua\, 03060
CATEGORIES:District 13
END:VEVENT
BEGIN:VEVENT
DTSTART;TZID=America/New_York:20300827T190000
DTEND;TZID=America/New_York:20300827T203000
DTSTAMP:20260425T170519
CREATED:20260306T000509Z
LAST-MODIFIED:20260306T000509Z
UID:10003000-1914087600-1914093000@nhaa.net
SUMMARY:District 11 meeting
DESCRIPTION:District 11 monthly district meeting \nOur district meeting is hybrid\, at Sobriety Centers of New Hampshire\, 350 Court St Laconia\, and on Zoom ID 6307480407 Password: district11.  It is on the last Tuesday of each month.
URL:https://nhaa.net/event/district-11-meeting/2030-08-27/
LOCATION:NH
CATEGORIES:District 11
END:VEVENT
BEGIN:VEVENT
DTSTART;TZID=America/New_York:20300904T180000
DTEND;TZID=America/New_York:20300904T190000
DTSTAMP:20260425T170519
CREATED:20260102T023406Z
LAST-MODIFIED:20260102T023406Z
UID:10002624-1914775200-1914778800@nhaa.net
SUMMARY:District 19 Meeting
DESCRIPTION:This is a district meeting for District 19.
URL:https://nhaa.net/event/district-19-meeting/2030-09-04/
LOCATION:36 Carpenter Street\, KeeneNH\, YANA Center\, 36 Carpenter Street\, Keene NH\, NH\, 03431\, United States
ORGANIZER;CN="Randall H":MAILTO:randall@randallhoyt.com
END:VEVENT
BEGIN:VEVENT
DTSTART;TZID=America/New_York:20300905T190000
DTEND;TZID=America/New_York:20300905T200000
DTSTAMP:20260425T170519
CREATED:20251126T171123Z
LAST-MODIFIED:20260209T154438Z
UID:10002142-1914865200-1914868800@nhaa.net
SUMMARY:District 7 GSR Meeting
DESCRIPTION:District 7 GSR Meeting\nHYBRID every first Thursday of every month\nFor all the Officers\, Committee & GSRs\n7:00pm – 8:00pm\nBond Wellness Center\, the first room at the right \nAnd online \nID: 816 710 724 \nPW: district7 \nLocation is 452 Old Street Rd\, Peterborough  03458 \n 
URL:https://nhaa.net/event/district-7-gsr-meeting/2030-09-05/
LOCATION:452 Old Street Rd\, Peterborough\, NH 03458\, 452 Old Street Rd\, Peterborough\, NH\, 03458\, United States
CATEGORIES:District 07
END:VEVENT
BEGIN:VEVENT
DTSTART;TZID=America/New_York:20300905T190000
DTEND;TZID=America/New_York:20300905T200000
DTSTAMP:20260425T170519
CREATED:20260104T170906Z
LAST-MODIFIED:20260104T170906Z
UID:10002690-1914865200-1914868800@nhaa.net
SUMMARY:District 15 Monthly Business Meeting
DESCRIPTION:First Thursday of Every Month | 7:00 PM \nFirst United Church of Rochester\n42 South Main St.\nRochester NH \nZoom option available\nZoom Hyperlink  \nMeeting ID: 851 3244 2942\nPasscode: district15
URL:https://nhaa.net/event/district-15-monthly-business-meeting/2030-09-05/
LOCATION:NH
CATEGORIES:District 15
END:VEVENT
BEGIN:VEVENT
DTSTART;TZID=America/New_York:20300909T190000
DTEND;TZID=America/New_York:20300909T200000
DTSTAMP:20260425T170519
CREATED:20260216T152754Z
LAST-MODIFIED:20260216T152754Z
UID:10002924-1915210800-1915214400@nhaa.net
SUMMARY:District 14 Business Meeting (District Meeting)
DESCRIPTION:Monthly meeting for District 14. The meeting is open to all AA members. However\, only GSRs (or Alt-GSR attending in place of the GSR) and district committee chairs can vote on district business. This is a hybrid meeting.
URL:https://nhaa.net/event/district-14-business-meeting-district-meeting/2030-09-09/
LOCATION:First Congregational Church of Hampton\, 127 Winnacunnet Rd \, Hampton\, NH\, 127 Winnacunnet Rd\, Hampton\, 03842
CATEGORIES:District 14
END:VEVENT
BEGIN:VEVENT
DTSTART;TZID=America/New_York:20300915T180000
DTEND;TZID=America/New_York:20300915T200000
DTSTAMP:20260425T170519
CREATED:20251214T183430Z
LAST-MODIFIED:20251214T183430Z
UID:10002264-1915725600-1915732800@nhaa.net
SUMMARY:District 12 Committee Meeting (HYBRID)
DESCRIPTION:District 12 Committee Meeting \n6:00 pm – 8:00 pm \nSt. Raphael Church\nFerry Street Entrance \n103 Walker Street\,\nManchester\, NH 03102 \nand via ZOOM\nhttps://zoom.us/j/306311205?pwd=VnlyZG9sS3J6V2w0SzFaVGN6eWd6UT09 \nMeeting ID: 306 311 205 \nPassword is usual meeting password\nIf you need password\, email district12webmaster@gmail.com
URL:https://nhaa.net/event/district-12-committee-meeting-hybrid/2030-09-15/
LOCATION:St. Raphael’s Church\, 103 Walker St. Entrance on Third St\, Manchester\, 03103
GEO:43.088514;-70.7411859
X-APPLE-STRUCTURED-LOCATION;VALUE=URI;X-ADDRESS=St. Raphael’s Church 103 Walker St. Entrance on Third St Manchester 03103;X-APPLE-RADIUS=500;X-TITLE=103 Walker St. Entrance on Third St:geo:-70.7411859,43.088514
END:VEVENT
BEGIN:VEVENT
DTSTART;TZID=America/New_York:20300918T190000
DTEND;TZID=America/New_York:20300918T200000
DTSTAMP:20260425T170519
CREATED:20251214T183515Z
LAST-MODIFIED:20251214T183515Z
UID:10002433-1915988400-1915992000@nhaa.net
SUMMARY:District 13 Monthly GSR Meeting
DESCRIPTION:Monthly GSR Meeting
URL:https://nhaa.net/event/district-13-monthly-gsr-meeting/2030-09-18/
LOCATION:Nashua Public Library\, 2 Court Street\, Nashua\, 03060
CATEGORIES:District 13
END:VEVENT
BEGIN:VEVENT
DTSTART;TZID=America/New_York:20300924T190000
DTEND;TZID=America/New_York:20300924T203000
DTSTAMP:20260425T170519
CREATED:20260306T000509Z
LAST-MODIFIED:20260306T000509Z
UID:10003001-1916506800-1916512200@nhaa.net
SUMMARY:District 11 meeting
DESCRIPTION:District 11 monthly district meeting \nOur district meeting is hybrid\, at Sobriety Centers of New Hampshire\, 350 Court St Laconia\, and on Zoom ID 6307480407 Password: district11.  It is on the last Tuesday of each month.
URL:https://nhaa.net/event/district-11-meeting/2030-09-24/
LOCATION:NH
CATEGORIES:District 11
END:VEVENT
BEGIN:VEVENT
DTSTART;TZID=America/New_York:20301002T180000
DTEND;TZID=America/New_York:20301002T190000
DTSTAMP:20260425T170519
CREATED:20260102T023406Z
LAST-MODIFIED:20260102T023406Z
UID:10002625-1917194400-1917198000@nhaa.net
SUMMARY:District 19 Meeting
DESCRIPTION:This is a district meeting for District 19.
URL:https://nhaa.net/event/district-19-meeting/2030-10-02/
LOCATION:36 Carpenter Street\, KeeneNH\, YANA Center\, 36 Carpenter Street\, Keene NH\, NH\, 03431\, United States
ORGANIZER;CN="Randall H":MAILTO:randall@randallhoyt.com
END:VEVENT
BEGIN:VEVENT
DTSTART;TZID=America/New_York:20301003T190000
DTEND;TZID=America/New_York:20301003T200000
DTSTAMP:20260425T170519
CREATED:20251126T171123Z
LAST-MODIFIED:20260209T154438Z
UID:10002143-1917284400-1917288000@nhaa.net
SUMMARY:District 7 GSR Meeting
DESCRIPTION:District 7 GSR Meeting\nHYBRID every first Thursday of every month\nFor all the Officers\, Committee & GSRs\n7:00pm – 8:00pm\nBond Wellness Center\, the first room at the right \nAnd online \nID: 816 710 724 \nPW: district7 \nLocation is 452 Old Street Rd\, Peterborough  03458 \n 
URL:https://nhaa.net/event/district-7-gsr-meeting/2030-10-03/
LOCATION:452 Old Street Rd\, Peterborough\, NH 03458\, 452 Old Street Rd\, Peterborough\, NH\, 03458\, United States
CATEGORIES:District 07
END:VEVENT
BEGIN:VEVENT
DTSTART;TZID=America/New_York:20301003T190000
DTEND;TZID=America/New_York:20301003T200000
DTSTAMP:20260425T170519
CREATED:20260104T170906Z
LAST-MODIFIED:20260104T170906Z
UID:10002691-1917284400-1917288000@nhaa.net
SUMMARY:District 15 Monthly Business Meeting
DESCRIPTION:First Thursday of Every Month | 7:00 PM \nFirst United Church of Rochester\n42 South Main St.\nRochester NH \nZoom option available\nZoom Hyperlink  \nMeeting ID: 851 3244 2942\nPasscode: district15
URL:https://nhaa.net/event/district-15-monthly-business-meeting/2030-10-03/
LOCATION:NH
CATEGORIES:District 15
END:VEVENT
BEGIN:VEVENT
DTSTART;TZID=America/New_York:20301014T190000
DTEND;TZID=America/New_York:20301014T200000
DTSTAMP:20260425T170519
CREATED:20260216T152754Z
LAST-MODIFIED:20260216T152754Z
UID:10002925-1918234800-1918238400@nhaa.net
SUMMARY:District 14 Business Meeting (District Meeting)
DESCRIPTION:Monthly meeting for District 14. The meeting is open to all AA members. However\, only GSRs (or Alt-GSR attending in place of the GSR) and district committee chairs can vote on district business. This is a hybrid meeting.
URL:https://nhaa.net/event/district-14-business-meeting-district-meeting/2030-10-14/
LOCATION:First Congregational Church of Hampton\, 127 Winnacunnet Rd \, Hampton\, NH\, 127 Winnacunnet Rd\, Hampton\, 03842
CATEGORIES:District 14
END:VEVENT
BEGIN:VEVENT
DTSTART;TZID=America/New_York:20301016T190000
DTEND;TZID=America/New_York:20301016T200000
DTSTAMP:20260425T170519
CREATED:20251214T183515Z
LAST-MODIFIED:20251214T183515Z
UID:10002434-1918407600-1918411200@nhaa.net
SUMMARY:District 13 Monthly GSR Meeting
DESCRIPTION:Monthly GSR Meeting
URL:https://nhaa.net/event/district-13-monthly-gsr-meeting/2030-10-16/
LOCATION:Nashua Public Library\, 2 Court Street\, Nashua\, 03060
CATEGORIES:District 13
END:VEVENT
BEGIN:VEVENT
DTSTART;TZID=America/New_York:20301020T180000
DTEND;TZID=America/New_York:20301020T200000
DTSTAMP:20260425T170519
CREATED:20251214T183430Z
LAST-MODIFIED:20251214T183430Z
UID:10002265-1918749600-1918756800@nhaa.net
SUMMARY:District 12 Committee Meeting (HYBRID)
DESCRIPTION:District 12 Committee Meeting \n6:00 pm – 8:00 pm \nSt. Raphael Church\nFerry Street Entrance \n103 Walker Street\,\nManchester\, NH 03102 \nand via ZOOM\nhttps://zoom.us/j/306311205?pwd=VnlyZG9sS3J6V2w0SzFaVGN6eWd6UT09 \nMeeting ID: 306 311 205 \nPassword is usual meeting password\nIf you need password\, email district12webmaster@gmail.com
URL:https://nhaa.net/event/district-12-committee-meeting-hybrid/2030-10-20/
LOCATION:St. Raphael’s Church\, 103 Walker St. Entrance on Third St\, Manchester\, 03103
GEO:43.088514;-70.7411859
X-APPLE-STRUCTURED-LOCATION;VALUE=URI;X-ADDRESS=St. Raphael’s Church 103 Walker St. Entrance on Third St Manchester 03103;X-APPLE-RADIUS=500;X-TITLE=103 Walker St. Entrance on Third St:geo:-70.7411859,43.088514
END:VEVENT
BEGIN:VEVENT
DTSTART;TZID=America/New_York:20301029T190000
DTEND;TZID=America/New_York:20301029T203000
DTSTAMP:20260425T170519
CREATED:20260306T000509Z
LAST-MODIFIED:20260306T000509Z
UID:10003002-1919530800-1919536200@nhaa.net
SUMMARY:District 11 meeting
DESCRIPTION:District 11 monthly district meeting \nOur district meeting is hybrid\, at Sobriety Centers of New Hampshire\, 350 Court St Laconia\, and on Zoom ID 6307480407 Password: district11.  It is on the last Tuesday of each month.
URL:https://nhaa.net/event/district-11-meeting/2030-10-29/
LOCATION:NH
CATEGORIES:District 11
END:VEVENT
BEGIN:VEVENT
DTSTART;TZID=America/New_York:20301106T180000
DTEND;TZID=America/New_York:20301106T190000
DTSTAMP:20260425T170519
CREATED:20260102T023406Z
LAST-MODIFIED:20260102T023406Z
UID:10002626-1920218400-1920222000@nhaa.net
SUMMARY:District 19 Meeting
DESCRIPTION:This is a district meeting for District 19.
URL:https://nhaa.net/event/district-19-meeting/2030-11-06/
LOCATION:36 Carpenter Street\, KeeneNH\, YANA Center\, 36 Carpenter Street\, Keene NH\, NH\, 03431\, United States
ORGANIZER;CN="Randall H":MAILTO:randall@randallhoyt.com
END:VEVENT
END:VCALENDAR