BEGIN:VCALENDAR
VERSION:2.0
PRODID:-//Alcoholics Anonymous NH - ECPv6.15.18//NONSGML v1.0//EN
CALSCALE:GREGORIAN
METHOD:PUBLISH
X-WR-CALNAME:Alcoholics Anonymous NH
X-ORIGINAL-URL:https://nhaa.net
X-WR-CALDESC:Events for Alcoholics Anonymous NH
REFRESH-INTERVAL;VALUE=DURATION:PT1H
X-Robots-Tag:noindex
X-PUBLISHED-TTL:PT1H
BEGIN:VTIMEZONE
TZID:America/New_York
BEGIN:DAYLIGHT
TZOFFSETFROM:-0500
TZOFFSETTO:-0400
TZNAME:EDT
DTSTART:20250309T070000
END:DAYLIGHT
BEGIN:STANDARD
TZOFFSETFROM:-0400
TZOFFSETTO:-0500
TZNAME:EST
DTSTART:20251102T060000
END:STANDARD
BEGIN:DAYLIGHT
TZOFFSETFROM:-0500
TZOFFSETTO:-0400
TZNAME:EDT
DTSTART:20260308T070000
END:DAYLIGHT
BEGIN:STANDARD
TZOFFSETFROM:-0400
TZOFFSETTO:-0500
TZNAME:EST
DTSTART:20261101T060000
END:STANDARD
BEGIN:DAYLIGHT
TZOFFSETFROM:-0500
TZOFFSETTO:-0400
TZNAME:EDT
DTSTART:20270314T070000
END:DAYLIGHT
BEGIN:STANDARD
TZOFFSETFROM:-0400
TZOFFSETTO:-0500
TZNAME:EST
DTSTART:20271107T060000
END:STANDARD
END:VTIMEZONE
BEGIN:VEVENT
DTSTART;TZID=America/New_York:20260511T190000
DTEND;TZID=America/New_York:20260511T200000
DTSTAMP:20260423T201333
CREATED:20251123T184221Z
LAST-MODIFIED:20251123T184531Z
UID:10002018-1778526000-1778529600@nhaa.net
SUMMARY:Monthly Area Corrections Committee Meeting
DESCRIPTION:Second Monday of every month at 7 pm \n\nMeeting Link:\nhttps://us02web.zoom.us/j/83966234270?pwd=Zr5R4TyeZw9mSitLvGaB5qjtrPmDSi.1\n\nZoom ID: 839 6623 4270\nPassword: 394627
URL:https://nhaa.net/event/monthly-area-corrections-committee-meeting/2026-05-11/
END:VEVENT
BEGIN:VEVENT
DTSTART;TZID=America/New_York:20260510T140000
DTEND;TZID=America/New_York:20260510T150000
DTSTAMP:20260423T201333
CREATED:20260123T221223Z
LAST-MODIFIED:20260123T221344Z
UID:10002774-1778421600-1778425200@nhaa.net
SUMMARY:Monthly Area YP Committee Meeting
DESCRIPTION:Every month on the Second Sunday\n2:00 PM – 3:00 PM\, Eastern \nJoin Zoom Meeting \nMeeting ID: 874 2928 6570\nPasscode: YPAA
URL:https://nhaa.net/event/monthly-area-yp-committee-meeting/2026-05-10/
CATEGORIES:YP Committee
END:VEVENT
BEGIN:VEVENT
DTSTART;TZID=America/New_York:20260509T180000
DTEND;TZID=America/New_York:20260509T220000
DTSTAMP:20260423T201333
CREATED:20260329T153451Z
LAST-MODIFIED:20260329T153451Z
UID:10004847-1778349600-1778364000@nhaa.net
SUMMARY:District 12 Spring Fling
DESCRIPTION:Come join District 12 for food\, dancing\, games\, fun and fellowship.
URL:https://nhaa.net/event/district-12-spring-fling/
LOCATION:St. Raphael’s Church\, 103 Walker St. Entrance on Third St\, Manchester\, 03103
CATEGORIES:District 12
ATTACH;FMTTYPE=image/jpeg:https://nhaa.net/wp-content/uploads/1000015645.jpg
ORGANIZER;CN="District 12 Functions":MAILTO:district12functions@gmail.com
GEO:43.088514;-70.7411859
X-APPLE-STRUCTURED-LOCATION;VALUE=URI;X-ADDRESS=St. Raphael’s Church 103 Walker St. Entrance on Third St Manchester 03103;X-APPLE-RADIUS=500;X-TITLE=103 Walker St. Entrance on Third St:geo:-70.7411859,43.088514
END:VEVENT
BEGIN:VEVENT
DTSTART;TZID=America/New_York:20260507T190000
DTEND;TZID=America/New_York:20260507T200000
DTSTAMP:20260423T201333
CREATED:20260104T170906Z
LAST-MODIFIED:20260104T170906Z
UID:10002638-1778180400-1778184000@nhaa.net
SUMMARY:District 15 Monthly Business Meeting
DESCRIPTION:First Thursday of Every Month | 7:00 PM \nFirst United Church of Rochester\n42 South Main St.\nRochester NH \nZoom option available\nZoom Hyperlink  \nMeeting ID: 851 3244 2942\nPasscode: district15
URL:https://nhaa.net/event/district-15-monthly-business-meeting/2026-05-07/
CATEGORIES:District 15
END:VEVENT
BEGIN:VEVENT
DTSTART;TZID=America/New_York:20260507T190000
DTEND;TZID=America/New_York:20260507T200000
DTSTAMP:20260423T201333
CREATED:20251126T171123Z
LAST-MODIFIED:20260209T154438Z
UID:10002090-1778180400-1778184000@nhaa.net
SUMMARY:District 7 GSR Meeting
DESCRIPTION:District 7 GSR Meeting\nHYBRID every first Thursday of every month\nFor all the Officers\, Committee & GSRs\n7:00pm – 8:00pm\nBond Wellness Center\, the first room at the right \nAnd online \nID: 816 710 724 \nPW: district7 \nLocation is 452 Old Street Rd\, Peterborough  03458 \n 
URL:https://nhaa.net/event/district-7-gsr-meeting/2026-05-07/
LOCATION:452 Old Street Rd\, Peterborough\, NH 03458\, 452 Old Street Rd\, Peterborough\, NH\, 03458\, United States
CATEGORIES:District 07
END:VEVENT
BEGIN:VEVENT
DTSTART;TZID=America/New_York:20260506T180000
DTEND;TZID=America/New_York:20260506T190000
DTSTAMP:20260423T201333
CREATED:20260102T023406Z
LAST-MODIFIED:20260102T023406Z
UID:10002572-1778090400-1778094000@nhaa.net
SUMMARY:District 19 Meeting
DESCRIPTION:This is a district meeting for District 19.
URL:https://nhaa.net/event/district-19-meeting/2026-05-06/
LOCATION:36 Carpenter Street\, KeeneNH\, YANA Center\, 36 Carpenter Street\, Keene NH\, NH\, 03431\, United States
ORGANIZER;CN="Randall H":MAILTO:randall@randallhoyt.com
END:VEVENT
BEGIN:VEVENT
DTSTART;TZID=America/New_York:20260506T180000
DTEND;TZID=America/New_York:20260506T190000
DTSTAMP:20260423T201333
CREATED:20240518T164703Z
LAST-MODIFIED:20251123T190924Z
UID:10002042-1778090400-1778094000@nhaa.net
SUMMARY:Area Functions Committee
DESCRIPTION:Meets on the First Wednesday of the Month on Zoom \nJoin Meeting Here: https://us02web.zoom.us/j/88155905842?pwd=TDdrR1NTVXFOc0pSVHllSWNNait6dz09 \nID: 881 5590 5842\nPW: functions
URL:https://nhaa.net/event/area-functions-committee/2026-05-06/
END:VEVENT
BEGIN:VEVENT
DTSTART;TZID=America/New_York:20260504T190000
DTEND;TZID=America/New_York:20260504T200000
DTSTAMP:20260423T201333
CREATED:20250513T222633Z
LAST-MODIFIED:20250513T222633Z
UID:10001715-1777921200-1777924800@nhaa.net
SUMMARY:District 9 Committee Meeting
DESCRIPTION:District 9 Committee Meeting \n  \n7pm \nMarion Gerrish Community Center \n39 W Broadway\, Derry\, NH \n  \nCome join district 9 for our monthly business meeting!
URL:https://nhaa.net/event/district-9-committee-meeting/2026-05-04/
LOCATION:Marion Gerrish\, 39 West Broadway\, Derry\, NH\, 03038\, United States
GEO:42.8795405;-71.3297865
X-APPLE-STRUCTURED-LOCATION;VALUE=URI;X-ADDRESS=Marion Gerrish 39 West Broadway Derry NH 03038 United States;X-APPLE-RADIUS=500;X-TITLE=39 West Broadway:geo:-71.3297865,42.8795405
END:VEVENT
BEGIN:VEVENT
DTSTART;TZID=America/New_York:20260504T180000
DTEND;TZID=America/New_York:20260504T190000
DTSTAMP:20260423T201333
CREATED:20250609T221440Z
LAST-MODIFIED:20250609T221440Z
UID:10001800-1777917600-1777921200@nhaa.net
SUMMARY:District 18 Committee Meeting
DESCRIPTION:6pm \nChurch of the Good Shepard \n11 Park Street\nNewport NH 03773
URL:https://nhaa.net/event/district-18-committee-meeting/2026-05-04/
END:VEVENT
BEGIN:VEVENT
DTSTART;TZID=America/New_York:20260430T190000
DTEND;TZID=America/New_York:20260430T200000
DTSTAMP:20260423T201333
CREATED:20260414T184338Z
LAST-MODIFIED:20260414T184338Z
UID:10002938-1777575600-1777579200@nhaa.net
SUMMARY:Area 43 DCM-Alt DCM Roundtable Topics
DESCRIPTION:Please join this round table for sharing ideas and best practices with other district chairpersons. \nEach month there will be a presentation chosen by DCMs\, followed by a Q & A. The last 30 minutes will be \na sharing session on current concerns. \nFebruary 26: Safety for In-person and Online Meetings \nMarch 26: Spirit of Rotation in Meetings and District Meetings \nApril 30: (NEW DATE) Making Technology Work for Your District \nMay 28: Tips on How to Build a District Budget \nTime: 7:00 PM to 8:00 PM \nZoom ID: 755 833 2087    Passcode: share \nhttps://zoom.us/j/7558832087?pwd=XCmbnBOr2z3ooHibtIJRZ8EcxaL6Up.1&omn=98668260160 \n 
URL:https://nhaa.net/event/area-43-dcm-alt-dcm-roundtable-topics-2-3/
LOCATION:Zoom Format
CATEGORIES:Area Events
ATTACH;FMTTYPE=image/png:https://nhaa.net/wp-content/uploads/DCMAlt-DCM-Roundtable-Feb-Mar-Apr-2.png
END:VEVENT
BEGIN:VEVENT
DTSTART;TZID=America/New_York:20260428T190000
DTEND;TZID=America/New_York:20260428T203000
DTSTAMP:20260423T201333
CREATED:20260306T000509Z
LAST-MODIFIED:20260306T000509Z
UID:10002948-1777402800-1777408200@nhaa.net
SUMMARY:District 11 meeting
DESCRIPTION:District 11 monthly district meeting \nOur district meeting is hybrid\, at Sobriety Centers of New Hampshire\, 350 Court St Laconia\, and on Zoom ID 6307480407 Password: district11.  It is on the last Tuesday of each month.
URL:https://nhaa.net/event/district-11-meeting/2026-04-28/
CATEGORIES:District 11
END:VEVENT
BEGIN:VEVENT
DTSTART;TZID=America/New_York:20260428T190000
DTEND;TZID=America/New_York:20260428T200000
DTSTAMP:20260423T201333
CREATED:20260120T012329Z
LAST-MODIFIED:20260120T012329Z
UID:10002724-1777402800-1777406400@nhaa.net
SUMMARY:Area 43 Technology Monthly Committee Meeting
DESCRIPTION:The Area Technology Committee meets on the last Tuesday of every month at 7:00 pm \nJoin Zoom Meeting \nMeeting ID: 897 5859 4203\nPasscode: Tech
URL:https://nhaa.net/event/area-43-technology-monthly-committee-meeting/2026-04-28/
END:VEVENT
BEGIN:VEVENT
DTSTART;TZID=America/New_York:20260426T130000
DTEND;TZID=America/New_York:20260426T160000
DTSTAMP:20260423T201333
CREATED:20250517T153358Z
LAST-MODIFIED:20260103T031449Z
UID:10001779-1777208400-1777219200@nhaa.net
SUMMARY:Area 43 Monthly Business Meeting
DESCRIPTION:Monthly meeting of the Area 43 officers\, committee chairs and DCMs. \n1 to 4pm Zoom ID: 228 681 5454 Password: Area43 \nJoin Zoom Meeting\nhttps://us02web.zoom.us/j/2286815454?pwd=RktJbVI5R3NRa3BzRzIyTEkvSTVWQT09
URL:https://nhaa.net/event/area-43-monthly-business-meeting-4/
END:VEVENT
BEGIN:VEVENT
DTSTART;TZID=America/New_York:20260422T190000
DTEND;TZID=America/New_York:20260422T200000
DTSTAMP:20260423T201333
CREATED:20260125T233234Z
LAST-MODIFIED:20260328T005251Z
UID:10002823-1776884400-1776888000@nhaa.net
SUMMARY:Area 43 GSR School - Virtual Event
DESCRIPTION:GSRs are warmly invited to the Area 43 Monthly GSR School — a rotating series designed to strengthen your understanding of AA’s service structure\, the General Service Conference\, and the vital role you play in carrying your group’s voice. Each month features a fresh topic\, practical guidance\, and space for questions\, so mark your calendars and plan to join us regularly. Don’t miss a session — every month builds your confidence\, connection\, and effectiveness in service. \nWatch for the flyer with this month’s topic!  Let’s Go! \nMeeting ID: 755 883 2087\nPasscode: share \nAll GSRs\, Alternates\, and anyone curious about service are welcome.
URL:https://nhaa.net/event/area-43-gsr-school-virtual-event-4-22-26/
CATEGORIES:Area Events
ATTACH;FMTTYPE=image/png:https://nhaa.net/wp-content/uploads/2026-April-GSR-School-Flyer.png
END:VEVENT
BEGIN:VEVENT
DTSTART;TZID=America/New_York:20260421T183000
DTEND;TZID=America/New_York:20260421T200000
DTSTAMP:20260423T201333
CREATED:20251227T191948Z
LAST-MODIFIED:20260208T205139Z
UID:10002492-1776796200-1776801600@nhaa.net
SUMMARY:Area 43 Monthly Service Office Committee and Finance Committee Meeting
DESCRIPTION:Monthly Hybrid format meeting of the Service Office Committee at 6:30pm\, followed by the Finance Committee at 7pm. \nHeld in person at the Area 43 Service Office at 2 1/2 Beacon St Suite 163\, Concord\, NH 03301 \nJoin Zoom \nZoom ID: 856 8781 8011\nPW Area43
URL:https://nhaa.net/event/area-43-monthly-service-office-committee-and-finance-committee-meeting/2026-04-21/
LOCATION:Hybrid
CATEGORIES:Area Service Office Committee (SOC)
END:VEVENT
BEGIN:VEVENT
DTSTART;TZID=America/New_York:20260420T190000
DTEND;TZID=America/New_York:20260420T200000
DTSTAMP:20260423T201333
CREATED:20230309T170803Z
LAST-MODIFIED:20251123T193004Z
UID:10002065-1776711600-1776715200@nhaa.net
SUMMARY:Area 43 PI/CPC Committee Meeting
DESCRIPTION:Monthly PI/CPC Committee meeting on Zoom \nJoin the Zoom Meeting \nMeeting ID: 898 3596 0719\nPassword: picpc
URL:https://nhaa.net/event/area-pi-cpc-meeting/2026-04-20/
LOCATION:Zoom Meeting Area 43 Host
END:VEVENT
BEGIN:VEVENT
DTSTART;TZID=America/New_York:20260419T180000
DTEND;TZID=America/New_York:20260419T200000
DTSTAMP:20260423T201333
CREATED:20251214T183430Z
LAST-MODIFIED:20251214T183430Z
UID:10002211-1776621600-1776628800@nhaa.net
SUMMARY:District 12 Committee Meeting (HYBRID)
DESCRIPTION:District 12 Committee Meeting \n6:00 pm – 8:00 pm \nSt. Raphael Church\nFerry Street Entrance \n103 Walker Street\,\nManchester\, NH 03102 \nand via ZOOM\nhttps://zoom.us/j/306311205?pwd=VnlyZG9sS3J6V2w0SzFaVGN6eWd6UT09 \nMeeting ID: 306 311 205 \nPassword is usual meeting password\nIf you need password\, email district12webmaster@gmail.com
URL:https://nhaa.net/event/district-12-committee-meeting-hybrid/2026-04-19/
LOCATION:St. Raphael’s Church\, 103 Walker St. Entrance on Third St\, Manchester\, 03103
GEO:43.088514;-70.7411859
X-APPLE-STRUCTURED-LOCATION;VALUE=URI;X-ADDRESS=St. Raphael’s Church 103 Walker St. Entrance on Third St Manchester 03103;X-APPLE-RADIUS=500;X-TITLE=103 Walker St. Entrance on Third St:geo:-70.7411859,43.088514
END:VEVENT
BEGIN:VEVENT
DTSTART;TZID=America/New_York:20260417T170000
DTEND;TZID=America/New_York:20260417T203000
DTSTAMP:20260423T201333
CREATED:20260309T184607Z
LAST-MODIFIED:20260309T184607Z
UID:10003018-1776445200-1776457800@nhaa.net
SUMMARY:Jaffrey Friday Night 60th Anniversary
DESCRIPTION:60th Anniversary
URL:https://nhaa.net/event/jaffrey-friday-night-60th-anniversary/
CATEGORIES:District 07
ATTACH;FMTTYPE=image/jpeg:https://nhaa.net/wp-content/uploads/1000017089.jpg
END:VEVENT
BEGIN:VEVENT
DTSTART;VALUE=DATE:20260417
DTEND;VALUE=DATE:20260420
DTSTAMP:20260423T201333
CREATED:20260109T020534Z
LAST-MODIFIED:20260109T020535Z
UID:10002709-1776384000-1776643199@nhaa.net
SUMMARY:59th Annual NHAA Convention
DESCRIPTION:Learn more and register here \nApril 17 – 19\, 2026 \nDoubleTree by Hilton Nashua\n2 Somerset Parkway\, Nashua\, NH
URL:https://nhaa.net/event/59th-annual-nhaa-convention/
LOCATION:Doubletree By Hilton\, Nashua NH\, 2 SOMERSET PARKWAY\, Nashua\, NH\, 03063\, United States
CATEGORIES:Area Events
END:VEVENT
BEGIN:VEVENT
DTSTART;TZID=America/New_York:20260415T190000
DTEND;TZID=America/New_York:20260415T200000
DTSTAMP:20260423T201333
CREATED:20260309T010620Z
LAST-MODIFIED:20260309T010620Z
UID:10003009-1776279600-1776283200@nhaa.net
SUMMARY:Monthly Area 43 Accessibilities Committee Meeting
DESCRIPTION:Meets on the 3rd Wednesday of every month at 7:00 pm. \nJoin Zoom Meeting \nMeeting ID: 863 6030 9292\nPasscode: 061131 \nContact accessibility@nhaa.net for more information.
URL:https://nhaa.net/event/monthly-area-43-accessibilities-committee-meeting/2026-04-15/
END:VEVENT
BEGIN:VEVENT
DTSTART;TZID=America/New_York:20260415T190000
DTEND;TZID=America/New_York:20260415T200000
DTSTAMP:20260423T201333
CREATED:20251214T183515Z
LAST-MODIFIED:20251214T183515Z
UID:10002380-1776279600-1776283200@nhaa.net
SUMMARY:District 13 Monthly GSR Meeting
DESCRIPTION:Monthly GSR Meeting
URL:https://nhaa.net/event/district-13-monthly-gsr-meeting/2026-04-15/
LOCATION:Nashua Public Library\, 2 Court Street\, Nashua\, 03060
CATEGORIES:District 13
END:VEVENT
BEGIN:VEVENT
DTSTART;TZID=America/New_York:20260415T180000
DTEND;TZID=America/New_York:20260415T190000
DTSTAMP:20260423T201333
CREATED:20260208T215437Z
LAST-MODIFIED:20260309T010030Z
UID:10002862-1776276000-1776279600@nhaa.net
SUMMARY:Area Functions Committee
DESCRIPTION:Typically meets on the First Wednesday of the Month (this is an additional committee meeting in preparation for the 2026 convention). \nZoom Meeting ID: 755 883 2087\nPW: share
URL:https://nhaa.net/event/area-functions-committee-04-15-2026/
END:VEVENT
BEGIN:VEVENT
DTSTART;TZID=America/New_York:20260414T183000
DTEND;TZID=America/New_York:20260414T193000
DTSTAMP:20260423T201333
CREATED:20260327T014649Z
LAST-MODIFIED:20260327T014649Z
UID:10004836-1776191400-1776195000@nhaa.net
SUMMARY:District 20 Business Meeting
DESCRIPTION:Time: 6:30 PM-7:30 PM | North Conway Community Center\, \n78 Norcross Cir\, North Conway\, NH 03860 \nZoom ID 897-7172-0550\nPassword: District20
URL:https://nhaa.net/event/district-20-business-meeting/2026-04-14/
LOCATION:North Conway Community Center\, Norcross Circle\, North Conway\, NH\, 03860\, United States
CATEGORIES:District 20
END:VEVENT
BEGIN:VEVENT
DTSTART;TZID=America/New_York:20260414T183000
DTEND;TZID=America/New_York:20260414T193000
DTSTAMP:20260423T201333
CREATED:20250429T175037Z
LAST-MODIFIED:20250429T175037Z
UID:10001634-1776191400-1776195000@nhaa.net
SUMMARY:District 8 GSR Meeting
DESCRIPTION:Monthly meeting of General Service Representatives for District 8
URL:https://nhaa.net/event/district-8-gsr-meeting/2026-04-14/
END:VEVENT
BEGIN:VEVENT
DTSTART;TZID=America/New_York:20260414T080000
DTEND;TZID=America/New_York:20260414T170000
DTSTAMP:20260423T201333
CREATED:20260414T184152Z
LAST-MODIFIED:20260414T184152Z
UID:10004857-1776153600-1776186000@nhaa.net
SUMMARY:Area 43 DCM-Alt DCM Roundtable Topics
DESCRIPTION:Please join this round table for sharing ideas and best practices with other district chairpersons. \nEach month there will be a presentation chosen by DCMs\, followed by a Q & A. The last 30 minutes will be \na sharing session on current concerns. \nFebruary 26: Safety for In-person and Online Meetings \nMarch 26: Spirit of Rotation in Meetings and District Meetings \nApril 30: (NEW DATE) Making Technology Work for Your District \nMay 28: Tips on How to Build a District Budget \nTime: 7:00 PM to 8:00 PM \nZoom ID: 755 833 2087    Passcode: share \nhttps://zoom.us/j/7558832087?pwd=XCmbnBOr2z3ooHibtIJRZ8EcxaL6Up.1&omn=98668260160
URL:https://nhaa.net/event/area-43-dcm-alt-dcm-roundtable-topics-3/
END:VEVENT
BEGIN:VEVENT
DTSTART;TZID=America/New_York:20260413T190000
DTEND;TZID=America/New_York:20260413T200000
DTSTAMP:20260423T201333
CREATED:20260216T152754Z
LAST-MODIFIED:20260216T152754Z
UID:10002871-1776106800-1776110400@nhaa.net
SUMMARY:District 14 Business Meeting (District Meeting)
DESCRIPTION:Monthly meeting for District 14. The meeting is open to all AA members. However\, only GSRs (or Alt-GSR attending in place of the GSR) and district committee chairs can vote on district business. This is a hybrid meeting.
URL:https://nhaa.net/event/district-14-business-meeting-district-meeting/2026-04-13/
LOCATION:First Congregational Church of Hampton\, 127 Winnacunnet Rd \, Hampton\, NH\, 127 Winnacunnet Rd\, Hampton\, 03842
CATEGORIES:District 14
END:VEVENT
BEGIN:VEVENT
DTSTART;TZID=America/New_York:20260413T190000
DTEND;TZID=America/New_York:20260413T200000
DTSTAMP:20260423T201333
CREATED:20251123T184221Z
LAST-MODIFIED:20251123T184531Z
UID:10002017-1776106800-1776110400@nhaa.net
SUMMARY:Monthly Area Corrections Committee Meeting
DESCRIPTION:Second Monday of every month at 7 pm \n\nMeeting Link:\nhttps://us02web.zoom.us/j/83966234270?pwd=Zr5R4TyeZw9mSitLvGaB5qjtrPmDSi.1\n\nZoom ID: 839 6623 4270\nPassword: 394627
URL:https://nhaa.net/event/monthly-area-corrections-committee-meeting/2026-04-13/
END:VEVENT
BEGIN:VEVENT
DTSTART;TZID=America/New_York:20260412T140000
DTEND;TZID=America/New_York:20260412T150000
DTSTAMP:20260423T201333
CREATED:20260123T221223Z
LAST-MODIFIED:20260123T221344Z
UID:10002773-1776002400-1776006000@nhaa.net
SUMMARY:Monthly Area YP Committee Meeting
DESCRIPTION:Every month on the Second Sunday\n2:00 PM – 3:00 PM\, Eastern \nJoin Zoom Meeting \nMeeting ID: 874 2928 6570\nPasscode: YPAA
URL:https://nhaa.net/event/monthly-area-yp-committee-meeting/2026-04-12/
CATEGORIES:YP Committee
END:VEVENT
BEGIN:VEVENT
DTSTART;VALUE=DATE:20260411
DTEND;VALUE=DATE:20260412
DTSTAMP:20260423T201333
CREATED:20260227T015456Z
LAST-MODIFIED:20260227T015456Z
UID:10002941-1775865600-1775951999@nhaa.net
SUMMARY:Wilson House Bus Trip: April 11\, 2026
DESCRIPTION:Day long bus trip from Salem\, NH to the Wilson House\, including graveside visit and 2PM meeting at Bills House.  Sponsored by District 10.  Coach bus transportation\, water provided\, bring your own lunch.
URL:https://nhaa.net/event/wilson-house-bus-trip-april-11-2026/
LOCATION:Bill Wilsons House\, East Dorcet \, VT
CATEGORIES:Area Events,District 10
ATTACH;FMTTYPE=image/jpeg:https://nhaa.net/wp-content/uploads/Wilson-House-Bus-Trip-2026-Flyer-1.jpg
GEO:43.2399366;-73.0101622
END:VEVENT
BEGIN:VEVENT
DTSTART;TZID=America/New_York:20260408T183000
DTEND;TZID=America/New_York:20260408T193000
DTSTAMP:20260423T201333
CREATED:20250814T191738Z
LAST-MODIFIED:20251214T183921Z
UID:10002439-1775673000-1775676600@nhaa.net
SUMMARY:Area Treatment Committee
DESCRIPTION:For all Treatment Chairs and Committee Members \nJoin Zoom Meeting\nhttps://us02web.zoom.us/j/89180634104?pwd=TC9NM2xjOHlYZjRyWG5CbGo4ZVhYQT09 \nZoom ID: 891 8063 4104\nPasscode: 681306 \n 
URL:https://nhaa.net/event/area-treatment-committee-2/2026-04-08/
END:VEVENT
END:VCALENDAR