BEGIN:VCALENDAR
VERSION:2.0
PRODID:-//Alcoholics Anonymous NH - ECPv6.15.18//NONSGML v1.0//EN
CALSCALE:GREGORIAN
METHOD:PUBLISH
X-WR-CALNAME:Alcoholics Anonymous NH
X-ORIGINAL-URL:https://nhaa.net
X-WR-CALDESC:Events for Alcoholics Anonymous NH
REFRESH-INTERVAL;VALUE=DURATION:PT1H
X-Robots-Tag:noindex
X-PUBLISHED-TTL:PT1H
BEGIN:VTIMEZONE
TZID:America/New_York
BEGIN:DAYLIGHT
TZOFFSETFROM:-0500
TZOFFSETTO:-0400
TZNAME:EDT
DTSTART:20290311T070000
END:DAYLIGHT
BEGIN:STANDARD
TZOFFSETFROM:-0400
TZOFFSETTO:-0500
TZNAME:EST
DTSTART:20291104T060000
END:STANDARD
BEGIN:DAYLIGHT
TZOFFSETFROM:-0500
TZOFFSETTO:-0400
TZNAME:EDT
DTSTART:20300310T070000
END:DAYLIGHT
BEGIN:STANDARD
TZOFFSETFROM:-0400
TZOFFSETTO:-0500
TZNAME:EST
DTSTART:20301103T060000
END:STANDARD
BEGIN:DAYLIGHT
TZOFFSETFROM:-0500
TZOFFSETTO:-0400
TZNAME:EDT
DTSTART:20310309T070000
END:DAYLIGHT
BEGIN:STANDARD
TZOFFSETFROM:-0400
TZOFFSETTO:-0500
TZNAME:EST
DTSTART:20311102T060000
END:STANDARD
END:VTIMEZONE
BEGIN:VEVENT
DTSTART;TZID=America/New_York:20300312T183000
DTEND;TZID=America/New_York:20300312T193000
DTSTAMP:20260425T103843
CREATED:20250429T175037Z
LAST-MODIFIED:20250429T175037Z
UID:10001681-1899570600-1899574200@nhaa.net
SUMMARY:District 8 GSR Meeting
DESCRIPTION:Monthly meeting of General Service Representatives for District 8
URL:https://nhaa.net/event/district-8-gsr-meeting/2030-03-12/
END:VEVENT
BEGIN:VEVENT
DTSTART;TZID=America/New_York:20300317T180000
DTEND;TZID=America/New_York:20300317T200000
DTSTAMP:20260425T103843
CREATED:20251214T183430Z
LAST-MODIFIED:20251214T183430Z
UID:10002258-1900000800-1900008000@nhaa.net
SUMMARY:District 12 Committee Meeting (HYBRID)
DESCRIPTION:District 12 Committee Meeting \n6:00 pm – 8:00 pm \nSt. Raphael Church\nFerry Street Entrance \n103 Walker Street\,\nManchester\, NH 03102 \nand via ZOOM\nhttps://zoom.us/j/306311205?pwd=VnlyZG9sS3J6V2w0SzFaVGN6eWd6UT09 \nMeeting ID: 306 311 205 \nPassword is usual meeting password\nIf you need password\, email district12webmaster@gmail.com
URL:https://nhaa.net/event/district-12-committee-meeting-hybrid/2030-03-17/
LOCATION:St. Raphael’s Church\, 103 Walker St. Entrance on Third St\, Manchester\, 03103
GEO:43.088514;-70.7411859
X-APPLE-STRUCTURED-LOCATION;VALUE=URI;X-ADDRESS=St. Raphael’s Church 103 Walker St. Entrance on Third St Manchester 03103;X-APPLE-RADIUS=500;X-TITLE=103 Walker St. Entrance on Third St:geo:-70.7411859,43.088514
END:VEVENT
BEGIN:VEVENT
DTSTART;TZID=America/New_York:20300320T190000
DTEND;TZID=America/New_York:20300320T200000
DTSTAMP:20260425T103843
CREATED:20251214T183515Z
LAST-MODIFIED:20251214T183515Z
UID:10002427-1900263600-1900267200@nhaa.net
SUMMARY:District 13 Monthly GSR Meeting
DESCRIPTION:Monthly GSR Meeting
URL:https://nhaa.net/event/district-13-monthly-gsr-meeting/2030-03-20/
LOCATION:Nashua Public Library\, 2 Court Street\, Nashua\, 03060
CATEGORIES:District 13
END:VEVENT
BEGIN:VEVENT
DTSTART;TZID=America/New_York:20300326T190000
DTEND;TZID=America/New_York:20300326T203000
DTSTAMP:20260425T103843
CREATED:20260306T000509Z
LAST-MODIFIED:20260306T000509Z
UID:10002995-1900782000-1900787400@nhaa.net
SUMMARY:District 11 meeting
DESCRIPTION:District 11 monthly district meeting \nOur district meeting is hybrid\, at Sobriety Centers of New Hampshire\, 350 Court St Laconia\, and on Zoom ID 6307480407 Password: district11.  It is on the last Tuesday of each month.
URL:https://nhaa.net/event/district-11-meeting/2030-03-26/
CATEGORIES:District 11
END:VEVENT
BEGIN:VEVENT
DTSTART;TZID=America/New_York:20300401T180000
DTEND;TZID=America/New_York:20300401T190000
DTSTAMP:20260425T103843
CREATED:20250609T221440Z
LAST-MODIFIED:20250609T221440Z
UID:10001847-1901296800-1901300400@nhaa.net
SUMMARY:District 18 Committee Meeting
DESCRIPTION:6pm \nChurch of the Good Shepard \n11 Park Street\nNewport NH 03773
URL:https://nhaa.net/event/district-18-committee-meeting/2030-04-01/
END:VEVENT
BEGIN:VEVENT
DTSTART;TZID=America/New_York:20300401T190000
DTEND;TZID=America/New_York:20300401T200000
DTSTAMP:20260425T103843
CREATED:20250513T222633Z
LAST-MODIFIED:20250513T222633Z
UID:10001762-1901300400-1901304000@nhaa.net
SUMMARY:District 9 Committee Meeting
DESCRIPTION:District 9 Committee Meeting \n  \n7pm \nMarion Gerrish Community Center \n39 W Broadway\, Derry\, NH \n  \nCome join district 9 for our monthly business meeting!
URL:https://nhaa.net/event/district-9-committee-meeting/2030-04-01/
LOCATION:Marion Gerrish\, 39 West Broadway\, Derry\, NH\, 03038\, United States
GEO:42.8795405;-71.3297865
X-APPLE-STRUCTURED-LOCATION;VALUE=URI;X-ADDRESS=Marion Gerrish 39 West Broadway Derry NH 03038 United States;X-APPLE-RADIUS=500;X-TITLE=39 West Broadway:geo:-71.3297865,42.8795405
END:VEVENT
BEGIN:VEVENT
DTSTART;TZID=America/New_York:20300403T180000
DTEND;TZID=America/New_York:20300403T190000
DTSTAMP:20260425T103843
CREATED:20260102T023406Z
LAST-MODIFIED:20260102T023406Z
UID:10002619-1901469600-1901473200@nhaa.net
SUMMARY:District 19 Meeting
DESCRIPTION:This is a district meeting for District 19.
URL:https://nhaa.net/event/district-19-meeting/2030-04-03/
LOCATION:36 Carpenter Street\, KeeneNH\, YANA Center\, 36 Carpenter Street\, Keene NH\, NH\, 03431\, United States
ORGANIZER;CN="Randall H":MAILTO:randall@randallhoyt.com
END:VEVENT
BEGIN:VEVENT
DTSTART;TZID=America/New_York:20300404T190000
DTEND;TZID=America/New_York:20300404T200000
DTSTAMP:20260425T103843
CREATED:20251126T171123Z
LAST-MODIFIED:20260209T154438Z
UID:10002137-1901559600-1901563200@nhaa.net
SUMMARY:District 7 GSR Meeting
DESCRIPTION:District 7 GSR Meeting\nHYBRID every first Thursday of every month\nFor all the Officers\, Committee & GSRs\n7:00pm – 8:00pm\nBond Wellness Center\, the first room at the right \nAnd online \nID: 816 710 724 \nPW: district7 \nLocation is 452 Old Street Rd\, Peterborough  03458 \n 
URL:https://nhaa.net/event/district-7-gsr-meeting/2030-04-04/
LOCATION:452 Old Street Rd\, Peterborough\, NH 03458\, 452 Old Street Rd\, Peterborough\, NH\, 03458\, United States
CATEGORIES:District 07
END:VEVENT
BEGIN:VEVENT
DTSTART;TZID=America/New_York:20300404T190000
DTEND;TZID=America/New_York:20300404T200000
DTSTAMP:20260425T103843
CREATED:20260104T170906Z
LAST-MODIFIED:20260104T170906Z
UID:10002685-1901559600-1901563200@nhaa.net
SUMMARY:District 15 Monthly Business Meeting
DESCRIPTION:First Thursday of Every Month | 7:00 PM \nFirst United Church of Rochester\n42 South Main St.\nRochester NH \nZoom option available\nZoom Hyperlink  \nMeeting ID: 851 3244 2942\nPasscode: district15
URL:https://nhaa.net/event/district-15-monthly-business-meeting/2030-04-04/
CATEGORIES:District 15
END:VEVENT
BEGIN:VEVENT
DTSTART;TZID=America/New_York:20300408T190000
DTEND;TZID=America/New_York:20300408T200000
DTSTAMP:20260425T103843
CREATED:20260216T152754Z
LAST-MODIFIED:20260216T152754Z
UID:10002919-1901905200-1901908800@nhaa.net
SUMMARY:District 14 Business Meeting (District Meeting)
DESCRIPTION:Monthly meeting for District 14. The meeting is open to all AA members. However\, only GSRs (or Alt-GSR attending in place of the GSR) and district committee chairs can vote on district business. This is a hybrid meeting.
URL:https://nhaa.net/event/district-14-business-meeting-district-meeting/2030-04-08/
LOCATION:First Congregational Church of Hampton\, 127 Winnacunnet Rd \, Hampton\, NH\, 127 Winnacunnet Rd\, Hampton\, 03842
CATEGORIES:District 14
END:VEVENT
BEGIN:VEVENT
DTSTART;TZID=America/New_York:20300409T183000
DTEND;TZID=America/New_York:20300409T193000
DTSTAMP:20260425T103843
CREATED:20250429T175037Z
LAST-MODIFIED:20250429T175037Z
UID:10001682-1901989800-1901993400@nhaa.net
SUMMARY:District 8 GSR Meeting
DESCRIPTION:Monthly meeting of General Service Representatives for District 8
URL:https://nhaa.net/event/district-8-gsr-meeting/2030-04-09/
END:VEVENT
BEGIN:VEVENT
DTSTART;TZID=America/New_York:20300417T190000
DTEND;TZID=America/New_York:20300417T200000
DTSTAMP:20260425T103843
CREATED:20251214T183515Z
LAST-MODIFIED:20251214T183515Z
UID:10002428-1902682800-1902686400@nhaa.net
SUMMARY:District 13 Monthly GSR Meeting
DESCRIPTION:Monthly GSR Meeting
URL:https://nhaa.net/event/district-13-monthly-gsr-meeting/2030-04-17/
LOCATION:Nashua Public Library\, 2 Court Street\, Nashua\, 03060
CATEGORIES:District 13
END:VEVENT
BEGIN:VEVENT
DTSTART;TZID=America/New_York:20300421T180000
DTEND;TZID=America/New_York:20300421T200000
DTSTAMP:20260425T103843
CREATED:20251214T183430Z
LAST-MODIFIED:20251214T183430Z
UID:10002259-1903024800-1903032000@nhaa.net
SUMMARY:District 12 Committee Meeting (HYBRID)
DESCRIPTION:District 12 Committee Meeting \n6:00 pm – 8:00 pm \nSt. Raphael Church\nFerry Street Entrance \n103 Walker Street\,\nManchester\, NH 03102 \nand via ZOOM\nhttps://zoom.us/j/306311205?pwd=VnlyZG9sS3J6V2w0SzFaVGN6eWd6UT09 \nMeeting ID: 306 311 205 \nPassword is usual meeting password\nIf you need password\, email district12webmaster@gmail.com
URL:https://nhaa.net/event/district-12-committee-meeting-hybrid/2030-04-21/
LOCATION:St. Raphael’s Church\, 103 Walker St. Entrance on Third St\, Manchester\, 03103
GEO:43.088514;-70.7411859
X-APPLE-STRUCTURED-LOCATION;VALUE=URI;X-ADDRESS=St. Raphael’s Church 103 Walker St. Entrance on Third St Manchester 03103;X-APPLE-RADIUS=500;X-TITLE=103 Walker St. Entrance on Third St:geo:-70.7411859,43.088514
END:VEVENT
BEGIN:VEVENT
DTSTART;TZID=America/New_York:20300430T190000
DTEND;TZID=America/New_York:20300430T203000
DTSTAMP:20260425T103843
CREATED:20260306T000509Z
LAST-MODIFIED:20260306T000509Z
UID:10002996-1903806000-1903811400@nhaa.net
SUMMARY:District 11 meeting
DESCRIPTION:District 11 monthly district meeting \nOur district meeting is hybrid\, at Sobriety Centers of New Hampshire\, 350 Court St Laconia\, and on Zoom ID 6307480407 Password: district11.  It is on the last Tuesday of each month.
URL:https://nhaa.net/event/district-11-meeting/2030-04-30/
CATEGORIES:District 11
END:VEVENT
BEGIN:VEVENT
DTSTART;TZID=America/New_York:20300501T180000
DTEND;TZID=America/New_York:20300501T190000
DTSTAMP:20260425T103843
CREATED:20260102T023406Z
LAST-MODIFIED:20260102T023406Z
UID:10002620-1903888800-1903892400@nhaa.net
SUMMARY:District 19 Meeting
DESCRIPTION:This is a district meeting for District 19.
URL:https://nhaa.net/event/district-19-meeting/2030-05-01/
LOCATION:36 Carpenter Street\, KeeneNH\, YANA Center\, 36 Carpenter Street\, Keene NH\, NH\, 03431\, United States
ORGANIZER;CN="Randall H":MAILTO:randall@randallhoyt.com
END:VEVENT
BEGIN:VEVENT
DTSTART;TZID=America/New_York:20300502T190000
DTEND;TZID=America/New_York:20300502T200000
DTSTAMP:20260425T103843
CREATED:20251126T171123Z
LAST-MODIFIED:20260209T154438Z
UID:10002138-1903978800-1903982400@nhaa.net
SUMMARY:District 7 GSR Meeting
DESCRIPTION:District 7 GSR Meeting\nHYBRID every first Thursday of every month\nFor all the Officers\, Committee & GSRs\n7:00pm – 8:00pm\nBond Wellness Center\, the first room at the right \nAnd online \nID: 816 710 724 \nPW: district7 \nLocation is 452 Old Street Rd\, Peterborough  03458 \n 
URL:https://nhaa.net/event/district-7-gsr-meeting/2030-05-02/
LOCATION:452 Old Street Rd\, Peterborough\, NH 03458\, 452 Old Street Rd\, Peterborough\, NH\, 03458\, United States
CATEGORIES:District 07
END:VEVENT
BEGIN:VEVENT
DTSTART;TZID=America/New_York:20300502T190000
DTEND;TZID=America/New_York:20300502T200000
DTSTAMP:20260425T103843
CREATED:20260104T170906Z
LAST-MODIFIED:20260104T170906Z
UID:10002686-1903978800-1903982400@nhaa.net
SUMMARY:District 15 Monthly Business Meeting
DESCRIPTION:First Thursday of Every Month | 7:00 PM \nFirst United Church of Rochester\n42 South Main St.\nRochester NH \nZoom option available\nZoom Hyperlink  \nMeeting ID: 851 3244 2942\nPasscode: district15
URL:https://nhaa.net/event/district-15-monthly-business-meeting/2030-05-02/
CATEGORIES:District 15
END:VEVENT
BEGIN:VEVENT
DTSTART;TZID=America/New_York:20300506T180000
DTEND;TZID=America/New_York:20300506T190000
DTSTAMP:20260425T103843
CREATED:20250609T221440Z
LAST-MODIFIED:20250609T221440Z
UID:10001848-1904320800-1904324400@nhaa.net
SUMMARY:District 18 Committee Meeting
DESCRIPTION:6pm \nChurch of the Good Shepard \n11 Park Street\nNewport NH 03773
URL:https://nhaa.net/event/district-18-committee-meeting/2030-05-06/
END:VEVENT
BEGIN:VEVENT
DTSTART;TZID=America/New_York:20300506T190000
DTEND;TZID=America/New_York:20300506T200000
DTSTAMP:20260425T103843
CREATED:20250513T222633Z
LAST-MODIFIED:20250513T222633Z
UID:10001763-1904324400-1904328000@nhaa.net
SUMMARY:District 9 Committee Meeting
DESCRIPTION:District 9 Committee Meeting \n  \n7pm \nMarion Gerrish Community Center \n39 W Broadway\, Derry\, NH \n  \nCome join district 9 for our monthly business meeting!
URL:https://nhaa.net/event/district-9-committee-meeting/2030-05-06/
LOCATION:Marion Gerrish\, 39 West Broadway\, Derry\, NH\, 03038\, United States
GEO:42.8795405;-71.3297865
X-APPLE-STRUCTURED-LOCATION;VALUE=URI;X-ADDRESS=Marion Gerrish 39 West Broadway Derry NH 03038 United States;X-APPLE-RADIUS=500;X-TITLE=39 West Broadway:geo:-71.3297865,42.8795405
END:VEVENT
BEGIN:VEVENT
DTSTART;TZID=America/New_York:20300513T190000
DTEND;TZID=America/New_York:20300513T200000
DTSTAMP:20260425T103843
CREATED:20260216T152754Z
LAST-MODIFIED:20260216T152754Z
UID:10002920-1904929200-1904932800@nhaa.net
SUMMARY:District 14 Business Meeting (District Meeting)
DESCRIPTION:Monthly meeting for District 14. The meeting is open to all AA members. However\, only GSRs (or Alt-GSR attending in place of the GSR) and district committee chairs can vote on district business. This is a hybrid meeting.
URL:https://nhaa.net/event/district-14-business-meeting-district-meeting/2030-05-13/
LOCATION:First Congregational Church of Hampton\, 127 Winnacunnet Rd \, Hampton\, NH\, 127 Winnacunnet Rd\, Hampton\, 03842
CATEGORIES:District 14
END:VEVENT
BEGIN:VEVENT
DTSTART;TZID=America/New_York:20300515T190000
DTEND;TZID=America/New_York:20300515T200000
DTSTAMP:20260425T103843
CREATED:20251214T183515Z
LAST-MODIFIED:20251214T183515Z
UID:10002429-1905102000-1905105600@nhaa.net
SUMMARY:District 13 Monthly GSR Meeting
DESCRIPTION:Monthly GSR Meeting
URL:https://nhaa.net/event/district-13-monthly-gsr-meeting/2030-05-15/
LOCATION:Nashua Public Library\, 2 Court Street\, Nashua\, 03060
CATEGORIES:District 13
END:VEVENT
BEGIN:VEVENT
DTSTART;TZID=America/New_York:20300519T180000
DTEND;TZID=America/New_York:20300519T200000
DTSTAMP:20260425T103843
CREATED:20251214T183430Z
LAST-MODIFIED:20251214T183430Z
UID:10002260-1905444000-1905451200@nhaa.net
SUMMARY:District 12 Committee Meeting (HYBRID)
DESCRIPTION:District 12 Committee Meeting \n6:00 pm – 8:00 pm \nSt. Raphael Church\nFerry Street Entrance \n103 Walker Street\,\nManchester\, NH 03102 \nand via ZOOM\nhttps://zoom.us/j/306311205?pwd=VnlyZG9sS3J6V2w0SzFaVGN6eWd6UT09 \nMeeting ID: 306 311 205 \nPassword is usual meeting password\nIf you need password\, email district12webmaster@gmail.com
URL:https://nhaa.net/event/district-12-committee-meeting-hybrid/2030-05-19/
LOCATION:St. Raphael’s Church\, 103 Walker St. Entrance on Third St\, Manchester\, 03103
GEO:43.088514;-70.7411859
X-APPLE-STRUCTURED-LOCATION;VALUE=URI;X-ADDRESS=St. Raphael’s Church 103 Walker St. Entrance on Third St Manchester 03103;X-APPLE-RADIUS=500;X-TITLE=103 Walker St. Entrance on Third St:geo:-70.7411859,43.088514
END:VEVENT
BEGIN:VEVENT
DTSTART;TZID=America/New_York:20300528T190000
DTEND;TZID=America/New_York:20300528T203000
DTSTAMP:20260425T103843
CREATED:20260306T000509Z
LAST-MODIFIED:20260306T000509Z
UID:10002997-1906225200-1906230600@nhaa.net
SUMMARY:District 11 meeting
DESCRIPTION:District 11 monthly district meeting \nOur district meeting is hybrid\, at Sobriety Centers of New Hampshire\, 350 Court St Laconia\, and on Zoom ID 6307480407 Password: district11.  It is on the last Tuesday of each month.
URL:https://nhaa.net/event/district-11-meeting/2030-05-28/
CATEGORIES:District 11
END:VEVENT
BEGIN:VEVENT
DTSTART;TZID=America/New_York:20300603T180000
DTEND;TZID=America/New_York:20300603T190000
DTSTAMP:20260425T103843
CREATED:20250609T221440Z
LAST-MODIFIED:20250609T221440Z
UID:10001849-1906740000-1906743600@nhaa.net
SUMMARY:District 18 Committee Meeting
DESCRIPTION:6pm \nChurch of the Good Shepard \n11 Park Street\nNewport NH 03773
URL:https://nhaa.net/event/district-18-committee-meeting/2030-06-03/
END:VEVENT
BEGIN:VEVENT
DTSTART;TZID=America/New_York:20300605T180000
DTEND;TZID=America/New_York:20300605T190000
DTSTAMP:20260425T103843
CREATED:20260102T023406Z
LAST-MODIFIED:20260102T023406Z
UID:10002621-1906912800-1906916400@nhaa.net
SUMMARY:District 19 Meeting
DESCRIPTION:This is a district meeting for District 19.
URL:https://nhaa.net/event/district-19-meeting/2030-06-05/
LOCATION:36 Carpenter Street\, KeeneNH\, YANA Center\, 36 Carpenter Street\, Keene NH\, NH\, 03431\, United States
ORGANIZER;CN="Randall H":MAILTO:randall@randallhoyt.com
END:VEVENT
BEGIN:VEVENT
DTSTART;TZID=America/New_York:20300606T190000
DTEND;TZID=America/New_York:20300606T200000
DTSTAMP:20260425T103843
CREATED:20251126T171123Z
LAST-MODIFIED:20260209T154438Z
UID:10002139-1907002800-1907006400@nhaa.net
SUMMARY:District 7 GSR Meeting
DESCRIPTION:District 7 GSR Meeting\nHYBRID every first Thursday of every month\nFor all the Officers\, Committee & GSRs\n7:00pm – 8:00pm\nBond Wellness Center\, the first room at the right \nAnd online \nID: 816 710 724 \nPW: district7 \nLocation is 452 Old Street Rd\, Peterborough  03458 \n 
URL:https://nhaa.net/event/district-7-gsr-meeting/2030-06-06/
LOCATION:452 Old Street Rd\, Peterborough\, NH 03458\, 452 Old Street Rd\, Peterborough\, NH\, 03458\, United States
CATEGORIES:District 07
END:VEVENT
BEGIN:VEVENT
DTSTART;TZID=America/New_York:20300606T190000
DTEND;TZID=America/New_York:20300606T200000
DTSTAMP:20260425T103843
CREATED:20260104T170906Z
LAST-MODIFIED:20260104T170906Z
UID:10002687-1907002800-1907006400@nhaa.net
SUMMARY:District 15 Monthly Business Meeting
DESCRIPTION:First Thursday of Every Month | 7:00 PM \nFirst United Church of Rochester\n42 South Main St.\nRochester NH \nZoom option available\nZoom Hyperlink  \nMeeting ID: 851 3244 2942\nPasscode: district15
URL:https://nhaa.net/event/district-15-monthly-business-meeting/2030-06-06/
CATEGORIES:District 15
END:VEVENT
BEGIN:VEVENT
DTSTART;TZID=America/New_York:20300610T190000
DTEND;TZID=America/New_York:20300610T200000
DTSTAMP:20260425T103843
CREATED:20260216T152754Z
LAST-MODIFIED:20260216T152754Z
UID:10002921-1907348400-1907352000@nhaa.net
SUMMARY:District 14 Business Meeting (District Meeting)
DESCRIPTION:Monthly meeting for District 14. The meeting is open to all AA members. However\, only GSRs (or Alt-GSR attending in place of the GSR) and district committee chairs can vote on district business. This is a hybrid meeting.
URL:https://nhaa.net/event/district-14-business-meeting-district-meeting/2030-06-10/
LOCATION:First Congregational Church of Hampton\, 127 Winnacunnet Rd \, Hampton\, NH\, 127 Winnacunnet Rd\, Hampton\, 03842
CATEGORIES:District 14
END:VEVENT
BEGIN:VEVENT
DTSTART;TZID=America/New_York:20300616T180000
DTEND;TZID=America/New_York:20300616T200000
DTSTAMP:20260425T103843
CREATED:20251214T183430Z
LAST-MODIFIED:20251214T183430Z
UID:10002261-1907863200-1907870400@nhaa.net
SUMMARY:District 12 Committee Meeting (HYBRID)
DESCRIPTION:District 12 Committee Meeting \n6:00 pm – 8:00 pm \nSt. Raphael Church\nFerry Street Entrance \n103 Walker Street\,\nManchester\, NH 03102 \nand via ZOOM\nhttps://zoom.us/j/306311205?pwd=VnlyZG9sS3J6V2w0SzFaVGN6eWd6UT09 \nMeeting ID: 306 311 205 \nPassword is usual meeting password\nIf you need password\, email district12webmaster@gmail.com
URL:https://nhaa.net/event/district-12-committee-meeting-hybrid/2030-06-16/
LOCATION:St. Raphael’s Church\, 103 Walker St. Entrance on Third St\, Manchester\, 03103
GEO:43.088514;-70.7411859
X-APPLE-STRUCTURED-LOCATION;VALUE=URI;X-ADDRESS=St. Raphael’s Church 103 Walker St. Entrance on Third St Manchester 03103;X-APPLE-RADIUS=500;X-TITLE=103 Walker St. Entrance on Third St:geo:-70.7411859,43.088514
END:VEVENT
BEGIN:VEVENT
DTSTART;TZID=America/New_York:20300619T190000
DTEND;TZID=America/New_York:20300619T200000
DTSTAMP:20260425T103843
CREATED:20251214T183515Z
LAST-MODIFIED:20251214T183515Z
UID:10002430-1908126000-1908129600@nhaa.net
SUMMARY:District 13 Monthly GSR Meeting
DESCRIPTION:Monthly GSR Meeting
URL:https://nhaa.net/event/district-13-monthly-gsr-meeting/2030-06-19/
LOCATION:Nashua Public Library\, 2 Court Street\, Nashua\, 03060
CATEGORIES:District 13
END:VEVENT
END:VCALENDAR