BEGIN:VCALENDAR
VERSION:2.0
PRODID:-//Alcoholics Anonymous NH - ECPv6.15.18//NONSGML v1.0//EN
CALSCALE:GREGORIAN
METHOD:PUBLISH
X-WR-CALNAME:Alcoholics Anonymous NH
X-ORIGINAL-URL:https://nhaa.net
X-WR-CALDESC:Events for Alcoholics Anonymous NH
REFRESH-INTERVAL;VALUE=DURATION:PT1H
X-Robots-Tag:noindex
X-PUBLISHED-TTL:PT1H
BEGIN:VTIMEZONE
TZID:America/New_York
BEGIN:DAYLIGHT
TZOFFSETFROM:-0500
TZOFFSETTO:-0400
TZNAME:EDT
DTSTART:20250309T070000
END:DAYLIGHT
BEGIN:STANDARD
TZOFFSETFROM:-0400
TZOFFSETTO:-0500
TZNAME:EST
DTSTART:20251102T060000
END:STANDARD
BEGIN:DAYLIGHT
TZOFFSETFROM:-0500
TZOFFSETTO:-0400
TZNAME:EDT
DTSTART:20260308T070000
END:DAYLIGHT
BEGIN:STANDARD
TZOFFSETFROM:-0400
TZOFFSETTO:-0500
TZNAME:EST
DTSTART:20261101T060000
END:STANDARD
BEGIN:DAYLIGHT
TZOFFSETFROM:-0500
TZOFFSETTO:-0400
TZNAME:EDT
DTSTART:20270314T070000
END:DAYLIGHT
BEGIN:STANDARD
TZOFFSETFROM:-0400
TZOFFSETTO:-0500
TZNAME:EST
DTSTART:20271107T060000
END:STANDARD
END:VTIMEZONE
BEGIN:VEVENT
DTSTART;TZID=America/New_York:20260608T190000
DTEND;TZID=America/New_York:20260608T200000
DTSTAMP:20260423T183250
CREATED:20251123T184221Z
LAST-MODIFIED:20251123T184531Z
UID:10002019-1780945200-1780948800@nhaa.net
SUMMARY:Monthly Area Corrections Committee Meeting
DESCRIPTION:Second Monday of every month at 7 pm \n\nMeeting Link:\nhttps://us02web.zoom.us/j/83966234270?pwd=Zr5R4TyeZw9mSitLvGaB5qjtrPmDSi.1\n\nZoom ID: 839 6623 4270\nPassword: 394627
URL:https://nhaa.net/event/monthly-area-corrections-committee-meeting/2026-06-08/
LOCATION:NH
END:VEVENT
BEGIN:VEVENT
DTSTART;TZID=America/New_York:20260604T190000
DTEND;TZID=America/New_York:20260604T200000
DTSTAMP:20260423T183250
CREATED:20260104T170906Z
LAST-MODIFIED:20260104T170906Z
UID:10002639-1780599600-1780603200@nhaa.net
SUMMARY:District 15 Monthly Business Meeting
DESCRIPTION:First Thursday of Every Month | 7:00 PM \nFirst United Church of Rochester\n42 South Main St.\nRochester NH \nZoom option available\nZoom Hyperlink  \nMeeting ID: 851 3244 2942\nPasscode: district15
URL:https://nhaa.net/event/district-15-monthly-business-meeting/2026-06-04/
LOCATION:NH
CATEGORIES:District 15
END:VEVENT
BEGIN:VEVENT
DTSTART;TZID=America/New_York:20260604T190000
DTEND;TZID=America/New_York:20260604T200000
DTSTAMP:20260423T183250
CREATED:20251126T171123Z
LAST-MODIFIED:20260209T154438Z
UID:10002091-1780599600-1780603200@nhaa.net
SUMMARY:District 7 GSR Meeting
DESCRIPTION:District 7 GSR Meeting\nHYBRID every first Thursday of every month\nFor all the Officers\, Committee & GSRs\n7:00pm – 8:00pm\nBond Wellness Center\, the first room at the right \nAnd online \nID: 816 710 724 \nPW: district7 \nLocation is 452 Old Street Rd\, Peterborough  03458 \n 
URL:https://nhaa.net/event/district-7-gsr-meeting/2026-06-04/
LOCATION:452 Old Street Rd\, Peterborough\, NH 03458\, 452 Old Street Rd\, Peterborough\, NH\, 03458\, United States
CATEGORIES:District 07
END:VEVENT
BEGIN:VEVENT
DTSTART;TZID=America/New_York:20260603T180000
DTEND;TZID=America/New_York:20260603T190000
DTSTAMP:20260423T183250
CREATED:20260102T023406Z
LAST-MODIFIED:20260102T023406Z
UID:10002573-1780509600-1780513200@nhaa.net
SUMMARY:District 19 Meeting
DESCRIPTION:This is a district meeting for District 19.
URL:https://nhaa.net/event/district-19-meeting/2026-06-03/
LOCATION:36 Carpenter Street\, KeeneNH\, YANA Center\, 36 Carpenter Street\, Keene NH\, NH\, 03431\, United States
ORGANIZER;CN="Randall H":MAILTO:randall@randallhoyt.com
END:VEVENT
BEGIN:VEVENT
DTSTART;TZID=America/New_York:20260603T180000
DTEND;TZID=America/New_York:20260603T190000
DTSTAMP:20260423T183250
CREATED:20240518T164703Z
LAST-MODIFIED:20251123T190924Z
UID:10002043-1780509600-1780513200@nhaa.net
SUMMARY:Area Functions Committee
DESCRIPTION:Meets on the First Wednesday of the Month on Zoom \nJoin Meeting Here: https://us02web.zoom.us/j/88155905842?pwd=TDdrR1NTVXFOc0pSVHllSWNNait6dz09 \nID: 881 5590 5842\nPW: functions
URL:https://nhaa.net/event/area-functions-committee/2026-06-03/
LOCATION:NH
END:VEVENT
BEGIN:VEVENT
DTSTART;TZID=America/New_York:20260601T190000
DTEND;TZID=America/New_York:20260601T200000
DTSTAMP:20260423T183250
CREATED:20250513T222633Z
LAST-MODIFIED:20250513T222633Z
UID:10001716-1780340400-1780344000@nhaa.net
SUMMARY:District 9 Committee Meeting
DESCRIPTION:District 9 Committee Meeting \n  \n7pm \nMarion Gerrish Community Center \n39 W Broadway\, Derry\, NH \n  \nCome join district 9 for our monthly business meeting!
URL:https://nhaa.net/event/district-9-committee-meeting/2026-06-01/
LOCATION:Marion Gerrish\, 39 West Broadway\, Derry\, NH\, 03038\, United States
GEO:42.8795405;-71.3297865
X-APPLE-STRUCTURED-LOCATION;VALUE=URI;X-ADDRESS=Marion Gerrish 39 West Broadway Derry NH 03038 United States;X-APPLE-RADIUS=500;X-TITLE=39 West Broadway:geo:-71.3297865,42.8795405
END:VEVENT
BEGIN:VEVENT
DTSTART;TZID=America/New_York:20260601T180000
DTEND;TZID=America/New_York:20260601T190000
DTSTAMP:20260423T183250
CREATED:20250609T221440Z
LAST-MODIFIED:20250609T221440Z
UID:10001801-1780336800-1780340400@nhaa.net
SUMMARY:District 18 Committee Meeting
DESCRIPTION:6pm \nChurch of the Good Shepard \n11 Park Street\nNewport NH 03773
URL:https://nhaa.net/event/district-18-committee-meeting/2026-06-01/
LOCATION:NH
END:VEVENT
BEGIN:VEVENT
DTSTART;TZID=America/New_York:20260530T083000
DTEND;TZID=America/New_York:20260530T093000
DTSTAMP:20260423T183250
CREATED:20260423T161259Z
LAST-MODIFIED:20260423T161259Z
UID:10004862-1780129800-1780133400@nhaa.net
SUMMARY:GSR School - May 30\, 2026
DESCRIPTION:GSR School Presentation will be at the Area 43 Post Conference Assembly on 5/30/2026. \nPlease join us in person or on line!
URL:https://nhaa.net/event/gsr-school-may-30-2026/
LOCATION:Orchard Christian Fellowship\, 136 Pillsbury Road\, Londonderry\, NH\, 03053\, United States
ATTACH;FMTTYPE=image/png:https://nhaa.net/wp-content/uploads/2026-May-GSR-School-Flyer.png
ORGANIZER;CN="Judy R. - Alt Chair":MAILTO:altchairperson@nhaa.net
END:VEVENT
BEGIN:VEVENT
DTSTART;TZID=America/New_York:20260530T080000
DTEND;TZID=America/New_York:20260530T160000
DTSTAMP:20260423T183250
CREATED:20250517T151706Z
LAST-MODIFIED:20260421T161601Z
UID:10001775-1780128000-1780156800@nhaa.net
SUMMARY:2026 Area 43 Post-Conference Assembly
DESCRIPTION:Hybrid assembly including Delegate sharing of the 76th General Service Conference\, followed by Area 43 Business meeting on Saturday May 30\, 2026. \nLocation is the: \nOrchard Christian Fellowship\n136 Pillsbury Road\nLondonderry\, NH 03503\nHear a report from your Delegate regarding the 2026 General Service Conference. These decisions shape our future\, so join us to hear this information firsthand! \nAll members of Area 43 are encouraged to attend. Join us to learn about the future of AA! \nHYBRID OPTION:\nZoom ID: 228 681 5454\nPassword: Area43 \nJoin Zoom Meeting\nhttps://us02web.zoom.us/j/2286815454?pwd=RktJbVI5R3NRa3BzRzIyTEkvSTVWQT09
URL:https://nhaa.net/event/2026-area-43-post-conference-assembly/
LOCATION:NH
END:VEVENT
BEGIN:VEVENT
DTSTART;TZID=America/New_York:20260528T080000
DTEND;TZID=America/New_York:20260528T170000
DTSTAMP:20260423T183250
CREATED:20260414T184303Z
LAST-MODIFIED:20260414T184309Z
UID:10004858-1779955200-1779987600@nhaa.net
SUMMARY:Area 43 DCM-Alt DCM Roundtable Topics
DESCRIPTION:Please join this round table for sharing ideas and best practices with other district chairpersons. \nEach month there will be a presentation chosen by DCMs\, followed by a Q & A. The last 30 minutes will be \na sharing session on current concerns. \nFebruary 26: Safety for In-person and Online Meetings \nMarch 26: Spirit of Rotation in Meetings and District Meetings \nApril 30: (NEW DATE) Making Technology Work for Your District \nMay 28: Tips on How to Build a District Budget \nTime: 7:00 PM to 8:00 PM \nZoom ID: 755 833 2087    Passcode: share \nhttps://zoom.us/j/7558832087?pwd=XCmbnBOr2z3ooHibtIJRZ8EcxaL6Up.1&omn=98668260160
URL:https://nhaa.net/event/area-43-dcm-alt-dcm-roundtable-topics-4/
LOCATION:NH
END:VEVENT
BEGIN:VEVENT
DTSTART;TZID=America/New_York:20260526T190000
DTEND;TZID=America/New_York:20260526T203000
DTSTAMP:20260423T183250
CREATED:20260306T000509Z
LAST-MODIFIED:20260306T000509Z
UID:10002949-1779822000-1779827400@nhaa.net
SUMMARY:District 11 meeting
DESCRIPTION:District 11 monthly district meeting \nOur district meeting is hybrid\, at Sobriety Centers of New Hampshire\, 350 Court St Laconia\, and on Zoom ID 6307480407 Password: district11.  It is on the last Tuesday of each month.
URL:https://nhaa.net/event/district-11-meeting/2026-05-26/
LOCATION:NH
CATEGORIES:District 11
END:VEVENT
BEGIN:VEVENT
DTSTART;TZID=America/New_York:20260526T190000
DTEND;TZID=America/New_York:20260526T200000
DTSTAMP:20260423T183250
CREATED:20260120T012329Z
LAST-MODIFIED:20260120T012329Z
UID:10002725-1779822000-1779825600@nhaa.net
SUMMARY:Area 43 Technology Monthly Committee Meeting
DESCRIPTION:The Area Technology Committee meets on the last Tuesday of every month at 7:00 pm \nJoin Zoom Meeting \nMeeting ID: 897 5859 4203\nPasscode: Tech
URL:https://nhaa.net/event/area-43-technology-monthly-committee-meeting/2026-05-26/
LOCATION:NH
END:VEVENT
BEGIN:VEVENT
DTSTART;TZID=America/New_York:20260520T190000
DTEND;TZID=America/New_York:20260520T200000
DTSTAMP:20260423T183250
CREATED:20260309T010620Z
LAST-MODIFIED:20260309T010620Z
UID:10003010-1779303600-1779307200@nhaa.net
SUMMARY:Monthly Area 43 Accessibilities Committee Meeting
DESCRIPTION:Meets on the 3rd Wednesday of every month at 7:00 pm. \nJoin Zoom Meeting \nMeeting ID: 863 6030 9292\nPasscode: 061131 \nContact accessibility@nhaa.net for more information.
URL:https://nhaa.net/event/monthly-area-43-accessibilities-committee-meeting/2026-05-20/
LOCATION:NH
END:VEVENT
BEGIN:VEVENT
DTSTART;TZID=America/New_York:20260520T190000
DTEND;TZID=America/New_York:20260520T200000
DTSTAMP:20260423T183250
CREATED:20251214T183515Z
LAST-MODIFIED:20251214T183515Z
UID:10002381-1779303600-1779307200@nhaa.net
SUMMARY:District 13 Monthly GSR Meeting
DESCRIPTION:Monthly GSR Meeting
URL:https://nhaa.net/event/district-13-monthly-gsr-meeting/2026-05-20/
LOCATION:Nashua Public Library\, 2 Court Street\, Nashua\, 03060
CATEGORIES:District 13
END:VEVENT
BEGIN:VEVENT
DTSTART;TZID=America/New_York:20260519T183000
DTEND;TZID=America/New_York:20260519T200000
DTSTAMP:20260423T183250
CREATED:20251227T191948Z
LAST-MODIFIED:20260208T205139Z
UID:10002493-1779215400-1779220800@nhaa.net
SUMMARY:Area 43 Monthly Service Office Committee and Finance Committee Meeting
DESCRIPTION:Monthly Hybrid format meeting of the Service Office Committee at 6:30pm\, followed by the Finance Committee at 7pm. \nHeld in person at the Area 43 Service Office at 2 1/2 Beacon St Suite 163\, Concord\, NH 03301 \nJoin Zoom \nZoom ID: 856 8781 8011\nPW Area43
URL:https://nhaa.net/event/area-43-monthly-service-office-committee-and-finance-committee-meeting/2026-05-19/
LOCATION:Hybrid
CATEGORIES:Area Service Office Committee (SOC)
END:VEVENT
BEGIN:VEVENT
DTSTART;TZID=America/New_York:20260518T190000
DTEND;TZID=America/New_York:20260518T200000
DTSTAMP:20260423T183250
CREATED:20230309T170803Z
LAST-MODIFIED:20251123T193004Z
UID:10002066-1779130800-1779134400@nhaa.net
SUMMARY:Area 43 PI/CPC Committee Meeting
DESCRIPTION:Monthly PI/CPC Committee meeting on Zoom \nJoin the Zoom Meeting \nMeeting ID: 898 3596 0719\nPassword: picpc
URL:https://nhaa.net/event/area-pi-cpc-meeting/2026-05-18/
LOCATION:Zoom Meeting Area 43 Host
END:VEVENT
BEGIN:VEVENT
DTSTART;TZID=America/New_York:20260517T180000
DTEND;TZID=America/New_York:20260517T200000
DTSTAMP:20260423T183250
CREATED:20251214T183430Z
LAST-MODIFIED:20251214T183430Z
UID:10002212-1779040800-1779048000@nhaa.net
SUMMARY:District 12 Committee Meeting (HYBRID)
DESCRIPTION:District 12 Committee Meeting \n6:00 pm – 8:00 pm \nSt. Raphael Church\nFerry Street Entrance \n103 Walker Street\,\nManchester\, NH 03102 \nand via ZOOM\nhttps://zoom.us/j/306311205?pwd=VnlyZG9sS3J6V2w0SzFaVGN6eWd6UT09 \nMeeting ID: 306 311 205 \nPassword is usual meeting password\nIf you need password\, email district12webmaster@gmail.com
URL:https://nhaa.net/event/district-12-committee-meeting-hybrid/2026-05-17/
LOCATION:St. Raphael’s Church\, 103 Walker St. Entrance on Third St\, Manchester\, 03103
GEO:43.088514;-70.7411859
X-APPLE-STRUCTURED-LOCATION;VALUE=URI;X-ADDRESS=St. Raphael’s Church 103 Walker St. Entrance on Third St Manchester 03103;X-APPLE-RADIUS=500;X-TITLE=103 Walker St. Entrance on Third St:geo:-70.7411859,43.088514
END:VEVENT
BEGIN:VEVENT
DTSTART;TZID=America/New_York:20260513T183000
DTEND;TZID=America/New_York:20260513T193000
DTSTAMP:20260423T183250
CREATED:20250814T191738Z
LAST-MODIFIED:20251214T183921Z
UID:10002440-1778697000-1778700600@nhaa.net
SUMMARY:Area Treatment Committee
DESCRIPTION:For all Treatment Chairs and Committee Members \nJoin Zoom Meeting\nhttps://us02web.zoom.us/j/89180634104?pwd=TC9NM2xjOHlYZjRyWG5CbGo4ZVhYQT09 \nZoom ID: 891 8063 4104\nPasscode: 681306 \n 
URL:https://nhaa.net/event/area-treatment-committee-2/2026-05-13/
LOCATION:NH
END:VEVENT
BEGIN:VEVENT
DTSTART;TZID=America/New_York:20260512T183000
DTEND;TZID=America/New_York:20260512T193000
DTSTAMP:20260423T183250
CREATED:20260327T014649Z
LAST-MODIFIED:20260327T014649Z
UID:10004837-1778610600-1778614200@nhaa.net
SUMMARY:District 20 Business Meeting
DESCRIPTION:Time: 6:30 PM-7:30 PM | North Conway Community Center\, \n78 Norcross Cir\, North Conway\, NH 03860 \nZoom ID 897-7172-0550\nPassword: District20
URL:https://nhaa.net/event/district-20-business-meeting/2026-05-12/
LOCATION:North Conway Community Center\, Norcross Circle\, North Conway\, NH\, 03860\, United States
CATEGORIES:District 20
END:VEVENT
BEGIN:VEVENT
DTSTART;TZID=America/New_York:20260512T183000
DTEND;TZID=America/New_York:20260512T193000
DTSTAMP:20260423T183250
CREATED:20250429T175037Z
LAST-MODIFIED:20250429T175037Z
UID:10001635-1778610600-1778614200@nhaa.net
SUMMARY:District 8 GSR Meeting
DESCRIPTION:Monthly meeting of General Service Representatives for District 8
URL:https://nhaa.net/event/district-8-gsr-meeting/2026-05-12/
LOCATION:NH
END:VEVENT
BEGIN:VEVENT
DTSTART;TZID=America/New_York:20260511T190000
DTEND;TZID=America/New_York:20260511T200000
DTSTAMP:20260423T183250
CREATED:20260216T152754Z
LAST-MODIFIED:20260216T152754Z
UID:10002872-1778526000-1778529600@nhaa.net
SUMMARY:District 14 Business Meeting (District Meeting)
DESCRIPTION:Monthly meeting for District 14. The meeting is open to all AA members. However\, only GSRs (or Alt-GSR attending in place of the GSR) and district committee chairs can vote on district business. This is a hybrid meeting.
URL:https://nhaa.net/event/district-14-business-meeting-district-meeting/2026-05-11/
LOCATION:First Congregational Church of Hampton\, 127 Winnacunnet Rd \, Hampton\, NH\, 127 Winnacunnet Rd\, Hampton\, 03842
CATEGORIES:District 14
END:VEVENT
BEGIN:VEVENT
DTSTART;TZID=America/New_York:20260511T190000
DTEND;TZID=America/New_York:20260511T200000
DTSTAMP:20260423T183250
CREATED:20251123T184221Z
LAST-MODIFIED:20251123T184531Z
UID:10002018-1778526000-1778529600@nhaa.net
SUMMARY:Monthly Area Corrections Committee Meeting
DESCRIPTION:Second Monday of every month at 7 pm \n\nMeeting Link:\nhttps://us02web.zoom.us/j/83966234270?pwd=Zr5R4TyeZw9mSitLvGaB5qjtrPmDSi.1\n\nZoom ID: 839 6623 4270\nPassword: 394627
URL:https://nhaa.net/event/monthly-area-corrections-committee-meeting/2026-05-11/
LOCATION:NH
END:VEVENT
BEGIN:VEVENT
DTSTART;TZID=America/New_York:20260510T140000
DTEND;TZID=America/New_York:20260510T150000
DTSTAMP:20260423T183250
CREATED:20260123T221223Z
LAST-MODIFIED:20260123T221344Z
UID:10002774-1778421600-1778425200@nhaa.net
SUMMARY:Monthly Area YP Committee Meeting
DESCRIPTION:Every month on the Second Sunday\n2:00 PM – 3:00 PM\, Eastern \nJoin Zoom Meeting \nMeeting ID: 874 2928 6570\nPasscode: YPAA
URL:https://nhaa.net/event/monthly-area-yp-committee-meeting/2026-05-10/
LOCATION:NH
CATEGORIES:YP Committee
END:VEVENT
BEGIN:VEVENT
DTSTART;TZID=America/New_York:20260509T180000
DTEND;TZID=America/New_York:20260509T220000
DTSTAMP:20260423T183250
CREATED:20260329T153451Z
LAST-MODIFIED:20260329T153451Z
UID:10004847-1778349600-1778364000@nhaa.net
SUMMARY:District 12 Spring Fling
DESCRIPTION:Come join District 12 for food\, dancing\, games\, fun and fellowship.
URL:https://nhaa.net/event/district-12-spring-fling/
LOCATION:St. Raphael’s Church\, 103 Walker St. Entrance on Third St\, Manchester\, 03103
CATEGORIES:District 12
ATTACH;FMTTYPE=image/jpeg:https://nhaa.net/wp-content/uploads/1000015645.jpg
ORGANIZER;CN="District 12 Functions":MAILTO:district12functions@gmail.com
GEO:43.088514;-70.7411859
X-APPLE-STRUCTURED-LOCATION;VALUE=URI;X-ADDRESS=St. Raphael’s Church 103 Walker St. Entrance on Third St Manchester 03103;X-APPLE-RADIUS=500;X-TITLE=103 Walker St. Entrance on Third St:geo:-70.7411859,43.088514
END:VEVENT
BEGIN:VEVENT
DTSTART;TZID=America/New_York:20260507T190000
DTEND;TZID=America/New_York:20260507T200000
DTSTAMP:20260423T183250
CREATED:20260104T170906Z
LAST-MODIFIED:20260104T170906Z
UID:10002638-1778180400-1778184000@nhaa.net
SUMMARY:District 15 Monthly Business Meeting
DESCRIPTION:First Thursday of Every Month | 7:00 PM \nFirst United Church of Rochester\n42 South Main St.\nRochester NH \nZoom option available\nZoom Hyperlink  \nMeeting ID: 851 3244 2942\nPasscode: district15
URL:https://nhaa.net/event/district-15-monthly-business-meeting/2026-05-07/
LOCATION:NH
CATEGORIES:District 15
END:VEVENT
BEGIN:VEVENT
DTSTART;TZID=America/New_York:20260507T190000
DTEND;TZID=America/New_York:20260507T200000
DTSTAMP:20260423T183250
CREATED:20251126T171123Z
LAST-MODIFIED:20260209T154438Z
UID:10002090-1778180400-1778184000@nhaa.net
SUMMARY:District 7 GSR Meeting
DESCRIPTION:District 7 GSR Meeting\nHYBRID every first Thursday of every month\nFor all the Officers\, Committee & GSRs\n7:00pm – 8:00pm\nBond Wellness Center\, the first room at the right \nAnd online \nID: 816 710 724 \nPW: district7 \nLocation is 452 Old Street Rd\, Peterborough  03458 \n 
URL:https://nhaa.net/event/district-7-gsr-meeting/2026-05-07/
LOCATION:452 Old Street Rd\, Peterborough\, NH 03458\, 452 Old Street Rd\, Peterborough\, NH\, 03458\, United States
CATEGORIES:District 07
END:VEVENT
BEGIN:VEVENT
DTSTART;TZID=America/New_York:20260506T180000
DTEND;TZID=America/New_York:20260506T190000
DTSTAMP:20260423T183250
CREATED:20260102T023406Z
LAST-MODIFIED:20260102T023406Z
UID:10002572-1778090400-1778094000@nhaa.net
SUMMARY:District 19 Meeting
DESCRIPTION:This is a district meeting for District 19.
URL:https://nhaa.net/event/district-19-meeting/2026-05-06/
LOCATION:36 Carpenter Street\, KeeneNH\, YANA Center\, 36 Carpenter Street\, Keene NH\, NH\, 03431\, United States
ORGANIZER;CN="Randall H":MAILTO:randall@randallhoyt.com
END:VEVENT
BEGIN:VEVENT
DTSTART;TZID=America/New_York:20260506T180000
DTEND;TZID=America/New_York:20260506T190000
DTSTAMP:20260423T183250
CREATED:20240518T164703Z
LAST-MODIFIED:20251123T190924Z
UID:10002042-1778090400-1778094000@nhaa.net
SUMMARY:Area Functions Committee
DESCRIPTION:Meets on the First Wednesday of the Month on Zoom \nJoin Meeting Here: https://us02web.zoom.us/j/88155905842?pwd=TDdrR1NTVXFOc0pSVHllSWNNait6dz09 \nID: 881 5590 5842\nPW: functions
URL:https://nhaa.net/event/area-functions-committee/2026-05-06/
LOCATION:NH
END:VEVENT
BEGIN:VEVENT
DTSTART;TZID=America/New_York:20260504T190000
DTEND;TZID=America/New_York:20260504T200000
DTSTAMP:20260423T183250
CREATED:20250513T222633Z
LAST-MODIFIED:20250513T222633Z
UID:10001715-1777921200-1777924800@nhaa.net
SUMMARY:District 9 Committee Meeting
DESCRIPTION:District 9 Committee Meeting \n  \n7pm \nMarion Gerrish Community Center \n39 W Broadway\, Derry\, NH \n  \nCome join district 9 for our monthly business meeting!
URL:https://nhaa.net/event/district-9-committee-meeting/2026-05-04/
LOCATION:Marion Gerrish\, 39 West Broadway\, Derry\, NH\, 03038\, United States
GEO:42.8795405;-71.3297865
X-APPLE-STRUCTURED-LOCATION;VALUE=URI;X-ADDRESS=Marion Gerrish 39 West Broadway Derry NH 03038 United States;X-APPLE-RADIUS=500;X-TITLE=39 West Broadway:geo:-71.3297865,42.8795405
END:VEVENT
BEGIN:VEVENT
DTSTART;TZID=America/New_York:20260504T180000
DTEND;TZID=America/New_York:20260504T190000
DTSTAMP:20260423T183250
CREATED:20250609T221440Z
LAST-MODIFIED:20250609T221440Z
UID:10001800-1777917600-1777921200@nhaa.net
SUMMARY:District 18 Committee Meeting
DESCRIPTION:6pm \nChurch of the Good Shepard \n11 Park Street\nNewport NH 03773
URL:https://nhaa.net/event/district-18-committee-meeting/2026-05-04/
LOCATION:NH
END:VEVENT
END:VCALENDAR