BEGIN:VCALENDAR
VERSION:2.0
PRODID:-//Alcoholics Anonymous NH - ECPv6.15.18//NONSGML v1.0//EN
CALSCALE:GREGORIAN
METHOD:PUBLISH
X-WR-CALNAME:Alcoholics Anonymous NH
X-ORIGINAL-URL:https://nhaa.net
X-WR-CALDESC:Events for Alcoholics Anonymous NH
REFRESH-INTERVAL;VALUE=DURATION:PT1H
X-Robots-Tag:noindex
X-PUBLISHED-TTL:PT1H
BEGIN:VTIMEZONE
TZID:America/New_York
BEGIN:DAYLIGHT
TZOFFSETFROM:-0500
TZOFFSETTO:-0400
TZNAME:EDT
DTSTART:20270314T070000
END:DAYLIGHT
BEGIN:STANDARD
TZOFFSETFROM:-0400
TZOFFSETTO:-0500
TZNAME:EST
DTSTART:20271107T060000
END:STANDARD
BEGIN:DAYLIGHT
TZOFFSETFROM:-0500
TZOFFSETTO:-0400
TZNAME:EDT
DTSTART:20280312T070000
END:DAYLIGHT
BEGIN:STANDARD
TZOFFSETFROM:-0400
TZOFFSETTO:-0500
TZNAME:EST
DTSTART:20281105T060000
END:STANDARD
BEGIN:DAYLIGHT
TZOFFSETFROM:-0500
TZOFFSETTO:-0400
TZNAME:EDT
DTSTART:20290311T070000
END:DAYLIGHT
BEGIN:STANDARD
TZOFFSETFROM:-0400
TZOFFSETTO:-0500
TZNAME:EST
DTSTART:20291104T060000
END:STANDARD
END:VTIMEZONE
BEGIN:VEVENT
DTSTART;TZID=America/New_York:20280912T183000
DTEND;TZID=America/New_York:20280912T193000
DTSTAMP:20260425T064221
CREATED:20250429T175037Z
LAST-MODIFIED:20250429T175037Z
UID:10001663-1852396200-1852399800@nhaa.net
SUMMARY:District 8 GSR Meeting
DESCRIPTION:Monthly meeting of General Service Representatives for District 8
URL:https://nhaa.net/event/district-8-gsr-meeting/2028-09-12/
END:VEVENT
BEGIN:VEVENT
DTSTART;TZID=America/New_York:20280913T183000
DTEND;TZID=America/New_York:20280913T193000
DTSTAMP:20260425T064221
CREATED:20250814T191738Z
LAST-MODIFIED:20251214T183921Z
UID:10002468-1852482600-1852486200@nhaa.net
SUMMARY:Area Treatment Committee
DESCRIPTION:For all Treatment Chairs and Committee Members \nJoin Zoom Meeting\nhttps://us02web.zoom.us/j/89180634104?pwd=TC9NM2xjOHlYZjRyWG5CbGo4ZVhYQT09 \nZoom ID: 891 8063 4104\nPasscode: 681306 \n 
URL:https://nhaa.net/event/area-treatment-committee-2/2028-09-13/
END:VEVENT
BEGIN:VEVENT
DTSTART;TZID=America/New_York:20280917T180000
DTEND;TZID=America/New_York:20280917T200000
DTSTAMP:20260425T064221
CREATED:20251214T183430Z
LAST-MODIFIED:20251214T183430Z
UID:10002240-1852826400-1852833600@nhaa.net
SUMMARY:District 12 Committee Meeting (HYBRID)
DESCRIPTION:District 12 Committee Meeting \n6:00 pm – 8:00 pm \nSt. Raphael Church\nFerry Street Entrance \n103 Walker Street\,\nManchester\, NH 03102 \nand via ZOOM\nhttps://zoom.us/j/306311205?pwd=VnlyZG9sS3J6V2w0SzFaVGN6eWd6UT09 \nMeeting ID: 306 311 205 \nPassword is usual meeting password\nIf you need password\, email district12webmaster@gmail.com
URL:https://nhaa.net/event/district-12-committee-meeting-hybrid/2028-09-17/
LOCATION:St. Raphael’s Church\, 103 Walker St. Entrance on Third St\, Manchester\, 03103
GEO:43.088514;-70.7411859
X-APPLE-STRUCTURED-LOCATION;VALUE=URI;X-ADDRESS=St. Raphael’s Church 103 Walker St. Entrance on Third St Manchester 03103;X-APPLE-RADIUS=500;X-TITLE=103 Walker St. Entrance on Third St:geo:-70.7411859,43.088514
END:VEVENT
BEGIN:VEVENT
DTSTART;TZID=America/New_York:20280920T190000
DTEND;TZID=America/New_York:20280920T200000
DTSTAMP:20260425T064221
CREATED:20251214T183515Z
LAST-MODIFIED:20251214T183515Z
UID:10002409-1853089200-1853092800@nhaa.net
SUMMARY:District 13 Monthly GSR Meeting
DESCRIPTION:Monthly GSR Meeting
URL:https://nhaa.net/event/district-13-monthly-gsr-meeting/2028-09-20/
LOCATION:Nashua Public Library\, 2 Court Street\, Nashua\, 03060
CATEGORIES:District 13
END:VEVENT
BEGIN:VEVENT
DTSTART;TZID=America/New_York:20280926T190000
DTEND;TZID=America/New_York:20280926T203000
DTSTAMP:20260425T064221
CREATED:20260306T000509Z
LAST-MODIFIED:20260306T000509Z
UID:10002977-1853607600-1853613000@nhaa.net
SUMMARY:District 11 meeting
DESCRIPTION:District 11 monthly district meeting \nOur district meeting is hybrid\, at Sobriety Centers of New Hampshire\, 350 Court St Laconia\, and on Zoom ID 6307480407 Password: district11.  It is on the last Tuesday of each month.
URL:https://nhaa.net/event/district-11-meeting/2028-09-26/
CATEGORIES:District 11
END:VEVENT
BEGIN:VEVENT
DTSTART;TZID=America/New_York:20281002T180000
DTEND;TZID=America/New_York:20281002T190000
DTSTAMP:20260425T064221
CREATED:20250609T221440Z
LAST-MODIFIED:20250609T221440Z
UID:10001829-1854122400-1854126000@nhaa.net
SUMMARY:District 18 Committee Meeting
DESCRIPTION:6pm \nChurch of the Good Shepard \n11 Park Street\nNewport NH 03773
URL:https://nhaa.net/event/district-18-committee-meeting/2028-10-02/
END:VEVENT
BEGIN:VEVENT
DTSTART;TZID=America/New_York:20281002T190000
DTEND;TZID=America/New_York:20281002T200000
DTSTAMP:20260425T064221
CREATED:20250513T222633Z
LAST-MODIFIED:20250513T222633Z
UID:10001744-1854126000-1854129600@nhaa.net
SUMMARY:District 9 Committee Meeting
DESCRIPTION:District 9 Committee Meeting \n  \n7pm \nMarion Gerrish Community Center \n39 W Broadway\, Derry\, NH \n  \nCome join district 9 for our monthly business meeting!
URL:https://nhaa.net/event/district-9-committee-meeting/2028-10-02/
LOCATION:Marion Gerrish\, 39 West Broadway\, Derry\, NH\, 03038\, United States
GEO:42.8795405;-71.3297865
X-APPLE-STRUCTURED-LOCATION;VALUE=URI;X-ADDRESS=Marion Gerrish 39 West Broadway Derry NH 03038 United States;X-APPLE-RADIUS=500;X-TITLE=39 West Broadway:geo:-71.3297865,42.8795405
END:VEVENT
BEGIN:VEVENT
DTSTART;TZID=America/New_York:20281004T180000
DTEND;TZID=America/New_York:20281004T190000
DTSTAMP:20260425T064221
CREATED:20260102T023406Z
LAST-MODIFIED:20260102T023406Z
UID:10002601-1854295200-1854298800@nhaa.net
SUMMARY:District 19 Meeting
DESCRIPTION:This is a district meeting for District 19.
URL:https://nhaa.net/event/district-19-meeting/2028-10-04/
LOCATION:36 Carpenter Street\, KeeneNH\, YANA Center\, 36 Carpenter Street\, Keene NH\, NH\, 03431\, United States
ORGANIZER;CN="Randall H":MAILTO:randall@randallhoyt.com
END:VEVENT
BEGIN:VEVENT
DTSTART;TZID=America/New_York:20281005T190000
DTEND;TZID=America/New_York:20281005T200000
DTSTAMP:20260425T064221
CREATED:20251126T171123Z
LAST-MODIFIED:20260209T154438Z
UID:10002119-1854385200-1854388800@nhaa.net
SUMMARY:District 7 GSR Meeting
DESCRIPTION:District 7 GSR Meeting\nHYBRID every first Thursday of every month\nFor all the Officers\, Committee & GSRs\n7:00pm – 8:00pm\nBond Wellness Center\, the first room at the right \nAnd online \nID: 816 710 724 \nPW: district7 \nLocation is 452 Old Street Rd\, Peterborough  03458 \n 
URL:https://nhaa.net/event/district-7-gsr-meeting/2028-10-05/
LOCATION:452 Old Street Rd\, Peterborough\, NH 03458\, 452 Old Street Rd\, Peterborough\, NH\, 03458\, United States
CATEGORIES:District 07
END:VEVENT
BEGIN:VEVENT
DTSTART;TZID=America/New_York:20281005T190000
DTEND;TZID=America/New_York:20281005T200000
DTSTAMP:20260425T064221
CREATED:20260104T170906Z
LAST-MODIFIED:20260104T170906Z
UID:10002667-1854385200-1854388800@nhaa.net
SUMMARY:District 15 Monthly Business Meeting
DESCRIPTION:First Thursday of Every Month | 7:00 PM \nFirst United Church of Rochester\n42 South Main St.\nRochester NH \nZoom option available\nZoom Hyperlink  \nMeeting ID: 851 3244 2942\nPasscode: district15
URL:https://nhaa.net/event/district-15-monthly-business-meeting/2028-10-05/
CATEGORIES:District 15
END:VEVENT
BEGIN:VEVENT
DTSTART;TZID=America/New_York:20281009T190000
DTEND;TZID=America/New_York:20281009T200000
DTSTAMP:20260425T064221
CREATED:20260216T152754Z
LAST-MODIFIED:20260216T152754Z
UID:10002901-1854730800-1854734400@nhaa.net
SUMMARY:District 14 Business Meeting (District Meeting)
DESCRIPTION:Monthly meeting for District 14. The meeting is open to all AA members. However\, only GSRs (or Alt-GSR attending in place of the GSR) and district committee chairs can vote on district business. This is a hybrid meeting.
URL:https://nhaa.net/event/district-14-business-meeting-district-meeting/2028-10-09/
LOCATION:First Congregational Church of Hampton\, 127 Winnacunnet Rd \, Hampton\, NH\, 127 Winnacunnet Rd\, Hampton\, 03842
CATEGORIES:District 14
END:VEVENT
BEGIN:VEVENT
DTSTART;TZID=America/New_York:20281010T183000
DTEND;TZID=America/New_York:20281010T193000
DTSTAMP:20260425T064221
CREATED:20250429T175037Z
LAST-MODIFIED:20250429T175037Z
UID:10001664-1854815400-1854819000@nhaa.net
SUMMARY:District 8 GSR Meeting
DESCRIPTION:Monthly meeting of General Service Representatives for District 8
URL:https://nhaa.net/event/district-8-gsr-meeting/2028-10-10/
END:VEVENT
BEGIN:VEVENT
DTSTART;TZID=America/New_York:20281011T183000
DTEND;TZID=America/New_York:20281011T193000
DTSTAMP:20260425T064221
CREATED:20250814T191738Z
LAST-MODIFIED:20251214T183921Z
UID:10002469-1854901800-1854905400@nhaa.net
SUMMARY:Area Treatment Committee
DESCRIPTION:For all Treatment Chairs and Committee Members \nJoin Zoom Meeting\nhttps://us02web.zoom.us/j/89180634104?pwd=TC9NM2xjOHlYZjRyWG5CbGo4ZVhYQT09 \nZoom ID: 891 8063 4104\nPasscode: 681306 \n 
URL:https://nhaa.net/event/area-treatment-committee-2/2028-10-11/
END:VEVENT
BEGIN:VEVENT
DTSTART;TZID=America/New_York:20281015T180000
DTEND;TZID=America/New_York:20281015T200000
DTSTAMP:20260425T064221
CREATED:20251214T183430Z
LAST-MODIFIED:20251214T183430Z
UID:10002241-1855245600-1855252800@nhaa.net
SUMMARY:District 12 Committee Meeting (HYBRID)
DESCRIPTION:District 12 Committee Meeting \n6:00 pm – 8:00 pm \nSt. Raphael Church\nFerry Street Entrance \n103 Walker Street\,\nManchester\, NH 03102 \nand via ZOOM\nhttps://zoom.us/j/306311205?pwd=VnlyZG9sS3J6V2w0SzFaVGN6eWd6UT09 \nMeeting ID: 306 311 205 \nPassword is usual meeting password\nIf you need password\, email district12webmaster@gmail.com
URL:https://nhaa.net/event/district-12-committee-meeting-hybrid/2028-10-15/
LOCATION:St. Raphael’s Church\, 103 Walker St. Entrance on Third St\, Manchester\, 03103
GEO:43.088514;-70.7411859
X-APPLE-STRUCTURED-LOCATION;VALUE=URI;X-ADDRESS=St. Raphael’s Church 103 Walker St. Entrance on Third St Manchester 03103;X-APPLE-RADIUS=500;X-TITLE=103 Walker St. Entrance on Third St:geo:-70.7411859,43.088514
END:VEVENT
BEGIN:VEVENT
DTSTART;TZID=America/New_York:20281018T190000
DTEND;TZID=America/New_York:20281018T200000
DTSTAMP:20260425T064221
CREATED:20251214T183515Z
LAST-MODIFIED:20251214T183515Z
UID:10002410-1855508400-1855512000@nhaa.net
SUMMARY:District 13 Monthly GSR Meeting
DESCRIPTION:Monthly GSR Meeting
URL:https://nhaa.net/event/district-13-monthly-gsr-meeting/2028-10-18/
LOCATION:Nashua Public Library\, 2 Court Street\, Nashua\, 03060
CATEGORIES:District 13
END:VEVENT
BEGIN:VEVENT
DTSTART;TZID=America/New_York:20281031T190000
DTEND;TZID=America/New_York:20281031T203000
DTSTAMP:20260425T064221
CREATED:20260306T000509Z
LAST-MODIFIED:20260306T000509Z
UID:10002978-1856631600-1856637000@nhaa.net
SUMMARY:District 11 meeting
DESCRIPTION:District 11 monthly district meeting \nOur district meeting is hybrid\, at Sobriety Centers of New Hampshire\, 350 Court St Laconia\, and on Zoom ID 6307480407 Password: district11.  It is on the last Tuesday of each month.
URL:https://nhaa.net/event/district-11-meeting/2028-10-31/
CATEGORIES:District 11
END:VEVENT
BEGIN:VEVENT
DTSTART;TZID=America/New_York:20281101T180000
DTEND;TZID=America/New_York:20281101T190000
DTSTAMP:20260425T064221
CREATED:20260102T023406Z
LAST-MODIFIED:20260102T023406Z
UID:10002602-1856714400-1856718000@nhaa.net
SUMMARY:District 19 Meeting
DESCRIPTION:This is a district meeting for District 19.
URL:https://nhaa.net/event/district-19-meeting/2028-11-01/
LOCATION:36 Carpenter Street\, KeeneNH\, YANA Center\, 36 Carpenter Street\, Keene NH\, NH\, 03431\, United States
ORGANIZER;CN="Randall H":MAILTO:randall@randallhoyt.com
END:VEVENT
BEGIN:VEVENT
DTSTART;TZID=America/New_York:20281102T190000
DTEND;TZID=America/New_York:20281102T200000
DTSTAMP:20260425T064221
CREATED:20251126T171123Z
LAST-MODIFIED:20260209T154438Z
UID:10002120-1856804400-1856808000@nhaa.net
SUMMARY:District 7 GSR Meeting
DESCRIPTION:District 7 GSR Meeting\nHYBRID every first Thursday of every month\nFor all the Officers\, Committee & GSRs\n7:00pm – 8:00pm\nBond Wellness Center\, the first room at the right \nAnd online \nID: 816 710 724 \nPW: district7 \nLocation is 452 Old Street Rd\, Peterborough  03458 \n 
URL:https://nhaa.net/event/district-7-gsr-meeting/2028-11-02/
LOCATION:452 Old Street Rd\, Peterborough\, NH 03458\, 452 Old Street Rd\, Peterborough\, NH\, 03458\, United States
CATEGORIES:District 07
END:VEVENT
BEGIN:VEVENT
DTSTART;TZID=America/New_York:20281102T190000
DTEND;TZID=America/New_York:20281102T200000
DTSTAMP:20260425T064221
CREATED:20260104T170906Z
LAST-MODIFIED:20260104T170906Z
UID:10002668-1856804400-1856808000@nhaa.net
SUMMARY:District 15 Monthly Business Meeting
DESCRIPTION:First Thursday of Every Month | 7:00 PM \nFirst United Church of Rochester\n42 South Main St.\nRochester NH \nZoom option available\nZoom Hyperlink  \nMeeting ID: 851 3244 2942\nPasscode: district15
URL:https://nhaa.net/event/district-15-monthly-business-meeting/2028-11-02/
CATEGORIES:District 15
END:VEVENT
BEGIN:VEVENT
DTSTART;TZID=America/New_York:20281106T180000
DTEND;TZID=America/New_York:20281106T190000
DTSTAMP:20260425T064221
CREATED:20250609T221440Z
LAST-MODIFIED:20250609T221440Z
UID:10001830-1857146400-1857150000@nhaa.net
SUMMARY:District 18 Committee Meeting
DESCRIPTION:6pm \nChurch of the Good Shepard \n11 Park Street\nNewport NH 03773
URL:https://nhaa.net/event/district-18-committee-meeting/2028-11-06/
END:VEVENT
BEGIN:VEVENT
DTSTART;TZID=America/New_York:20281106T190000
DTEND;TZID=America/New_York:20281106T200000
DTSTAMP:20260425T064221
CREATED:20250513T222633Z
LAST-MODIFIED:20250513T222633Z
UID:10001745-1857150000-1857153600@nhaa.net
SUMMARY:District 9 Committee Meeting
DESCRIPTION:District 9 Committee Meeting \n  \n7pm \nMarion Gerrish Community Center \n39 W Broadway\, Derry\, NH \n  \nCome join district 9 for our monthly business meeting!
URL:https://nhaa.net/event/district-9-committee-meeting/2028-11-06/
LOCATION:Marion Gerrish\, 39 West Broadway\, Derry\, NH\, 03038\, United States
GEO:42.8795405;-71.3297865
X-APPLE-STRUCTURED-LOCATION;VALUE=URI;X-ADDRESS=Marion Gerrish 39 West Broadway Derry NH 03038 United States;X-APPLE-RADIUS=500;X-TITLE=39 West Broadway:geo:-71.3297865,42.8795405
END:VEVENT
BEGIN:VEVENT
DTSTART;TZID=America/New_York:20281108T183000
DTEND;TZID=America/New_York:20281108T193000
DTSTAMP:20260425T064221
CREATED:20250814T191738Z
LAST-MODIFIED:20251214T183921Z
UID:10002470-1857321000-1857324600@nhaa.net
SUMMARY:Area Treatment Committee
DESCRIPTION:For all Treatment Chairs and Committee Members \nJoin Zoom Meeting\nhttps://us02web.zoom.us/j/89180634104?pwd=TC9NM2xjOHlYZjRyWG5CbGo4ZVhYQT09 \nZoom ID: 891 8063 4104\nPasscode: 681306 \n 
URL:https://nhaa.net/event/area-treatment-committee-2/2028-11-08/
END:VEVENT
BEGIN:VEVENT
DTSTART;TZID=America/New_York:20281113T190000
DTEND;TZID=America/New_York:20281113T200000
DTSTAMP:20260425T064221
CREATED:20260216T152754Z
LAST-MODIFIED:20260216T152754Z
UID:10002902-1857754800-1857758400@nhaa.net
SUMMARY:District 14 Business Meeting (District Meeting)
DESCRIPTION:Monthly meeting for District 14. The meeting is open to all AA members. However\, only GSRs (or Alt-GSR attending in place of the GSR) and district committee chairs can vote on district business. This is a hybrid meeting.
URL:https://nhaa.net/event/district-14-business-meeting-district-meeting/2028-11-13/
LOCATION:First Congregational Church of Hampton\, 127 Winnacunnet Rd \, Hampton\, NH\, 127 Winnacunnet Rd\, Hampton\, 03842
CATEGORIES:District 14
END:VEVENT
BEGIN:VEVENT
DTSTART;TZID=America/New_York:20281114T183000
DTEND;TZID=America/New_York:20281114T193000
DTSTAMP:20260425T064221
CREATED:20250429T175037Z
LAST-MODIFIED:20250429T175037Z
UID:10001665-1857839400-1857843000@nhaa.net
SUMMARY:District 8 GSR Meeting
DESCRIPTION:Monthly meeting of General Service Representatives for District 8
URL:https://nhaa.net/event/district-8-gsr-meeting/2028-11-14/
END:VEVENT
BEGIN:VEVENT
DTSTART;TZID=America/New_York:20281115T190000
DTEND;TZID=America/New_York:20281115T200000
DTSTAMP:20260425T064221
CREATED:20251214T183515Z
LAST-MODIFIED:20251214T183515Z
UID:10002411-1857927600-1857931200@nhaa.net
SUMMARY:District 13 Monthly GSR Meeting
DESCRIPTION:Monthly GSR Meeting
URL:https://nhaa.net/event/district-13-monthly-gsr-meeting/2028-11-15/
LOCATION:Nashua Public Library\, 2 Court Street\, Nashua\, 03060
CATEGORIES:District 13
END:VEVENT
BEGIN:VEVENT
DTSTART;TZID=America/New_York:20281119T180000
DTEND;TZID=America/New_York:20281119T200000
DTSTAMP:20260425T064221
CREATED:20251214T183430Z
LAST-MODIFIED:20251214T183430Z
UID:10002242-1858269600-1858276800@nhaa.net
SUMMARY:District 12 Committee Meeting (HYBRID)
DESCRIPTION:District 12 Committee Meeting \n6:00 pm – 8:00 pm \nSt. Raphael Church\nFerry Street Entrance \n103 Walker Street\,\nManchester\, NH 03102 \nand via ZOOM\nhttps://zoom.us/j/306311205?pwd=VnlyZG9sS3J6V2w0SzFaVGN6eWd6UT09 \nMeeting ID: 306 311 205 \nPassword is usual meeting password\nIf you need password\, email district12webmaster@gmail.com
URL:https://nhaa.net/event/district-12-committee-meeting-hybrid/2028-11-19/
LOCATION:St. Raphael’s Church\, 103 Walker St. Entrance on Third St\, Manchester\, 03103
GEO:43.088514;-70.7411859
X-APPLE-STRUCTURED-LOCATION;VALUE=URI;X-ADDRESS=St. Raphael’s Church 103 Walker St. Entrance on Third St Manchester 03103;X-APPLE-RADIUS=500;X-TITLE=103 Walker St. Entrance on Third St:geo:-70.7411859,43.088514
END:VEVENT
BEGIN:VEVENT
DTSTART;TZID=America/New_York:20281128T190000
DTEND;TZID=America/New_York:20281128T203000
DTSTAMP:20260425T064221
CREATED:20260306T000509Z
LAST-MODIFIED:20260306T000509Z
UID:10002979-1859050800-1859056200@nhaa.net
SUMMARY:District 11 meeting
DESCRIPTION:District 11 monthly district meeting \nOur district meeting is hybrid\, at Sobriety Centers of New Hampshire\, 350 Court St Laconia\, and on Zoom ID 6307480407 Password: district11.  It is on the last Tuesday of each month.
URL:https://nhaa.net/event/district-11-meeting/2028-11-28/
CATEGORIES:District 11
END:VEVENT
BEGIN:VEVENT
DTSTART;TZID=America/New_York:20281204T180000
DTEND;TZID=America/New_York:20281204T190000
DTSTAMP:20260425T064221
CREATED:20250609T221440Z
LAST-MODIFIED:20250609T221440Z
UID:10001831-1859565600-1859569200@nhaa.net
SUMMARY:District 18 Committee Meeting
DESCRIPTION:6pm \nChurch of the Good Shepard \n11 Park Street\nNewport NH 03773
URL:https://nhaa.net/event/district-18-committee-meeting/2028-12-04/
END:VEVENT
BEGIN:VEVENT
DTSTART;TZID=America/New_York:20281204T190000
DTEND;TZID=America/New_York:20281204T200000
DTSTAMP:20260425T064221
CREATED:20250513T222633Z
LAST-MODIFIED:20250513T222633Z
UID:10001746-1859569200-1859572800@nhaa.net
SUMMARY:District 9 Committee Meeting
DESCRIPTION:District 9 Committee Meeting \n  \n7pm \nMarion Gerrish Community Center \n39 W Broadway\, Derry\, NH \n  \nCome join district 9 for our monthly business meeting!
URL:https://nhaa.net/event/district-9-committee-meeting/2028-12-04/
LOCATION:Marion Gerrish\, 39 West Broadway\, Derry\, NH\, 03038\, United States
GEO:42.8795405;-71.3297865
X-APPLE-STRUCTURED-LOCATION;VALUE=URI;X-ADDRESS=Marion Gerrish 39 West Broadway Derry NH 03038 United States;X-APPLE-RADIUS=500;X-TITLE=39 West Broadway:geo:-71.3297865,42.8795405
END:VEVENT
BEGIN:VEVENT
DTSTART;TZID=America/New_York:20281206T180000
DTEND;TZID=America/New_York:20281206T190000
DTSTAMP:20260425T064221
CREATED:20260102T023406Z
LAST-MODIFIED:20260102T023406Z
UID:10002603-1859738400-1859742000@nhaa.net
SUMMARY:District 19 Meeting
DESCRIPTION:This is a district meeting for District 19.
URL:https://nhaa.net/event/district-19-meeting/2028-12-06/
LOCATION:36 Carpenter Street\, KeeneNH\, YANA Center\, 36 Carpenter Street\, Keene NH\, NH\, 03431\, United States
ORGANIZER;CN="Randall H":MAILTO:randall@randallhoyt.com
END:VEVENT
END:VCALENDAR