BEGIN:VCALENDAR
VERSION:2.0
PRODID:-//Alcoholics Anonymous NH - ECPv6.15.18//NONSGML v1.0//EN
CALSCALE:GREGORIAN
METHOD:PUBLISH
X-ORIGINAL-URL:https://nhaa.net
X-WR-CALDESC:Events for Alcoholics Anonymous NH
REFRESH-INTERVAL;VALUE=DURATION:PT1H
X-Robots-Tag:noindex
X-PUBLISHED-TTL:PT1H
BEGIN:VTIMEZONE
TZID:America/New_York
BEGIN:DAYLIGHT
TZOFFSETFROM:-0500
TZOFFSETTO:-0400
TZNAME:EDT
DTSTART:20250309T070000
END:DAYLIGHT
BEGIN:STANDARD
TZOFFSETFROM:-0400
TZOFFSETTO:-0500
TZNAME:EST
DTSTART:20251102T060000
END:STANDARD
BEGIN:DAYLIGHT
TZOFFSETFROM:-0500
TZOFFSETTO:-0400
TZNAME:EDT
DTSTART:20260308T070000
END:DAYLIGHT
BEGIN:STANDARD
TZOFFSETFROM:-0400
TZOFFSETTO:-0500
TZNAME:EST
DTSTART:20261101T060000
END:STANDARD
BEGIN:DAYLIGHT
TZOFFSETFROM:-0500
TZOFFSETTO:-0400
TZNAME:EDT
DTSTART:20270314T070000
END:DAYLIGHT
BEGIN:STANDARD
TZOFFSETFROM:-0400
TZOFFSETTO:-0500
TZNAME:EST
DTSTART:20271107T060000
END:STANDARD
END:VTIMEZONE
BEGIN:VEVENT
DTSTART;TZID=America/New_York:20260306T170000
DTEND;TZID=America/New_York:20260308T123000
DTSTAMP:20260424T094000
CREATED:20260124T234125Z
LAST-MODIFIED:20260124T234125Z
UID:10002818-1772816400-1772973000@nhaa.net
SUMMARY:NHSCYPAA XXVI
DESCRIPTION:The New Hampshire State Conference of Young People in Alcoholics Anonymous (NHSCYPAA) is a group of young men and women who work together within the state and local community to assist others in recovering from alcohol addiction. Our primary purpose is to stay sober and help other alcoholics to achieve sobriety through hosting an annual conference to carry the message to alcoholics who still suffer. NHSCYPAA operates in accordance with the Twelve Steps\, Twelve Traditions\, and the Twelve Concepts of Alcoholics Anonymous.
URL:https://nhaa.net/event/nhscypaa-xxvi/
LOCATION:Ashworth By the Sea\, Hampton NH\, 295 Ocean Blvd\, Hampton\, 03842
CATEGORIES:YP Committee
ATTACH;FMTTYPE=image/jpeg:https://nhaa.net/wp-content/uploads/1000010471.jpg
END:VEVENT
BEGIN:VEVENT
DTSTART;TZID=America/New_York:20260308T140000
DTEND;TZID=America/New_York:20260308T150000
DTSTAMP:20260424T094000
CREATED:20260123T221223Z
LAST-MODIFIED:20260123T221344Z
UID:10002772-1772978400-1772982000@nhaa.net
SUMMARY:Monthly Area YP Committee Meeting
DESCRIPTION:Every month on the Second Sunday\n2:00 PM – 3:00 PM\, Eastern \nJoin Zoom Meeting \nMeeting ID: 874 2928 6570\nPasscode: YPAA
URL:https://nhaa.net/event/monthly-area-yp-committee-meeting/2026-03-08/
LOCATION:NH
CATEGORIES:YP Committee
END:VEVENT
BEGIN:VEVENT
DTSTART;TZID=America/New_York:20260321T190000
DTEND;TZID=America/New_York:20260321T213000
DTSTAMP:20260424T094000
CREATED:20260307T231053Z
LAST-MODIFIED:20260307T231218Z
UID:10003007-1774119600-1774128600@nhaa.net
SUMMARY:March the Road of Happy Destiny
DESCRIPTION:Speakers on steps 6&7 \nShamrock cookie decorating \nPie in the face auction \nWear green for a free raffle ticket
URL:https://nhaa.net/event/march-the-road-of-happy-destiny/
LOCATION:Riverside Church\, 47A Hampton Falls Road\, Exeter\, NH\, 03833\, United States
CATEGORIES:Area Events,YP Committee
ATTACH;FMTTYPE=image/jpeg:https://nhaa.net/wp-content/uploads/IMG_8464-scaled.jpeg
ORGANIZER;CN="NH bid for ICYPAA":MAILTO:rachaelm625@gmail.com
END:VEVENT
END:VCALENDAR