BEGIN:VCALENDAR
VERSION:2.0
PRODID:-//Alcoholics Anonymous NH - ECPv6.15.18//NONSGML v1.0//EN
CALSCALE:GREGORIAN
METHOD:PUBLISH
X-WR-CALNAME:Alcoholics Anonymous NH
X-ORIGINAL-URL:https://nhaa.net
X-WR-CALDESC:Events for Alcoholics Anonymous NH
REFRESH-INTERVAL;VALUE=DURATION:PT1H
X-Robots-Tag:noindex
X-PUBLISHED-TTL:PT1H
BEGIN:VTIMEZONE
TZID:America/New_York
BEGIN:DAYLIGHT
TZOFFSETFROM:-0500
TZOFFSETTO:-0400
TZNAME:EDT
DTSTART:20240310T070000
END:DAYLIGHT
BEGIN:STANDARD
TZOFFSETFROM:-0400
TZOFFSETTO:-0500
TZNAME:EST
DTSTART:20241103T060000
END:STANDARD
BEGIN:DAYLIGHT
TZOFFSETFROM:-0500
TZOFFSETTO:-0400
TZNAME:EDT
DTSTART:20250309T070000
END:DAYLIGHT
BEGIN:STANDARD
TZOFFSETFROM:-0400
TZOFFSETTO:-0500
TZNAME:EST
DTSTART:20251102T060000
END:STANDARD
BEGIN:DAYLIGHT
TZOFFSETFROM:-0500
TZOFFSETTO:-0400
TZNAME:EDT
DTSTART:20260308T070000
END:DAYLIGHT
BEGIN:STANDARD
TZOFFSETFROM:-0400
TZOFFSETTO:-0500
TZNAME:EST
DTSTART:20261101T060000
END:STANDARD
END:VTIMEZONE
BEGIN:VEVENT
DTSTART;TZID=America/New_York:20250531T190000
DTEND;TZID=America/New_York:20250531T220000
DTSTAMP:20260420T152313
CREATED:20250530T015551Z
LAST-MODIFIED:20250530T015551Z
UID:10001785-1748718000-1748728800@nhaa.net
SUMMARY:District 13 Bingo Night
DESCRIPTION:Speakers 7pm to 8pm \nBingo 8pm to 10pm \nPrizes!
URL:https://nhaa.net/event/district-13-bingo-night/
LOCATION:Lawrence Barn\, 28 Depot Rd Hollis NH\, 28 Depot Rd\, Hollis\, NH
CATEGORIES:District 13
ATTACH;FMTTYPE=image/png:https://nhaa.net/wp-content/uploads/Printable-version-Bingo-flyer-1.png
ORGANIZER;CN="District 13 Functions":MAILTO:functions@nhaa13.net
END:VEVENT
END:VCALENDAR