BEGIN:VCALENDAR
VERSION:2.0
PRODID:-//Alcoholics Anonymous NH - ECPv6.15.18//NONSGML v1.0//EN
CALSCALE:GREGORIAN
METHOD:PUBLISH
X-WR-CALNAME:Alcoholics Anonymous NH
X-ORIGINAL-URL:https://nhaa.net
X-WR-CALDESC:Events for Alcoholics Anonymous NH
REFRESH-INTERVAL;VALUE=DURATION:PT1H
X-Robots-Tag:noindex
X-PUBLISHED-TTL:PT1H
BEGIN:VTIMEZONE
TZID:America/New_York
BEGIN:DAYLIGHT
TZOFFSETFROM:-0500
TZOFFSETTO:-0400
TZNAME:EDT
DTSTART:20250309T070000
END:DAYLIGHT
BEGIN:STANDARD
TZOFFSETFROM:-0400
TZOFFSETTO:-0500
TZNAME:EST
DTSTART:20251102T060000
END:STANDARD
BEGIN:DAYLIGHT
TZOFFSETFROM:-0500
TZOFFSETTO:-0400
TZNAME:EDT
DTSTART:20260308T070000
END:DAYLIGHT
BEGIN:STANDARD
TZOFFSETFROM:-0400
TZOFFSETTO:-0500
TZNAME:EST
DTSTART:20261101T060000
END:STANDARD
BEGIN:DAYLIGHT
TZOFFSETFROM:-0500
TZOFFSETTO:-0400
TZNAME:EDT
DTSTART:20270314T070000
END:DAYLIGHT
BEGIN:STANDARD
TZOFFSETFROM:-0400
TZOFFSETTO:-0500
TZNAME:EST
DTSTART:20271107T060000
END:STANDARD
END:VTIMEZONE
BEGIN:VEVENT
DTSTART;TZID=America/New_York:20261030T063000
DTEND;TZID=America/New_York:20261030T073000
DTSTAMP:20260423T023912
CREATED:20260315T202828Z
LAST-MODIFIED:20260316T025449Z
UID:10003233-1793341800-1793345400@nhaa.net
SUMMARY:First Light of Day is Moving
DESCRIPTION:First Light of Day (FLOD) is moving!!! March 17\, 2026\nYWCA\, 72 Concord St\, Manchester\nFree parking until 8am on both sides of Concord St & in the garage.  \nHandicap access on Chestnut St side.\n  \n 
URL:https://nhaa.net/event/first-light-of-day-is-moving/2026-10-30/
CATEGORIES:District 12
ATTACH;FMTTYPE=image/jpeg:https://nhaa.net/wp-content/uploads/First-Day-of-Light-scaled.jpeg
END:VEVENT
BEGIN:VEVENT
DTSTART;TZID=America/New_York:20261031T063000
DTEND;TZID=America/New_York:20261031T073000
DTSTAMP:20260423T023912
CREATED:20260315T202828Z
LAST-MODIFIED:20260316T025449Z
UID:10003234-1793428200-1793431800@nhaa.net
SUMMARY:First Light of Day is Moving
DESCRIPTION:First Light of Day (FLOD) is moving!!! March 17\, 2026\nYWCA\, 72 Concord St\, Manchester\nFree parking until 8am on both sides of Concord St & in the garage.  \nHandicap access on Chestnut St side.\n  \n 
URL:https://nhaa.net/event/first-light-of-day-is-moving/2026-10-31/
CATEGORIES:District 12
ATTACH;FMTTYPE=image/jpeg:https://nhaa.net/wp-content/uploads/First-Day-of-Light-scaled.jpeg
END:VEVENT
BEGIN:VEVENT
DTSTART;TZID=America/New_York:20261101T063000
DTEND;TZID=America/New_York:20261101T073000
DTSTAMP:20260423T023912
CREATED:20260315T202828Z
LAST-MODIFIED:20260316T025449Z
UID:10003235-1793514600-1793518200@nhaa.net
SUMMARY:First Light of Day is Moving
DESCRIPTION:First Light of Day (FLOD) is moving!!! March 17\, 2026\nYWCA\, 72 Concord St\, Manchester\nFree parking until 8am on both sides of Concord St & in the garage.  \nHandicap access on Chestnut St side.\n  \n 
URL:https://nhaa.net/event/first-light-of-day-is-moving/2026-11-01/
CATEGORIES:District 12
ATTACH;FMTTYPE=image/jpeg:https://nhaa.net/wp-content/uploads/First-Day-of-Light-scaled.jpeg
END:VEVENT
BEGIN:VEVENT
DTSTART;TZID=America/New_York:20261102T063000
DTEND;TZID=America/New_York:20261102T073000
DTSTAMP:20260423T023912
CREATED:20260315T202828Z
LAST-MODIFIED:20260316T025449Z
UID:10003236-1793601000-1793604600@nhaa.net
SUMMARY:First Light of Day is Moving
DESCRIPTION:First Light of Day (FLOD) is moving!!! March 17\, 2026\nYWCA\, 72 Concord St\, Manchester\nFree parking until 8am on both sides of Concord St & in the garage.  \nHandicap access on Chestnut St side.\n  \n 
URL:https://nhaa.net/event/first-light-of-day-is-moving/2026-11-02/
CATEGORIES:District 12
ATTACH;FMTTYPE=image/jpeg:https://nhaa.net/wp-content/uploads/First-Day-of-Light-scaled.jpeg
END:VEVENT
BEGIN:VEVENT
DTSTART;TZID=America/New_York:20261103T063000
DTEND;TZID=America/New_York:20261103T073000
DTSTAMP:20260423T023912
CREATED:20260315T202828Z
LAST-MODIFIED:20260316T025449Z
UID:10003237-1793687400-1793691000@nhaa.net
SUMMARY:First Light of Day is Moving
DESCRIPTION:First Light of Day (FLOD) is moving!!! March 17\, 2026\nYWCA\, 72 Concord St\, Manchester\nFree parking until 8am on both sides of Concord St & in the garage.  \nHandicap access on Chestnut St side.\n  \n 
URL:https://nhaa.net/event/first-light-of-day-is-moving/2026-11-03/
CATEGORIES:District 12
ATTACH;FMTTYPE=image/jpeg:https://nhaa.net/wp-content/uploads/First-Day-of-Light-scaled.jpeg
END:VEVENT
BEGIN:VEVENT
DTSTART;TZID=America/New_York:20261104T063000
DTEND;TZID=America/New_York:20261104T073000
DTSTAMP:20260423T023912
CREATED:20260315T202828Z
LAST-MODIFIED:20260316T025449Z
UID:10003238-1793773800-1793777400@nhaa.net
SUMMARY:First Light of Day is Moving
DESCRIPTION:First Light of Day (FLOD) is moving!!! March 17\, 2026\nYWCA\, 72 Concord St\, Manchester\nFree parking until 8am on both sides of Concord St & in the garage.  \nHandicap access on Chestnut St side.\n  \n 
URL:https://nhaa.net/event/first-light-of-day-is-moving/2026-11-04/
CATEGORIES:District 12
ATTACH;FMTTYPE=image/jpeg:https://nhaa.net/wp-content/uploads/First-Day-of-Light-scaled.jpeg
END:VEVENT
BEGIN:VEVENT
DTSTART;TZID=America/New_York:20261105T063000
DTEND;TZID=America/New_York:20261105T073000
DTSTAMP:20260423T023912
CREATED:20260315T202828Z
LAST-MODIFIED:20260316T025449Z
UID:10003239-1793860200-1793863800@nhaa.net
SUMMARY:First Light of Day is Moving
DESCRIPTION:First Light of Day (FLOD) is moving!!! March 17\, 2026\nYWCA\, 72 Concord St\, Manchester\nFree parking until 8am on both sides of Concord St & in the garage.  \nHandicap access on Chestnut St side.\n  \n 
URL:https://nhaa.net/event/first-light-of-day-is-moving/2026-11-05/
CATEGORIES:District 12
ATTACH;FMTTYPE=image/jpeg:https://nhaa.net/wp-content/uploads/First-Day-of-Light-scaled.jpeg
END:VEVENT
BEGIN:VEVENT
DTSTART;TZID=America/New_York:20261106T063000
DTEND;TZID=America/New_York:20261106T073000
DTSTAMP:20260423T023912
CREATED:20260315T202828Z
LAST-MODIFIED:20260316T025449Z
UID:10003240-1793946600-1793950200@nhaa.net
SUMMARY:First Light of Day is Moving
DESCRIPTION:First Light of Day (FLOD) is moving!!! March 17\, 2026\nYWCA\, 72 Concord St\, Manchester\nFree parking until 8am on both sides of Concord St & in the garage.  \nHandicap access on Chestnut St side.\n  \n 
URL:https://nhaa.net/event/first-light-of-day-is-moving/2026-11-06/
CATEGORIES:District 12
ATTACH;FMTTYPE=image/jpeg:https://nhaa.net/wp-content/uploads/First-Day-of-Light-scaled.jpeg
END:VEVENT
BEGIN:VEVENT
DTSTART;TZID=America/New_York:20261107T063000
DTEND;TZID=America/New_York:20261107T073000
DTSTAMP:20260423T023912
CREATED:20260315T202828Z
LAST-MODIFIED:20260316T025449Z
UID:10003241-1794033000-1794036600@nhaa.net
SUMMARY:First Light of Day is Moving
DESCRIPTION:First Light of Day (FLOD) is moving!!! March 17\, 2026\nYWCA\, 72 Concord St\, Manchester\nFree parking until 8am on both sides of Concord St & in the garage.  \nHandicap access on Chestnut St side.\n  \n 
URL:https://nhaa.net/event/first-light-of-day-is-moving/2026-11-07/
CATEGORIES:District 12
ATTACH;FMTTYPE=image/jpeg:https://nhaa.net/wp-content/uploads/First-Day-of-Light-scaled.jpeg
END:VEVENT
BEGIN:VEVENT
DTSTART;TZID=America/New_York:20261108T063000
DTEND;TZID=America/New_York:20261108T073000
DTSTAMP:20260423T023912
CREATED:20260315T202828Z
LAST-MODIFIED:20260316T025449Z
UID:10003242-1794119400-1794123000@nhaa.net
SUMMARY:First Light of Day is Moving
DESCRIPTION:First Light of Day (FLOD) is moving!!! March 17\, 2026\nYWCA\, 72 Concord St\, Manchester\nFree parking until 8am on both sides of Concord St & in the garage.  \nHandicap access on Chestnut St side.\n  \n 
URL:https://nhaa.net/event/first-light-of-day-is-moving/2026-11-08/
CATEGORIES:District 12
ATTACH;FMTTYPE=image/jpeg:https://nhaa.net/wp-content/uploads/First-Day-of-Light-scaled.jpeg
END:VEVENT
BEGIN:VEVENT
DTSTART;TZID=America/New_York:20261109T063000
DTEND;TZID=America/New_York:20261109T073000
DTSTAMP:20260423T023912
CREATED:20260315T202828Z
LAST-MODIFIED:20260316T025449Z
UID:10003243-1794205800-1794209400@nhaa.net
SUMMARY:First Light of Day is Moving
DESCRIPTION:First Light of Day (FLOD) is moving!!! March 17\, 2026\nYWCA\, 72 Concord St\, Manchester\nFree parking until 8am on both sides of Concord St & in the garage.  \nHandicap access on Chestnut St side.\n  \n 
URL:https://nhaa.net/event/first-light-of-day-is-moving/2026-11-09/
CATEGORIES:District 12
ATTACH;FMTTYPE=image/jpeg:https://nhaa.net/wp-content/uploads/First-Day-of-Light-scaled.jpeg
END:VEVENT
BEGIN:VEVENT
DTSTART;TZID=America/New_York:20261110T063000
DTEND;TZID=America/New_York:20261110T073000
DTSTAMP:20260423T023912
CREATED:20260315T202828Z
LAST-MODIFIED:20260316T025449Z
UID:10003244-1794292200-1794295800@nhaa.net
SUMMARY:First Light of Day is Moving
DESCRIPTION:First Light of Day (FLOD) is moving!!! March 17\, 2026\nYWCA\, 72 Concord St\, Manchester\nFree parking until 8am on both sides of Concord St & in the garage.  \nHandicap access on Chestnut St side.\n  \n 
URL:https://nhaa.net/event/first-light-of-day-is-moving/2026-11-10/
CATEGORIES:District 12
ATTACH;FMTTYPE=image/jpeg:https://nhaa.net/wp-content/uploads/First-Day-of-Light-scaled.jpeg
END:VEVENT
BEGIN:VEVENT
DTSTART;TZID=America/New_York:20261111T063000
DTEND;TZID=America/New_York:20261111T073000
DTSTAMP:20260423T023912
CREATED:20260315T202828Z
LAST-MODIFIED:20260316T025449Z
UID:10003245-1794378600-1794382200@nhaa.net
SUMMARY:First Light of Day is Moving
DESCRIPTION:First Light of Day (FLOD) is moving!!! March 17\, 2026\nYWCA\, 72 Concord St\, Manchester\nFree parking until 8am on both sides of Concord St & in the garage.  \nHandicap access on Chestnut St side.\n  \n 
URL:https://nhaa.net/event/first-light-of-day-is-moving/2026-11-11/
CATEGORIES:District 12
ATTACH;FMTTYPE=image/jpeg:https://nhaa.net/wp-content/uploads/First-Day-of-Light-scaled.jpeg
END:VEVENT
BEGIN:VEVENT
DTSTART;TZID=America/New_York:20261112T063000
DTEND;TZID=America/New_York:20261112T073000
DTSTAMP:20260423T023912
CREATED:20260315T202828Z
LAST-MODIFIED:20260316T025449Z
UID:10003246-1794465000-1794468600@nhaa.net
SUMMARY:First Light of Day is Moving
DESCRIPTION:First Light of Day (FLOD) is moving!!! March 17\, 2026\nYWCA\, 72 Concord St\, Manchester\nFree parking until 8am on both sides of Concord St & in the garage.  \nHandicap access on Chestnut St side.\n  \n 
URL:https://nhaa.net/event/first-light-of-day-is-moving/2026-11-12/
CATEGORIES:District 12
ATTACH;FMTTYPE=image/jpeg:https://nhaa.net/wp-content/uploads/First-Day-of-Light-scaled.jpeg
END:VEVENT
BEGIN:VEVENT
DTSTART;TZID=America/New_York:20261113T063000
DTEND;TZID=America/New_York:20261113T073000
DTSTAMP:20260423T023912
CREATED:20260315T202828Z
LAST-MODIFIED:20260316T025449Z
UID:10003247-1794551400-1794555000@nhaa.net
SUMMARY:First Light of Day is Moving
DESCRIPTION:First Light of Day (FLOD) is moving!!! March 17\, 2026\nYWCA\, 72 Concord St\, Manchester\nFree parking until 8am on both sides of Concord St & in the garage.  \nHandicap access on Chestnut St side.\n  \n 
URL:https://nhaa.net/event/first-light-of-day-is-moving/2026-11-13/
CATEGORIES:District 12
ATTACH;FMTTYPE=image/jpeg:https://nhaa.net/wp-content/uploads/First-Day-of-Light-scaled.jpeg
END:VEVENT
BEGIN:VEVENT
DTSTART;TZID=America/New_York:20261114T063000
DTEND;TZID=America/New_York:20261114T073000
DTSTAMP:20260423T023912
CREATED:20260315T202828Z
LAST-MODIFIED:20260316T025449Z
UID:10003248-1794637800-1794641400@nhaa.net
SUMMARY:First Light of Day is Moving
DESCRIPTION:First Light of Day (FLOD) is moving!!! March 17\, 2026\nYWCA\, 72 Concord St\, Manchester\nFree parking until 8am on both sides of Concord St & in the garage.  \nHandicap access on Chestnut St side.\n  \n 
URL:https://nhaa.net/event/first-light-of-day-is-moving/2026-11-14/
CATEGORIES:District 12
ATTACH;FMTTYPE=image/jpeg:https://nhaa.net/wp-content/uploads/First-Day-of-Light-scaled.jpeg
END:VEVENT
BEGIN:VEVENT
DTSTART;TZID=America/New_York:20261115T063000
DTEND;TZID=America/New_York:20261115T073000
DTSTAMP:20260423T023912
CREATED:20260315T202828Z
LAST-MODIFIED:20260316T025449Z
UID:10003249-1794724200-1794727800@nhaa.net
SUMMARY:First Light of Day is Moving
DESCRIPTION:First Light of Day (FLOD) is moving!!! March 17\, 2026\nYWCA\, 72 Concord St\, Manchester\nFree parking until 8am on both sides of Concord St & in the garage.  \nHandicap access on Chestnut St side.\n  \n 
URL:https://nhaa.net/event/first-light-of-day-is-moving/2026-11-15/
CATEGORIES:District 12
ATTACH;FMTTYPE=image/jpeg:https://nhaa.net/wp-content/uploads/First-Day-of-Light-scaled.jpeg
END:VEVENT
BEGIN:VEVENT
DTSTART;TZID=America/New_York:20261116T063000
DTEND;TZID=America/New_York:20261116T073000
DTSTAMP:20260423T023912
CREATED:20260315T202828Z
LAST-MODIFIED:20260316T025449Z
UID:10003250-1794810600-1794814200@nhaa.net
SUMMARY:First Light of Day is Moving
DESCRIPTION:First Light of Day (FLOD) is moving!!! March 17\, 2026\nYWCA\, 72 Concord St\, Manchester\nFree parking until 8am on both sides of Concord St & in the garage.  \nHandicap access on Chestnut St side.\n  \n 
URL:https://nhaa.net/event/first-light-of-day-is-moving/2026-11-16/
CATEGORIES:District 12
ATTACH;FMTTYPE=image/jpeg:https://nhaa.net/wp-content/uploads/First-Day-of-Light-scaled.jpeg
END:VEVENT
BEGIN:VEVENT
DTSTART;TZID=America/New_York:20261117T063000
DTEND;TZID=America/New_York:20261117T073000
DTSTAMP:20260423T023912
CREATED:20260315T202828Z
LAST-MODIFIED:20260316T025449Z
UID:10003251-1794897000-1794900600@nhaa.net
SUMMARY:First Light of Day is Moving
DESCRIPTION:First Light of Day (FLOD) is moving!!! March 17\, 2026\nYWCA\, 72 Concord St\, Manchester\nFree parking until 8am on both sides of Concord St & in the garage.  \nHandicap access on Chestnut St side.\n  \n 
URL:https://nhaa.net/event/first-light-of-day-is-moving/2026-11-17/
CATEGORIES:District 12
ATTACH;FMTTYPE=image/jpeg:https://nhaa.net/wp-content/uploads/First-Day-of-Light-scaled.jpeg
END:VEVENT
BEGIN:VEVENT
DTSTART;TZID=America/New_York:20261118T063000
DTEND;TZID=America/New_York:20261118T073000
DTSTAMP:20260423T023912
CREATED:20260315T202828Z
LAST-MODIFIED:20260316T025449Z
UID:10003252-1794983400-1794987000@nhaa.net
SUMMARY:First Light of Day is Moving
DESCRIPTION:First Light of Day (FLOD) is moving!!! March 17\, 2026\nYWCA\, 72 Concord St\, Manchester\nFree parking until 8am on both sides of Concord St & in the garage.  \nHandicap access on Chestnut St side.\n  \n 
URL:https://nhaa.net/event/first-light-of-day-is-moving/2026-11-18/
CATEGORIES:District 12
ATTACH;FMTTYPE=image/jpeg:https://nhaa.net/wp-content/uploads/First-Day-of-Light-scaled.jpeg
END:VEVENT
BEGIN:VEVENT
DTSTART;TZID=America/New_York:20261119T063000
DTEND;TZID=America/New_York:20261119T073000
DTSTAMP:20260423T023912
CREATED:20260315T202828Z
LAST-MODIFIED:20260316T025449Z
UID:10003253-1795069800-1795073400@nhaa.net
SUMMARY:First Light of Day is Moving
DESCRIPTION:First Light of Day (FLOD) is moving!!! March 17\, 2026\nYWCA\, 72 Concord St\, Manchester\nFree parking until 8am on both sides of Concord St & in the garage.  \nHandicap access on Chestnut St side.\n  \n 
URL:https://nhaa.net/event/first-light-of-day-is-moving/2026-11-19/
CATEGORIES:District 12
ATTACH;FMTTYPE=image/jpeg:https://nhaa.net/wp-content/uploads/First-Day-of-Light-scaled.jpeg
END:VEVENT
BEGIN:VEVENT
DTSTART;TZID=America/New_York:20261120T063000
DTEND;TZID=America/New_York:20261120T073000
DTSTAMP:20260423T023912
CREATED:20260315T202828Z
LAST-MODIFIED:20260316T025449Z
UID:10003254-1795156200-1795159800@nhaa.net
SUMMARY:First Light of Day is Moving
DESCRIPTION:First Light of Day (FLOD) is moving!!! March 17\, 2026\nYWCA\, 72 Concord St\, Manchester\nFree parking until 8am on both sides of Concord St & in the garage.  \nHandicap access on Chestnut St side.\n  \n 
URL:https://nhaa.net/event/first-light-of-day-is-moving/2026-11-20/
CATEGORIES:District 12
ATTACH;FMTTYPE=image/jpeg:https://nhaa.net/wp-content/uploads/First-Day-of-Light-scaled.jpeg
END:VEVENT
BEGIN:VEVENT
DTSTART;TZID=America/New_York:20261121T063000
DTEND;TZID=America/New_York:20261121T073000
DTSTAMP:20260423T023912
CREATED:20260315T202828Z
LAST-MODIFIED:20260316T025449Z
UID:10003255-1795242600-1795246200@nhaa.net
SUMMARY:First Light of Day is Moving
DESCRIPTION:First Light of Day (FLOD) is moving!!! March 17\, 2026\nYWCA\, 72 Concord St\, Manchester\nFree parking until 8am on both sides of Concord St & in the garage.  \nHandicap access on Chestnut St side.\n  \n 
URL:https://nhaa.net/event/first-light-of-day-is-moving/2026-11-21/
CATEGORIES:District 12
ATTACH;FMTTYPE=image/jpeg:https://nhaa.net/wp-content/uploads/First-Day-of-Light-scaled.jpeg
END:VEVENT
BEGIN:VEVENT
DTSTART;TZID=America/New_York:20261122T063000
DTEND;TZID=America/New_York:20261122T073000
DTSTAMP:20260423T023912
CREATED:20260315T202828Z
LAST-MODIFIED:20260316T025449Z
UID:10003256-1795329000-1795332600@nhaa.net
SUMMARY:First Light of Day is Moving
DESCRIPTION:First Light of Day (FLOD) is moving!!! March 17\, 2026\nYWCA\, 72 Concord St\, Manchester\nFree parking until 8am on both sides of Concord St & in the garage.  \nHandicap access on Chestnut St side.\n  \n 
URL:https://nhaa.net/event/first-light-of-day-is-moving/2026-11-22/
CATEGORIES:District 12
ATTACH;FMTTYPE=image/jpeg:https://nhaa.net/wp-content/uploads/First-Day-of-Light-scaled.jpeg
END:VEVENT
BEGIN:VEVENT
DTSTART;TZID=America/New_York:20261123T063000
DTEND;TZID=America/New_York:20261123T073000
DTSTAMP:20260423T023912
CREATED:20260315T202828Z
LAST-MODIFIED:20260316T025449Z
UID:10003257-1795415400-1795419000@nhaa.net
SUMMARY:First Light of Day is Moving
DESCRIPTION:First Light of Day (FLOD) is moving!!! March 17\, 2026\nYWCA\, 72 Concord St\, Manchester\nFree parking until 8am on both sides of Concord St & in the garage.  \nHandicap access on Chestnut St side.\n  \n 
URL:https://nhaa.net/event/first-light-of-day-is-moving/2026-11-23/
CATEGORIES:District 12
ATTACH;FMTTYPE=image/jpeg:https://nhaa.net/wp-content/uploads/First-Day-of-Light-scaled.jpeg
END:VEVENT
BEGIN:VEVENT
DTSTART;TZID=America/New_York:20261124T063000
DTEND;TZID=America/New_York:20261124T073000
DTSTAMP:20260423T023912
CREATED:20260315T202828Z
LAST-MODIFIED:20260316T025449Z
UID:10003258-1795501800-1795505400@nhaa.net
SUMMARY:First Light of Day is Moving
DESCRIPTION:First Light of Day (FLOD) is moving!!! March 17\, 2026\nYWCA\, 72 Concord St\, Manchester\nFree parking until 8am on both sides of Concord St & in the garage.  \nHandicap access on Chestnut St side.\n  \n 
URL:https://nhaa.net/event/first-light-of-day-is-moving/2026-11-24/
CATEGORIES:District 12
ATTACH;FMTTYPE=image/jpeg:https://nhaa.net/wp-content/uploads/First-Day-of-Light-scaled.jpeg
END:VEVENT
BEGIN:VEVENT
DTSTART;TZID=America/New_York:20261125T063000
DTEND;TZID=America/New_York:20261125T073000
DTSTAMP:20260423T023912
CREATED:20260315T202828Z
LAST-MODIFIED:20260316T025449Z
UID:10003259-1795588200-1795591800@nhaa.net
SUMMARY:First Light of Day is Moving
DESCRIPTION:First Light of Day (FLOD) is moving!!! March 17\, 2026\nYWCA\, 72 Concord St\, Manchester\nFree parking until 8am on both sides of Concord St & in the garage.  \nHandicap access on Chestnut St side.\n  \n 
URL:https://nhaa.net/event/first-light-of-day-is-moving/2026-11-25/
CATEGORIES:District 12
ATTACH;FMTTYPE=image/jpeg:https://nhaa.net/wp-content/uploads/First-Day-of-Light-scaled.jpeg
END:VEVENT
BEGIN:VEVENT
DTSTART;TZID=America/New_York:20261126T063000
DTEND;TZID=America/New_York:20261126T073000
DTSTAMP:20260423T023912
CREATED:20260315T202828Z
LAST-MODIFIED:20260316T025449Z
UID:10003260-1795674600-1795678200@nhaa.net
SUMMARY:First Light of Day is Moving
DESCRIPTION:First Light of Day (FLOD) is moving!!! March 17\, 2026\nYWCA\, 72 Concord St\, Manchester\nFree parking until 8am on both sides of Concord St & in the garage.  \nHandicap access on Chestnut St side.\n  \n 
URL:https://nhaa.net/event/first-light-of-day-is-moving/2026-11-26/
CATEGORIES:District 12
ATTACH;FMTTYPE=image/jpeg:https://nhaa.net/wp-content/uploads/First-Day-of-Light-scaled.jpeg
END:VEVENT
BEGIN:VEVENT
DTSTART;TZID=America/New_York:20261127T063000
DTEND;TZID=America/New_York:20261127T073000
DTSTAMP:20260423T023912
CREATED:20260315T202828Z
LAST-MODIFIED:20260316T025449Z
UID:10003261-1795761000-1795764600@nhaa.net
SUMMARY:First Light of Day is Moving
DESCRIPTION:First Light of Day (FLOD) is moving!!! March 17\, 2026\nYWCA\, 72 Concord St\, Manchester\nFree parking until 8am on both sides of Concord St & in the garage.  \nHandicap access on Chestnut St side.\n  \n 
URL:https://nhaa.net/event/first-light-of-day-is-moving/2026-11-27/
CATEGORIES:District 12
ATTACH;FMTTYPE=image/jpeg:https://nhaa.net/wp-content/uploads/First-Day-of-Light-scaled.jpeg
END:VEVENT
BEGIN:VEVENT
DTSTART;TZID=America/New_York:20261128T063000
DTEND;TZID=America/New_York:20261128T073000
DTSTAMP:20260423T023912
CREATED:20260315T202828Z
LAST-MODIFIED:20260316T025449Z
UID:10003262-1795847400-1795851000@nhaa.net
SUMMARY:First Light of Day is Moving
DESCRIPTION:First Light of Day (FLOD) is moving!!! March 17\, 2026\nYWCA\, 72 Concord St\, Manchester\nFree parking until 8am on both sides of Concord St & in the garage.  \nHandicap access on Chestnut St side.\n  \n 
URL:https://nhaa.net/event/first-light-of-day-is-moving/2026-11-28/
CATEGORIES:District 12
ATTACH;FMTTYPE=image/jpeg:https://nhaa.net/wp-content/uploads/First-Day-of-Light-scaled.jpeg
END:VEVENT
END:VCALENDAR