BEGIN:VCALENDAR
VERSION:2.0
PRODID:-//Alcoholics Anonymous NH - ECPv6.15.18//NONSGML v1.0//EN
CALSCALE:GREGORIAN
METHOD:PUBLISH
X-ORIGINAL-URL:https://nhaa.net
X-WR-CALDESC:Events for Alcoholics Anonymous NH
REFRESH-INTERVAL;VALUE=DURATION:PT1H
X-Robots-Tag:noindex
X-PUBLISHED-TTL:PT1H
BEGIN:VTIMEZONE
TZID:America/New_York
BEGIN:DAYLIGHT
TZOFFSETFROM:-0500
TZOFFSETTO:-0400
TZNAME:EDT
DTSTART:20240310T070000
END:DAYLIGHT
BEGIN:STANDARD
TZOFFSETFROM:-0400
TZOFFSETTO:-0500
TZNAME:EST
DTSTART:20241103T060000
END:STANDARD
BEGIN:DAYLIGHT
TZOFFSETFROM:-0500
TZOFFSETTO:-0400
TZNAME:EDT
DTSTART:20250309T070000
END:DAYLIGHT
BEGIN:STANDARD
TZOFFSETFROM:-0400
TZOFFSETTO:-0500
TZNAME:EST
DTSTART:20251102T060000
END:STANDARD
BEGIN:DAYLIGHT
TZOFFSETFROM:-0500
TZOFFSETTO:-0400
TZNAME:EDT
DTSTART:20260308T070000
END:DAYLIGHT
BEGIN:STANDARD
TZOFFSETFROM:-0400
TZOFFSETTO:-0500
TZNAME:EST
DTSTART:20261101T060000
END:STANDARD
BEGIN:DAYLIGHT
TZOFFSETFROM:-0500
TZOFFSETTO:-0400
TZNAME:EDT
DTSTART:20270314T070000
END:DAYLIGHT
BEGIN:STANDARD
TZOFFSETFROM:-0400
TZOFFSETTO:-0500
TZNAME:EST
DTSTART:20271107T060000
END:STANDARD
END:VTIMEZONE
BEGIN:VEVENT
DTSTART;VALUE=DATE:20260411
DTEND;VALUE=DATE:20260412
DTSTAMP:20260425T200139
CREATED:20260227T015456Z
LAST-MODIFIED:20260227T015456Z
UID:10002941-1775865600-1775951999@nhaa.net
SUMMARY:Wilson House Bus Trip: April 11\, 2026
DESCRIPTION:Day long bus trip from Salem\, NH to the Wilson House\, including graveside visit and 2PM meeting at Bills House.  Sponsored by District 10.  Coach bus transportation\, water provided\, bring your own lunch.
URL:https://nhaa.net/event/wilson-house-bus-trip-april-11-2026/
LOCATION:Bill Wilsons House\, East Dorcet \, VT
CATEGORIES:Area Events,District 10
ATTACH;FMTTYPE=image/jpeg:https://nhaa.net/wp-content/uploads/Wilson-House-Bus-Trip-2026-Flyer-1.jpg
GEO:43.2399366;-73.0101622
END:VEVENT
BEGIN:VEVENT
DTSTART;TZID=America/New_York:20250621T120000
DTEND;TZID=America/New_York:20250621T180000
DTSTAMP:20260425T200139
CREATED:20250516T133856Z
LAST-MODIFIED:20250516T133856Z
UID:10001764-1750507200-1750528800@nhaa.net
SUMMARY:District 10 Rockin BBQ Sober Fest
DESCRIPTION:Sober BBQ with bands and speakers held at the Field of Dreams in Salem NH. See flyer
URL:https://nhaa.net/event/district-10-rockin-bbq-sober-fest/
LOCATION:Field of Dreams\, 48 Geremonty D\, Salem\, NH\, United States
CATEGORIES:District 10
END:VEVENT
END:VCALENDAR