BEGIN:VCALENDAR
VERSION:2.0
PRODID:-//Alcoholics Anonymous NH - ECPv6.15.18//NONSGML v1.0//EN
CALSCALE:GREGORIAN
METHOD:PUBLISH
X-WR-CALNAME:Alcoholics Anonymous NH
X-ORIGINAL-URL:https://nhaa.net
X-WR-CALDESC:Events for Alcoholics Anonymous NH
REFRESH-INTERVAL;VALUE=DURATION:PT1H
X-Robots-Tag:noindex
X-PUBLISHED-TTL:PT1H
BEGIN:VTIMEZONE
TZID:America/New_York
BEGIN:DAYLIGHT
TZOFFSETFROM:-0500
TZOFFSETTO:-0400
TZNAME:EDT
DTSTART:20240310T070000
END:DAYLIGHT
BEGIN:STANDARD
TZOFFSETFROM:-0400
TZOFFSETTO:-0500
TZNAME:EST
DTSTART:20241103T060000
END:STANDARD
BEGIN:DAYLIGHT
TZOFFSETFROM:-0500
TZOFFSETTO:-0400
TZNAME:EDT
DTSTART:20250309T070000
END:DAYLIGHT
BEGIN:STANDARD
TZOFFSETFROM:-0400
TZOFFSETTO:-0500
TZNAME:EST
DTSTART:20251102T060000
END:STANDARD
BEGIN:DAYLIGHT
TZOFFSETFROM:-0500
TZOFFSETTO:-0400
TZNAME:EDT
DTSTART:20260308T070000
END:DAYLIGHT
BEGIN:STANDARD
TZOFFSETFROM:-0400
TZOFFSETTO:-0500
TZNAME:EST
DTSTART:20261101T060000
END:STANDARD
END:VTIMEZONE
BEGIN:VEVENT
DTSTART;TZID=America/New_York:20251103T190000
DTEND;TZID=America/New_York:20251103T200000
DTSTAMP:20260419T201637
CREATED:20250806T005617Z
LAST-MODIFIED:20250806T181406Z
UID:10001908-1762196400-1762200000@nhaa.net
SUMMARY:Weekly Series: Living the Twelve Traditions
DESCRIPTION:Living the Twelve Traditions: Our Spiritual Principles in Action – a 12-week series hosted by Area 43 \nJoin us as we explore our Twelve Traditions. Each week\, a session leader will provide an overview of the Tradition and how they put it into\naction in their everyday life \nMondays\, 7:00pm EST\n*Begins Monday\, September 15\, 2025 \nZoom ID: 981 0467 3812\nPasscode: service \nQuestions? Email graceflesher@gmail.com
URL:https://nhaa.net/event/weekly-series-living-the-twelve-traditions/2025-11-03/
CATEGORIES:Area Events
ATTACH;FMTTYPE=image/png:https://nhaa.net/wp-content/uploads/PNG-image.png
END:VEVENT
BEGIN:VEVENT
DTSTART;TZID=America/New_York:20251027T190000
DTEND;TZID=America/New_York:20251027T200000
DTSTAMP:20260419T201637
CREATED:20250806T005617Z
LAST-MODIFIED:20250806T181406Z
UID:10001907-1761591600-1761595200@nhaa.net
SUMMARY:Weekly Series: Living the Twelve Traditions
DESCRIPTION:Living the Twelve Traditions: Our Spiritual Principles in Action – a 12-week series hosted by Area 43 \nJoin us as we explore our Twelve Traditions. Each week\, a session leader will provide an overview of the Tradition and how they put it into\naction in their everyday life \nMondays\, 7:00pm EST\n*Begins Monday\, September 15\, 2025 \nZoom ID: 981 0467 3812\nPasscode: service \nQuestions? Email graceflesher@gmail.com
URL:https://nhaa.net/event/weekly-series-living-the-twelve-traditions/2025-10-27/
CATEGORIES:Area Events
ATTACH;FMTTYPE=image/png:https://nhaa.net/wp-content/uploads/PNG-image.png
END:VEVENT
BEGIN:VEVENT
DTSTART;TZID=America/New_York:20251020T190000
DTEND;TZID=America/New_York:20251020T200000
DTSTAMP:20260419T201637
CREATED:20250806T005617Z
LAST-MODIFIED:20250806T181406Z
UID:10001906-1760986800-1760990400@nhaa.net
SUMMARY:Weekly Series: Living the Twelve Traditions
DESCRIPTION:Living the Twelve Traditions: Our Spiritual Principles in Action – a 12-week series hosted by Area 43 \nJoin us as we explore our Twelve Traditions. Each week\, a session leader will provide an overview of the Tradition and how they put it into\naction in their everyday life \nMondays\, 7:00pm EST\n*Begins Monday\, September 15\, 2025 \nZoom ID: 981 0467 3812\nPasscode: service \nQuestions? Email graceflesher@gmail.com
URL:https://nhaa.net/event/weekly-series-living-the-twelve-traditions/2025-10-20/
CATEGORIES:Area Events
ATTACH;FMTTYPE=image/png:https://nhaa.net/wp-content/uploads/PNG-image.png
END:VEVENT
BEGIN:VEVENT
DTSTART;TZID=America/New_York:20251013T190000
DTEND;TZID=America/New_York:20251013T200000
DTSTAMP:20260419T201637
CREATED:20250806T005617Z
LAST-MODIFIED:20250806T181406Z
UID:10001905-1760382000-1760385600@nhaa.net
SUMMARY:Weekly Series: Living the Twelve Traditions
DESCRIPTION:Living the Twelve Traditions: Our Spiritual Principles in Action – a 12-week series hosted by Area 43 \nJoin us as we explore our Twelve Traditions. Each week\, a session leader will provide an overview of the Tradition and how they put it into\naction in their everyday life \nMondays\, 7:00pm EST\n*Begins Monday\, September 15\, 2025 \nZoom ID: 981 0467 3812\nPasscode: service \nQuestions? Email graceflesher@gmail.com
URL:https://nhaa.net/event/weekly-series-living-the-twelve-traditions/2025-10-13/
CATEGORIES:Area Events
ATTACH;FMTTYPE=image/png:https://nhaa.net/wp-content/uploads/PNG-image.png
END:VEVENT
BEGIN:VEVENT
DTSTART;TZID=America/New_York:20251006T190000
DTEND;TZID=America/New_York:20251006T200000
DTSTAMP:20260419T201637
CREATED:20250806T005617Z
LAST-MODIFIED:20250806T181406Z
UID:10001904-1759777200-1759780800@nhaa.net
SUMMARY:Weekly Series: Living the Twelve Traditions
DESCRIPTION:Living the Twelve Traditions: Our Spiritual Principles in Action – a 12-week series hosted by Area 43 \nJoin us as we explore our Twelve Traditions. Each week\, a session leader will provide an overview of the Tradition and how they put it into\naction in their everyday life \nMondays\, 7:00pm EST\n*Begins Monday\, September 15\, 2025 \nZoom ID: 981 0467 3812\nPasscode: service \nQuestions? Email graceflesher@gmail.com
URL:https://nhaa.net/event/weekly-series-living-the-twelve-traditions/2025-10-06/
CATEGORIES:Area Events
ATTACH;FMTTYPE=image/png:https://nhaa.net/wp-content/uploads/PNG-image.png
END:VEVENT
BEGIN:VEVENT
DTSTART;TZID=America/New_York:20250929T190000
DTEND;TZID=America/New_York:20250929T200000
DTSTAMP:20260419T201637
CREATED:20250806T005617Z
LAST-MODIFIED:20250806T181406Z
UID:10001903-1759172400-1759176000@nhaa.net
SUMMARY:Weekly Series: Living the Twelve Traditions
DESCRIPTION:Living the Twelve Traditions: Our Spiritual Principles in Action – a 12-week series hosted by Area 43 \nJoin us as we explore our Twelve Traditions. Each week\, a session leader will provide an overview of the Tradition and how they put it into\naction in their everyday life \nMondays\, 7:00pm EST\n*Begins Monday\, September 15\, 2025 \nZoom ID: 981 0467 3812\nPasscode: service \nQuestions? Email graceflesher@gmail.com
URL:https://nhaa.net/event/weekly-series-living-the-twelve-traditions/2025-09-29/
CATEGORIES:Area Events
ATTACH;FMTTYPE=image/png:https://nhaa.net/wp-content/uploads/PNG-image.png
END:VEVENT
BEGIN:VEVENT
DTSTART;TZID=America/New_York:20250922T190000
DTEND;TZID=America/New_York:20250922T200000
DTSTAMP:20260419T201637
CREATED:20250806T005617Z
LAST-MODIFIED:20250806T181406Z
UID:10001902-1758567600-1758571200@nhaa.net
SUMMARY:Weekly Series: Living the Twelve Traditions
DESCRIPTION:Living the Twelve Traditions: Our Spiritual Principles in Action – a 12-week series hosted by Area 43 \nJoin us as we explore our Twelve Traditions. Each week\, a session leader will provide an overview of the Tradition and how they put it into\naction in their everyday life \nMondays\, 7:00pm EST\n*Begins Monday\, September 15\, 2025 \nZoom ID: 981 0467 3812\nPasscode: service \nQuestions? Email graceflesher@gmail.com
URL:https://nhaa.net/event/weekly-series-living-the-twelve-traditions/2025-09-22/
CATEGORIES:Area Events
ATTACH;FMTTYPE=image/png:https://nhaa.net/wp-content/uploads/PNG-image.png
END:VEVENT
BEGIN:VEVENT
DTSTART;TZID=America/New_York:20250915T190000
DTEND;TZID=America/New_York:20250915T200000
DTSTAMP:20260419T201637
CREATED:20250806T005617Z
LAST-MODIFIED:20250806T181406Z
UID:10001901-1757962800-1757966400@nhaa.net
SUMMARY:Weekly Series: Living the Twelve Traditions
DESCRIPTION:Living the Twelve Traditions: Our Spiritual Principles in Action – a 12-week series hosted by Area 43 \nJoin us as we explore our Twelve Traditions. Each week\, a session leader will provide an overview of the Tradition and how they put it into\naction in their everyday life \nMondays\, 7:00pm EST\n*Begins Monday\, September 15\, 2025 \nZoom ID: 981 0467 3812\nPasscode: service \nQuestions? Email graceflesher@gmail.com
URL:https://nhaa.net/event/weekly-series-living-the-twelve-traditions/2025-09-15/
CATEGORIES:Area Events
ATTACH;FMTTYPE=image/png:https://nhaa.net/wp-content/uploads/PNG-image.png
END:VEVENT
BEGIN:VEVENT
DTSTART;TZID=America/New_York:20250816T100000
DTEND;TZID=America/New_York:20250816T140000
DTSTAMP:20260419T201637
CREATED:20250727T012710Z
LAST-MODIFIED:20250727T012710Z
UID:10001874-1755338400-1755352800@nhaa.net
SUMMARY:Open House at the New Service Office
DESCRIPTION:Come check out the new Area 43 NH Service Office on Saturday August 16th from 10 am to 2pm \nat the new location:   2 1/2 Beacon Street Concord\, NH.   Look for the Balloon!   Refreshments provided. \nCheck out some literature and visit with staff and your delegate Sue W. while you are there.
URL:https://nhaa.net/event/open-house-at-the-new-service-office/
LOCATION:Concord Service Office\, 2 1/2 Beacon Street\, Concord\, 03301
CATEGORIES:Area Events
ATTACH;FMTTYPE=image/jpeg:https://nhaa.net/wp-content/uploads/New-Service-Office.jpg
END:VEVENT
END:VCALENDAR