BEGIN:VCALENDAR
VERSION:2.0
PRODID:-//Alcoholics Anonymous NH - ECPv6.15.18//NONSGML v1.0//EN
CALSCALE:GREGORIAN
METHOD:PUBLISH
X-ORIGINAL-URL:https://nhaa.net
X-WR-CALDESC:Events for Alcoholics Anonymous NH
REFRESH-INTERVAL;VALUE=DURATION:PT1H
X-Robots-Tag:noindex
X-PUBLISHED-TTL:PT1H
BEGIN:VTIMEZONE
TZID:America/New_York
BEGIN:DAYLIGHT
TZOFFSETFROM:-0500
TZOFFSETTO:-0400
TZNAME:EDT
DTSTART:20240310T070000
END:DAYLIGHT
BEGIN:STANDARD
TZOFFSETFROM:-0400
TZOFFSETTO:-0500
TZNAME:EST
DTSTART:20241103T060000
END:STANDARD
BEGIN:DAYLIGHT
TZOFFSETFROM:-0500
TZOFFSETTO:-0400
TZNAME:EDT
DTSTART:20250309T070000
END:DAYLIGHT
BEGIN:STANDARD
TZOFFSETFROM:-0400
TZOFFSETTO:-0500
TZNAME:EST
DTSTART:20251102T060000
END:STANDARD
BEGIN:DAYLIGHT
TZOFFSETFROM:-0500
TZOFFSETTO:-0400
TZNAME:EDT
DTSTART:20260308T070000
END:DAYLIGHT
BEGIN:STANDARD
TZOFFSETFROM:-0400
TZOFFSETTO:-0500
TZNAME:EST
DTSTART:20261101T060000
END:STANDARD
END:VTIMEZONE
BEGIN:VEVENT
DTSTART;TZID=America/New_York:20251124T190000
DTEND;TZID=America/New_York:20251124T200000
DTSTAMP:20260420T143200
CREATED:20250806T005617Z
LAST-MODIFIED:20250806T181406Z
UID:10001911-1764010800-1764014400@nhaa.net
SUMMARY:Weekly Series: Living the Twelve Traditions
DESCRIPTION:Living the Twelve Traditions: Our Spiritual Principles in Action – a 12-week series hosted by Area 43 \nJoin us as we explore our Twelve Traditions. Each week\, a session leader will provide an overview of the Tradition and how they put it into\naction in their everyday life \nMondays\, 7:00pm EST\n*Begins Monday\, September 15\, 2025 \nZoom ID: 981 0467 3812\nPasscode: service \nQuestions? Email graceflesher@gmail.com
URL:https://nhaa.net/event/weekly-series-living-the-twelve-traditions/2025-11-24/
CATEGORIES:Area Events
ATTACH;FMTTYPE=image/png:https://nhaa.net/wp-content/uploads/PNG-image.png
END:VEVENT
END:VCALENDAR