BEGIN:VCALENDAR
VERSION:2.0
PRODID:-//Alcoholics Anonymous NH - ECPv6.15.18//NONSGML v1.0//EN
CALSCALE:GREGORIAN
METHOD:PUBLISH
X-WR-CALNAME:Alcoholics Anonymous NH
X-ORIGINAL-URL:https://nhaa.net
X-WR-CALDESC:Events for Alcoholics Anonymous NH
REFRESH-INTERVAL;VALUE=DURATION:PT1H
X-Robots-Tag:noindex
X-PUBLISHED-TTL:PT1H
BEGIN:VTIMEZONE
TZID:America/New_York
BEGIN:DAYLIGHT
TZOFFSETFROM:-0500
TZOFFSETTO:-0400
TZNAME:EDT
DTSTART:20240310T070000
END:DAYLIGHT
BEGIN:STANDARD
TZOFFSETFROM:-0400
TZOFFSETTO:-0500
TZNAME:EST
DTSTART:20241103T060000
END:STANDARD
BEGIN:DAYLIGHT
TZOFFSETFROM:-0500
TZOFFSETTO:-0400
TZNAME:EDT
DTSTART:20250309T070000
END:DAYLIGHT
BEGIN:STANDARD
TZOFFSETFROM:-0400
TZOFFSETTO:-0500
TZNAME:EST
DTSTART:20251102T060000
END:STANDARD
BEGIN:DAYLIGHT
TZOFFSETFROM:-0500
TZOFFSETTO:-0400
TZNAME:EDT
DTSTART:20260308T070000
END:DAYLIGHT
BEGIN:STANDARD
TZOFFSETFROM:-0400
TZOFFSETTO:-0500
TZNAME:EST
DTSTART:20261101T060000
END:STANDARD
BEGIN:DAYLIGHT
TZOFFSETFROM:-0500
TZOFFSETTO:-0400
TZNAME:EDT
DTSTART:20270314T070000
END:DAYLIGHT
BEGIN:STANDARD
TZOFFSETFROM:-0400
TZOFFSETTO:-0500
TZNAME:EST
DTSTART:20271107T060000
END:STANDARD
END:VTIMEZONE
BEGIN:VEVENT
DTSTART;TZID=America/New_York:20260328T083000
DTEND;TZID=America/New_York:20260328T093000
DTSTAMP:20260419T110004
CREATED:20260301T150849Z
LAST-MODIFIED:20260301T154040Z
UID:10002943-1774686600-1774690200@nhaa.net
SUMMARY:GSR School – March 28\, 2026
DESCRIPTION:Topic: The A.A. Service Manual \nA GSR is the bridge between the homegroup and A.A. as a whole. The Service Manual is the blueprint for that bridge. When GSRs are familiar with it\, they carry their group’s voice with more clarity\, more enthusiasm\, and more impact. \n\nPlease bring your Service Manual (Red or Green Version!)
URL:https://nhaa.net/event/gsr-school-march-28-2026/
LOCATION:St Thomas Episcopal Church\, 5 Hale St\, Dover\, NH\, NH\, 	03820
CATEGORIES:Area Assemblies,Area Events
ORGANIZER;CN="Judy R. - Alt Chair":MAILTO:altchairperson@nhaa.net
GEO:43.193175;-70.8749212
X-APPLE-STRUCTURED-LOCATION;VALUE=URI;X-ADDRESS=St Thomas Episcopal Church 5 Hale St Dover NH NH 	03820;X-APPLE-RADIUS=500;X-TITLE=5 Hale St:geo:-70.8749212,43.193175
END:VEVENT
BEGIN:VEVENT
DTSTART;TZID=America/New_York:20260328T080000
DTEND;TZID=America/New_York:20260328T160000
DTSTAMP:20260419T110004
CREATED:20250517T151524Z
LAST-MODIFIED:20260315T211226Z
UID:10001774-1774684800-1774713600@nhaa.net
SUMMARY:2026 Area 43 Pre-Conference Assembly
DESCRIPTION:Our Delegate needs your help! All members of Area 43 are encouraged to attend to help inform the future of AA.\nAll AA members are invited to attend the Area 43 Pre-Conference Assembly\, a key gathering where members come together to review and discuss agenda items for the upcoming 2026 General Service Conference. \nThis Assembly provides an opportunity for GSRs\, DCMs\, and members of the Fellowship to participate in shared discussion\, contribute to informed Group Conscience\, and help guide our Area Delegate as they represent Area 43 at the Conference. \n\nLocation:\nThis assembly is graciously being hosted by District 15 at \nSt. Thomas Episcopal Church5 Hale StreetDover\, NH 03820 \nThe church is located at the corner of Hale Street and Locust Street\, directly across from the Dover Public Library and City Hall. \n\nHybrid Option:\nZoom ID: 228 681 5454\nPassword: Area43 \nJoin Zoom Meeting\nhttps://us02web.zoom.us/j/2286815454?pwd=RktJbVI5R3NRa3BzRzIyTEkvSTVWQT09 \n\nParking Information\nOn-site parking:Small parking lot behind the church reserved for: \n\nHandicap-accessible parking\nAttendees with equipment\nVolunteers assisting with food and setup\n\nAdditional parking options: \n\nHale Street\nLocust Street\nDover Public Library parking lot\nMcConnell Center Parking Garage (behind the Library)
URL:https://nhaa.net/event/area-43-pre-conference-assembly-2026/
LOCATION:NH
CATEGORIES:Area Assemblies,Area Events
ATTACH;FMTTYPE=image/png:https://nhaa.net/wp-content/uploads/preconference.png
END:VEVENT
BEGIN:VEVENT
DTSTART;TZID=America/New_York:20251228T130000
DTEND;TZID=America/New_York:20251228T160000
DTSTAMP:20260419T110004
CREATED:20240107T172952Z
LAST-MODIFIED:20250419T181406Z
UID:10001127-1766926800-1766937600@nhaa.net
SUMMARY:Area 43 Monthly Business Meeting
DESCRIPTION:Monthly meeting of the Area 43 officers\, committee chairs and DCMs. \n1 to 4pm Zoom ID: 228 681 5454 Password: Area43 \nJoin Zoom Meeting\nhttps://us02web.zoom.us/j/2286815454?pwd=RktJbVI5R3NRa3BzRzIyTEkvSTVWQT09
URL:https://nhaa.net/event/area-43-monthly-business-meeting-17/
LOCATION:https://us02web.zoom.us/j/2045328828?pwd=ME5WbXl0NWdiOE5YckMwa3F4VlpKZz09
CATEGORIES:Area Assemblies
END:VEVENT
BEGIN:VEVENT
DTSTART;TZID=America/New_York:20251123T130000
DTEND;TZID=America/New_York:20251123T160000
DTSTAMP:20260419T110004
CREATED:20240107T172951Z
LAST-MODIFIED:20250419T181752Z
UID:10001126-1763902800-1763913600@nhaa.net
SUMMARY:Area 43 Monthly Business Meeting
DESCRIPTION:Monthly meeting of the Area 43 officers\, committee chairs and DCMs. \n1 to 4pm Zoom ID: 228 681 5454 Password: Area43 \nJoin Zoom Meeting\nhttps://us02web.zoom.us/j/2286815454?pwd=RktJbVI5R3NRa3BzRzIyTEkvSTVWQT09
URL:https://nhaa.net/event/area-43-monthly-business-meeting-16/
LOCATION:https://us02web.zoom.us/j/2045328828?pwd=ME5WbXl0NWdiOE5YckMwa3F4VlpKZz09
CATEGORIES:Area Assemblies
END:VEVENT
BEGIN:VEVENT
DTSTART;TZID=America/New_York:20251025T083000
DTEND;TZID=America/New_York:20251025T160000
DTSTAMP:20260419T110004
CREATED:20240107T172952Z
LAST-MODIFIED:20251003T142033Z
UID:10001132-1761381000-1761408000@nhaa.net
SUMMARY:Area 43 October Election Assembly
DESCRIPTION:Looking for a new service position? Attend the Area 43 Election Assembly to get involved! \nZoom ID: 228 681 5454 Password: Area43 \nJoin Zoom Meeting\nhttps://us02web.zoom.us/j/2286815454?pwd=RktJbVI5R3NRa3BzRzIyTEkvSTVWQT09 \nIs your district interested in hosting this Assembly? Contact Mallory at altchairperson@nhaa.net.
URL:https://nhaa.net/event/area-43-october-election-assembly-2/
LOCATION:TBD
CATEGORIES:Area Assemblies
ATTACH;FMTTYPE=image/png:https://nhaa.net/wp-content/uploads/Updated_Elections.png
END:VEVENT
BEGIN:VEVENT
DTSTART;TZID=America/New_York:20250928T130000
DTEND;TZID=America/New_York:20250928T160000
DTSTAMP:20260419T110004
CREATED:20240107T172951Z
LAST-MODIFIED:20250419T181810Z
UID:10001125-1759064400-1759075200@nhaa.net
SUMMARY:Area 43 Monthly Business Meeting
DESCRIPTION:Monthly meeting of the Area 43 officers\, committee chairs and DCMs. \n1 to 4pm Zoom ID: 228 681 5454 Password: Area43 \nJoin Zoom Meeting\nhttps://us02web.zoom.us/j/2286815454?pwd=RktJbVI5R3NRa3BzRzIyTEkvSTVWQT09
URL:https://nhaa.net/event/area-43-monthly-business-meeting-15/
LOCATION:https://us02web.zoom.us/j/2045328828?pwd=ME5WbXl0NWdiOE5YckMwa3F4VlpKZz09
CATEGORIES:Area Assemblies
END:VEVENT
BEGIN:VEVENT
DTSTART;TZID=America/New_York:20250823T083000
DTEND;TZID=America/New_York:20250823T160000
DTSTAMP:20260419T110004
CREATED:20250619T152229Z
LAST-MODIFIED:20250810T174439Z
UID:10001850-1755937800-1755964800@nhaa.net
SUMMARY:Area 43 August Assembly
DESCRIPTION:Save the Date for the Area 43 August Assembly being held at the Littleton Area Senior Center in Littleton\, NH. \nThis assembly will be hybrid\, so join as you are able! \nHYBRID OPTION:\nZoom ID: 228 681 5454\nPassword: Area43 \nJoin Zoom Meeting\nhttps://us02web.zoom.us/j/2286815454?pwd=RktJbVI5R3NRa3BzRzIyTEkvSTVWQT09
URL:https://nhaa.net/event/area-43-august-assembly-3/
LOCATION:Littleton Area Senior Center\, 77 Riverglen Lane\, Littleton\, NH\, 03561\, United States
CATEGORIES:Area Assemblies
ATTACH;FMTTYPE=image/png:https://nhaa.net/wp-content/uploads/For_Print.png
GEO:44.3060475;-71.7798423
X-APPLE-STRUCTURED-LOCATION;VALUE=URI;X-ADDRESS=Littleton Area Senior Center 77 Riverglen Lane Littleton NH 03561 United States;X-APPLE-RADIUS=500;X-TITLE=77 Riverglen Lane:geo:-71.7798423,44.3060475
END:VEVENT
BEGIN:VEVENT
DTSTART;TZID=America/New_York:20250727T130000
DTEND;TZID=America/New_York:20250727T160000
DTSTAMP:20260419T110004
CREATED:20240107T172951Z
LAST-MODIFIED:20250419T181815Z
UID:10001124-1753621200-1753632000@nhaa.net
SUMMARY:Area 43 Monthly Business Meeting
DESCRIPTION:Monthly meeting of the Area 43 officers\, committee chairs and DCMs. \n1 to 4pm Zoom ID: 228 681 5454 Password: Area43 \nJoin Zoom Meeting\nhttps://us02web.zoom.us/j/2286815454?pwd=RktJbVI5R3NRa3BzRzIyTEkvSTVWQT09
URL:https://nhaa.net/event/area-43-monthly-business-meeting-14/
LOCATION:https://us02web.zoom.us/j/2045328828?pwd=ME5WbXl0NWdiOE5YckMwa3F4VlpKZz09
CATEGORIES:Area Assemblies
END:VEVENT
BEGIN:VEVENT
DTSTART;TZID=America/New_York:20250622T130000
DTEND;TZID=America/New_York:20250622T160000
DTSTAMP:20260419T110004
CREATED:20240107T172951Z
LAST-MODIFIED:20250419T181821Z
UID:10001123-1750597200-1750608000@nhaa.net
SUMMARY:Area 43 Monthly Business Meeting
DESCRIPTION:Monthly meeting of the Area 43 officers\, committee chairs and DCMs. \n1 to 4pm Zoom ID: 228 681 5454 Password: Area43 \nJoin Zoom Meeting\nhttps://us02web.zoom.us/j/2286815454?pwd=RktJbVI5R3NRa3BzRzIyTEkvSTVWQT09
URL:https://nhaa.net/event/area-43-monthly-business-meeting-13/
LOCATION:https://us02web.zoom.us/j/2045328828?pwd=ME5WbXl0NWdiOE5YckMwa3F4VlpKZz09
CATEGORIES:Area Assemblies
END:VEVENT
BEGIN:VEVENT
DTSTART;TZID=America/New_York:20250517T080000
DTEND;TZID=America/New_York:20250517T160000
DTSTAMP:20260419T110004
CREATED:20240107T172952Z
LAST-MODIFIED:20250427T173309Z
UID:10001129-1747468800-1747497600@nhaa.net
SUMMARY:Hybrid: Area 43 Post Conference Assembly
DESCRIPTION:Hybrid assembly including Delegate sharing of the 75th General Service Conference\, followed by Area 43 Business meeting. Hosted by District 12! \nHear a report from your Delegate\, Sue W\, regarding the 2025 General Service Conference. These decisions shape our future\, so join us to hear this information firsthand! Our Northeast Regional Trustee\, Ken T will also be in attendance! \nAll members of Area 43 are encouraged to attend. Join us to learn about the future of AA! \nLOCATION:\nSt. Catherine’s Church\n207 Hemlock Street\nManchester\, NH \nHYBRID OPTION:\nZoom ID: 228 681 5454\nPassword: Area43 \nJoin Zoom Meeting\nhttps://us02web.zoom.us/j/2286815454?pwd=RktJbVI5R3NRa3BzRzIyTEkvSTVWQT09 \nDownload a Printable Flyer for your Group or District
URL:https://nhaa.net/event/2025-area-43-post-conference-assembly/
LOCATION:207 Hemlock Street\, Manchester\, NH
CATEGORIES:Area Assemblies
ATTACH;FMTTYPE=image/jpeg:https://nhaa.net/wp-content/uploads/PreConference_Assembly-e1745765249851.jpeg
END:VEVENT
BEGIN:VEVENT
DTSTART;TZID=America/New_York:20250427T130000
DTEND;TZID=America/New_York:20250427T160000
DTSTAMP:20260419T110004
CREATED:20240107T172951Z
LAST-MODIFIED:20250419T181715Z
UID:10001122-1745758800-1745769600@nhaa.net
SUMMARY:Area 43 Monthly Business Meeting
DESCRIPTION:Monthly meeting of the Area 43 officers\, committee chairs and DCMs. \n1 to 4pm Zoom ID: 228 681 5454 Password: Area43 \nJoin Zoom Meeting\nhttps://us02web.zoom.us/j/2286815454?pwd=RktJbVI5R3NRa3BzRzIyTEkvSTVWQT09
URL:https://nhaa.net/event/area-43-monthly-business-meeting-12/
LOCATION:https://us02web.zoom.us/j/2045328828?pwd=ME5WbXl0NWdiOE5YckMwa3F4VlpKZz09
CATEGORIES:Area Assemblies
END:VEVENT
END:VCALENDAR