BEGIN:VCALENDAR
VERSION:2.0
PRODID:-//Alcoholics Anonymous NH - ECPv6.15.18//NONSGML v1.0//EN
CALSCALE:GREGORIAN
METHOD:PUBLISH
X-WR-CALNAME:Alcoholics Anonymous NH
X-ORIGINAL-URL:https://nhaa.net
X-WR-CALDESC:Events for Alcoholics Anonymous NH
REFRESH-INTERVAL;VALUE=DURATION:PT1H
X-Robots-Tag:noindex
X-PUBLISHED-TTL:PT1H
BEGIN:VTIMEZONE
TZID:America/New_York
BEGIN:DAYLIGHT
TZOFFSETFROM:-0500
TZOFFSETTO:-0400
TZNAME:EDT
DTSTART:20250309T070000
END:DAYLIGHT
BEGIN:STANDARD
TZOFFSETFROM:-0400
TZOFFSETTO:-0500
TZNAME:EST
DTSTART:20251102T060000
END:STANDARD
BEGIN:DAYLIGHT
TZOFFSETFROM:-0500
TZOFFSETTO:-0400
TZNAME:EDT
DTSTART:20260308T070000
END:DAYLIGHT
BEGIN:STANDARD
TZOFFSETFROM:-0400
TZOFFSETTO:-0500
TZNAME:EST
DTSTART:20261101T060000
END:STANDARD
BEGIN:DAYLIGHT
TZOFFSETFROM:-0500
TZOFFSETTO:-0400
TZNAME:EDT
DTSTART:20270314T070000
END:DAYLIGHT
BEGIN:STANDARD
TZOFFSETFROM:-0400
TZOFFSETTO:-0500
TZNAME:EST
DTSTART:20271107T060000
END:STANDARD
END:VTIMEZONE
BEGIN:VEVENT
DTSTART;TZID=America/New_York:20260810T190000
DTEND;TZID=America/New_York:20260810T200000
DTSTAMP:20260425T235949
CREATED:20251123T184221Z
LAST-MODIFIED:20251123T184531Z
UID:10002021-1786388400-1786392000@nhaa.net
SUMMARY:Monthly Area Corrections Committee Meeting
DESCRIPTION:Second Monday of every month at 7 pm \n\nMeeting Link:\nhttps://us02web.zoom.us/j/83966234270?pwd=Zr5R4TyeZw9mSitLvGaB5qjtrPmDSi.1\n\nZoom ID: 839 6623 4270\nPassword: 394627
URL:https://nhaa.net/event/monthly-area-corrections-committee-meeting/2026-08-10/
LOCATION:NH
END:VEVENT
BEGIN:VEVENT
DTSTART;TZID=America/New_York:20260810T190000
DTEND;TZID=America/New_York:20260810T200000
DTSTAMP:20260425T235949
CREATED:20260216T152754Z
LAST-MODIFIED:20260216T152754Z
UID:10002875-1786388400-1786392000@nhaa.net
SUMMARY:District 14 Business Meeting (District Meeting)
DESCRIPTION:Monthly meeting for District 14. The meeting is open to all AA members. However\, only GSRs (or Alt-GSR attending in place of the GSR) and district committee chairs can vote on district business. This is a hybrid meeting.
URL:https://nhaa.net/event/district-14-business-meeting-district-meeting/2026-08-10/
LOCATION:First Congregational Church of Hampton\, 127 Winnacunnet Rd \, Hampton\, NH\, 127 Winnacunnet Rd\, Hampton\, 03842
CATEGORIES:District 14
END:VEVENT
END:VCALENDAR