BEGIN:VCALENDAR
VERSION:2.0
PRODID:-//Alcoholics Anonymous NH - ECPv6.15.18//NONSGML v1.0//EN
CALSCALE:GREGORIAN
METHOD:PUBLISH
X-ORIGINAL-URL:https://nhaa.net
X-WR-CALDESC:Events for Alcoholics Anonymous NH
REFRESH-INTERVAL;VALUE=DURATION:PT1H
X-Robots-Tag:noindex
X-PUBLISHED-TTL:PT1H
BEGIN:VTIMEZONE
TZID:America/New_York
BEGIN:DAYLIGHT
TZOFFSETFROM:-0500
TZOFFSETTO:-0400
TZNAME:EDT
DTSTART:20250309T070000
END:DAYLIGHT
BEGIN:STANDARD
TZOFFSETFROM:-0400
TZOFFSETTO:-0500
TZNAME:EST
DTSTART:20251102T060000
END:STANDARD
BEGIN:DAYLIGHT
TZOFFSETFROM:-0500
TZOFFSETTO:-0400
TZNAME:EDT
DTSTART:20260308T070000
END:DAYLIGHT
BEGIN:STANDARD
TZOFFSETFROM:-0400
TZOFFSETTO:-0500
TZNAME:EST
DTSTART:20261101T060000
END:STANDARD
BEGIN:DAYLIGHT
TZOFFSETFROM:-0500
TZOFFSETTO:-0400
TZNAME:EDT
DTSTART:20270314T070000
END:DAYLIGHT
BEGIN:STANDARD
TZOFFSETFROM:-0400
TZOFFSETTO:-0500
TZNAME:EST
DTSTART:20271107T060000
END:STANDARD
END:VTIMEZONE
BEGIN:VEVENT
DTSTART;TZID=America/New_York:20260520T190000
DTEND;TZID=America/New_York:20260520T200000
DTSTAMP:20260425T131450
CREATED:20251214T183515Z
LAST-MODIFIED:20251214T183515Z
UID:10002381-1779303600-1779307200@nhaa.net
SUMMARY:District 13 Monthly GSR Meeting
DESCRIPTION:Monthly GSR Meeting
URL:https://nhaa.net/event/district-13-monthly-gsr-meeting/2026-05-20/
LOCATION:Nashua Public Library\, 2 Court Street\, Nashua\, 03060
CATEGORIES:District 13
END:VEVENT
BEGIN:VEVENT
DTSTART;TZID=America/New_York:20260520T190000
DTEND;TZID=America/New_York:20260520T200000
DTSTAMP:20260425T131450
CREATED:20260309T010620Z
LAST-MODIFIED:20260309T010620Z
UID:10003010-1779303600-1779307200@nhaa.net
SUMMARY:Monthly Area 43 Accessibilities Committee Meeting
DESCRIPTION:Meets on the 3rd Wednesday of every month at 7:00 pm. \nJoin Zoom Meeting \nMeeting ID: 863 6030 9292\nPasscode: 061131 \nContact accessibility@nhaa.net for more information.
URL:https://nhaa.net/event/monthly-area-43-accessibilities-committee-meeting/2026-05-20/
LOCATION:NH
END:VEVENT
END:VCALENDAR