BEGIN:VCALENDAR
VERSION:2.0
PRODID:-//Alcoholics Anonymous NH - ECPv6.15.18//NONSGML v1.0//EN
CALSCALE:GREGORIAN
METHOD:PUBLISH
X-ORIGINAL-URL:https://nhaa.net
X-WR-CALDESC:Events for Alcoholics Anonymous NH
REFRESH-INTERVAL;VALUE=DURATION:PT1H
X-Robots-Tag:noindex
X-PUBLISHED-TTL:PT1H
BEGIN:VTIMEZONE
TZID:America/New_York
BEGIN:DAYLIGHT
TZOFFSETFROM:-0500
TZOFFSETTO:-0400
TZNAME:EDT
DTSTART:20240310T070000
END:DAYLIGHT
BEGIN:STANDARD
TZOFFSETFROM:-0400
TZOFFSETTO:-0500
TZNAME:EST
DTSTART:20241103T060000
END:STANDARD
BEGIN:DAYLIGHT
TZOFFSETFROM:-0500
TZOFFSETTO:-0400
TZNAME:EDT
DTSTART:20250309T070000
END:DAYLIGHT
BEGIN:STANDARD
TZOFFSETFROM:-0400
TZOFFSETTO:-0500
TZNAME:EST
DTSTART:20251102T060000
END:STANDARD
BEGIN:DAYLIGHT
TZOFFSETFROM:-0500
TZOFFSETTO:-0400
TZNAME:EDT
DTSTART:20260308T070000
END:DAYLIGHT
BEGIN:STANDARD
TZOFFSETFROM:-0400
TZOFFSETTO:-0500
TZNAME:EST
DTSTART:20261101T060000
END:STANDARD
END:VTIMEZONE
BEGIN:VEVENT
DTSTART;TZID=America/New_York:20251126T180000
DTEND;TZID=America/New_York:20251127T180000
DTSTAMP:20260425T102358
CREATED:20251122T233505Z
LAST-MODIFIED:20251122T233551Z
UID:10002012-1764180000-1764266400@nhaa.net
SUMMARY:District 14 (Seacoast) Thanksgiving Alcathon
DESCRIPTION:Lion’s Club\n117 State Rd\nKittery\, ME
URL:https://nhaa.net/event/district-14-thanksgiving-alcathon-2025/
LOCATION:NH
ATTACH;FMTTYPE=image/jpeg:https://nhaa.net/wp-content/uploads/D14-Thanksgiving-Alcathon-2025.jpg
END:VEVENT
BEGIN:VEVENT
DTSTART;TZID=America/New_York:20251126T210000
DTEND;TZID=America/New_York:20251127T194500
DTSTAMP:20260425T102358
CREATED:20251122T232757Z
LAST-MODIFIED:20251122T233648Z
UID:10002011-1764190800-1764272700@nhaa.net
SUMMARY:District 15 (Dover) Thanksgiving Alcathon
DESCRIPTION:Triangle Club\,\n120 Broadway\nDover\, NH
URL:https://nhaa.net/event/district-15-thanksgiving-alcathon-2025/
LOCATION:NH
ATTACH;FMTTYPE=image/jpeg:https://nhaa.net/wp-content/uploads/D15-Thanksgiving-Alcathon-2015.jpg
END:VEVENT
BEGIN:VEVENT
DTSTART;TZID=America/New_York:20251127T060000
DTEND;TZID=America/New_York:20251127T090000
DTSTAMP:20260425T102358
CREATED:20251113T005059Z
LAST-MODIFIED:20251113T005059Z
UID:10001996-1764223200-1764234000@nhaa.net
SUMMARY:Thanksgiving Day Gratitude Meeting
DESCRIPTION:First Light of Day will be celebrating their 38th anniversary as well as a gratitude meeting\, facilitated by Grateful Don.
URL:https://nhaa.net/event/thanksgiving-day-gratitude-meeting/
LOCATION:LIGHTHOUSE CALVARY CHAPEL 865 SECOND ST. MANCHESTER\, 865 Second St\, Manchester\, 03102
CATEGORIES:District 12
ATTACH;FMTTYPE=image/jpeg:https://nhaa.net/wp-content/uploads/1000013572-scaled.jpg
END:VEVENT
BEGIN:VEVENT
DTSTART;TZID=America/New_York:20251127T070000
DTEND;TZID=America/New_York:20251127T200000
DTSTAMP:20260425T102358
CREATED:20251113T005059Z
LAST-MODIFIED:20251122T233715Z
UID:10001999-1764226800-1764273600@nhaa.net
SUMMARY:District 8 (Concord) Thanksgiving Day Alcathon 2025
DESCRIPTION:Thanksgiving Day\, District 8 Alcathon 2025 \nMeetings on the hour\, 7:00 a.m. to 7:00 p.m.; Potluck; Bring a dish to share.
URL:https://nhaa.net/event/district-8-thanksgiving-day-alcathon-2025/
LOCATION:Concordia Lutheran Church\, 211 N. Main Street\, Concord\, NH\, 211 N. Main Street\, Concord\, 03301
CATEGORIES:District 08
ATTACH;FMTTYPE=image/jpeg:https://nhaa.net/wp-content/uploads/District-8-Thanksgiving-Alcathon-11-27-25-1-scaled.jpg
END:VEVENT
BEGIN:VEVENT
DTSTART;TZID=America/New_York:20251127T073000
DTEND;TZID=America/New_York:20251127T203000
DTSTAMP:20260425T102358
CREATED:20251118T011444Z
LAST-MODIFIED:20251122T233807Z
UID:10002002-1764228600-1764275400@nhaa.net
SUMMARY:District 20 (North Conway) Thanksgiving Alkathon
DESCRIPTION:Thanksgiving Alkathon all day Thanksgiving Day
URL:https://nhaa.net/event/thanksgiving-alkathon-2025/
LOCATION:North Conway Community Center\, Norcross Circle\, North Conway\, NH\, 03860\, United States
CATEGORIES:District 20
ATTACH;FMTTYPE=image/jpeg:https://nhaa.net/wp-content/uploads/IMG_8644.jpeg
END:VEVENT
END:VCALENDAR